| Back to Multiple platform build/check report for BioC 3.9 |
|
This page was generated on 2019-10-16 12:42:31 -0400 (Wed, 16 Oct 2019).
| Package 277/1741 | Hostname | OS / Arch | INSTALL | BUILD | CHECK | BUILD BIN | ||||||
| cicero 1.2.0 Hannah Pliner
| malbec2 | Linux (Ubuntu 18.04.2 LTS) / x86_64 | OK | OK | OK | |||||||
| tokay2 | Windows Server 2012 R2 Standard / x64 | OK | OK | OK | [ OK ] | |||||||
| celaya2 | OS X 10.11.6 El Capitan / x86_64 | OK | OK | OK | OK |
| Package: cicero |
| Version: 1.2.0 |
| Command: rm -rf cicero.buildbin-libdir && mkdir cicero.buildbin-libdir && C:\Users\biocbuild\bbs-3.9-bioc\R\bin\R.exe CMD INSTALL --merge-multiarch --build --library=cicero.buildbin-libdir cicero_1.2.0.tar.gz |
| StartedAt: 2019-10-16 08:54:39 -0400 (Wed, 16 Oct 2019) |
| EndedAt: 2019-10-16 08:56:20 -0400 (Wed, 16 Oct 2019) |
| EllapsedTime: 101.2 seconds |
| RetCode: 0 |
| Status: OK |
| PackageFile: cicero_1.2.0.zip |
| PackageFileSize: 1.135 MiB |
##############################################################################
##############################################################################
###
### Running command:
###
### rm -rf cicero.buildbin-libdir && mkdir cicero.buildbin-libdir && C:\Users\biocbuild\bbs-3.9-bioc\R\bin\R.exe CMD INSTALL --merge-multiarch --build --library=cicero.buildbin-libdir cicero_1.2.0.tar.gz
###
##############################################################################
##############################################################################
install for i386
* installing *source* package 'cicero' ...
** using staged installation
** R
** data
** inst
** byte-compile and prepare package for lazy loading
** help
*** installing help indices
converting help for package 'cicero'
finding HTML links ... done
aggregate_by_cell_bin html
aggregate_nearby_peaks html
annotate_cds_by_site html
assemble_connections html
build_gene_activity_matrix html
cell_data html
cicero-package html
cicero_data html
compare_connections html
df_for_coords html
estimate_distance_parameter html
find_overlapping_ccans html
find_overlapping_coordinates html
gene_annotation_sample html
generate_ccans html
generate_cicero_models html
human.hg19.genome html
make_atac_cds html
make_cicero_cds html
make_sparse_matrix html
normalize_gene_activities html
plot_accessibility_in_pseudotime html
plot_connections html
ranges_for_coords html
run_cicero html
** building package indices
** installing vignettes
** testing if installed package can be loaded from temporary location
** testing if installed package can be loaded from final location
** testing if installed package keeps a record of temporary installation path
install for x64
* installing *source* package 'cicero' ...
** testing if installed package can be loaded
* MD5 sums
packaged installation of 'cicero' as cicero_1.2.0.zip
* DONE (cicero)