| Back to Multiple platform build/check report for BioC 3.9 |
|
This page was generated on 2019-10-16 12:27:06 -0400 (Wed, 16 Oct 2019).
| Package 269/1741 | Hostname | OS / Arch | INSTALL | BUILD | CHECK | BUILD BIN | ||||||
| chroGPS 2.2.0 Oscar Reina
| malbec2 | Linux (Ubuntu 18.04.2 LTS) / x86_64 | OK | OK | OK | |||||||
| tokay2 | Windows Server 2012 R2 Standard / x64 | [ OK ] | OK | OK | OK | |||||||
| celaya2 | OS X 10.11.6 El Capitan / x86_64 | OK | OK | OK | OK |
| Package: chroGPS |
| Version: 2.2.0 |
| Command: C:\cygwin\bin\curl.exe -O https://malbec2.bioconductor.org/BBS/3.9/bioc/src/contrib/chroGPS_2.2.0.tar.gz && rm -rf chroGPS.buildbin-libdir && mkdir chroGPS.buildbin-libdir && C:\Users\biocbuild\bbs-3.9-bioc\R\bin\R.exe CMD INSTALL --merge-multiarch --build --library=chroGPS.buildbin-libdir chroGPS_2.2.0.tar.gz && C:\Users\biocbuild\bbs-3.9-bioc\R\bin\R.exe CMD INSTALL chroGPS_2.2.0.zip && rm chroGPS_2.2.0.tar.gz chroGPS_2.2.0.zip |
| StartedAt: 2019-10-15 19:58:25 -0400 (Tue, 15 Oct 2019) |
| EndedAt: 2019-10-15 19:59:49 -0400 (Tue, 15 Oct 2019) |
| EllapsedTime: 84.7 seconds |
| RetCode: 0 |
| Status: OK |
##############################################################################
##############################################################################
###
### Running command:
###
### C:\cygwin\bin\curl.exe -O https://malbec2.bioconductor.org/BBS/3.9/bioc/src/contrib/chroGPS_2.2.0.tar.gz && rm -rf chroGPS.buildbin-libdir && mkdir chroGPS.buildbin-libdir && C:\Users\biocbuild\bbs-3.9-bioc\R\bin\R.exe CMD INSTALL --merge-multiarch --build --library=chroGPS.buildbin-libdir chroGPS_2.2.0.tar.gz && C:\Users\biocbuild\bbs-3.9-bioc\R\bin\R.exe CMD INSTALL chroGPS_2.2.0.zip && rm chroGPS_2.2.0.tar.gz chroGPS_2.2.0.zip
###
##############################################################################
##############################################################################
% Total % Received % Xferd Average Speed Time Time Time Current
Dload Upload Total Spent Left Speed
0 0 0 0 0 0 0 0 --:--:-- --:--:-- --:--:-- 0
0 0 0 0 0 0 0 0 --:--:-- --:--:-- --:--:-- 0
100 3978k 100 3978k 0 0 41.1M 0 --:--:-- --:--:-- --:--:-- 43.6M
install for i386
* installing *source* package 'chroGPS' ...
** using staged installation
** R
** data
** inst
** byte-compile and prepare package for lazy loading
** help
*** installing help indices
converting help for package 'chroGPS'
finding HTML links ... done
addVar html
adjustPeaks html
bg3 html
boostMDS html
clusGPS-class html
clusGPS html
combineGenesMatrix html
diffFactors html
diffGenes html
distGPS-class html
distGPS html
domainDist html
geneSetGPS html
getURL html
gff2RDList html
gps2xgmml html
mds-class html
mds html
mergeClusters html
mergeReplicates html
procrustesAdj html
profileClusters html
rankFactorsbyDomain html
rankFactorsbyProfile html
s2 html
splitDistGPS-class html
** building package indices
** installing vignettes
'chroGPS.Rnw'
** testing if installed package can be loaded from temporary location
** testing if installed package can be loaded from final location
** testing if installed package keeps a record of temporary installation path
install for x64
* installing *source* package 'chroGPS' ...
** testing if installed package can be loaded
* MD5 sums
packaged installation of 'chroGPS' as chroGPS_2.2.0.zip
* DONE (chroGPS)
* installing to library 'C:/Users/biocbuild/bbs-3.9-bioc/R/library'
package 'chroGPS' successfully unpacked and MD5 sums checked