| Back to Multiple platform build/check report for BioC 3.9 |
|
This page was generated on 2019-10-16 12:49:58 -0400 (Wed, 16 Oct 2019).
| Package 174/1741 | Hostname | OS / Arch | INSTALL | BUILD | CHECK | BUILD BIN | ||||||
| birta 1.28.0 Benedikt Zacher
| malbec2 | Linux (Ubuntu 18.04.2 LTS) / x86_64 | OK | OK | OK | |||||||
| tokay2 | Windows Server 2012 R2 Standard / x64 | OK | OK | WARNINGS | OK | |||||||
| celaya2 | OS X 10.11.6 El Capitan / x86_64 | [ OK ] | OK | OK | OK |
| Package: birta |
| Version: 1.28.0 |
| Command: /Library/Frameworks/R.framework/Versions/Current/Resources/bin/R CMD INSTALL birta |
| StartedAt: 2019-10-15 18:20:44 -0400 (Tue, 15 Oct 2019) |
| EndedAt: 2019-10-15 18:21:10 -0400 (Tue, 15 Oct 2019) |
| EllapsedTime: 26.4 seconds |
| RetCode: 0 |
| Status: OK |
##############################################################################
##############################################################################
###
### Running command:
###
### /Library/Frameworks/R.framework/Versions/Current/Resources/bin/R CMD INSTALL birta
###
##############################################################################
##############################################################################
* installing to library ‘/Library/Frameworks/R.framework/Versions/3.6/Resources/library’
* installing *source* package ‘birta’ ...
** using staged installation
** libs
clang++ -std=gnu++11 -I"/Library/Frameworks/R.framework/Resources/include" -DNDEBUG -isysroot /Library/Developer/CommandLineTools/SDKs/MacOSX.sdk -I/usr/local/include -fPIC -Wall -g -O2 -c BayesNetwork.cpp -o BayesNetwork.o
clang++ -std=gnu++11 -I"/Library/Frameworks/R.framework/Resources/include" -DNDEBUG -isysroot /Library/Developer/CommandLineTools/SDKs/MacOSX.sdk -I/usr/local/include -fPIC -Wall -g -O2 -c BayesNetworkNC.cpp -o BayesNetworkNC.o
clang++ -std=gnu++11 -I"/Library/Frameworks/R.framework/Resources/include" -DNDEBUG -isysroot /Library/Developer/CommandLineTools/SDKs/MacOSX.sdk -I/usr/local/include -fPIC -Wall -g -O2 -c getStates.cpp -o getStates.o
getStates.cpp:259:13: warning: variable 'nreps' is used uninitialized whenever 'if' condition is false [-Wsometimes-uninitialized]
else if(c == 1) {
^~~~~~
getStates.cpp:262:49: note: uninitialized use occurs here
Otf[c][i] = (double*) malloc(sizeof(double)*nreps);
^~~~~
getStates.cpp:259:10: note: remove the 'if' if its condition is always true
else if(c == 1) {
^~~~~~~~~~~
getStates.cpp:255:14: note: initialize the variable 'nreps' to silence this warning
int nreps;
^
= 0
getStates.cpp:228:12: warning: variable 'nreps' is used uninitialized whenever 'if' condition is false [-Wsometimes-uninitialized]
else if(c == 1) {
^~~~~~
getStates.cpp:231:46: note: uninitialized use occurs here
O[c][i] = (double*) malloc(sizeof(double)*nreps);
^~~~~
getStates.cpp:228:9: note: remove the 'if' if its condition is always true
else if(c == 1) {
^~~~~~~~~~~
getStates.cpp:224:13: note: initialize the variable 'nreps' to silence this warning
int nreps;
^
= 0
getStates.cpp:201:13: warning: variable 'nreps' is used uninitialized whenever 'if' condition is false [-Wsometimes-uninitialized]
else if(c == 1) {
^~~~~~
getStates.cpp:204:47: note: uninitialized use occurs here
A[c][i] = (double*) malloc(sizeof(double)*nreps);
^~~~~
getStates.cpp:201:10: note: remove the 'if' if its condition is always true
else if(c == 1) {
^~~~~~~~~~~
getStates.cpp:197:14: note: initialize the variable 'nreps' to silence this warning
int nreps;
^
= 0
3 warnings generated.
clang++ -std=gnu++11 -dynamiclib -Wl,-headerpad_max_install_names -undefined dynamic_lookup -single_module -multiply_defined suppress -L/Library/Frameworks/R.framework/Resources/lib -L/usr/local/lib -o birta.so BayesNetwork.o BayesNetworkNC.o getStates.o -F/Library/Frameworks/R.framework/.. -framework R -Wl,-framework -Wl,CoreFoundation
installing to /Library/Frameworks/R.framework/Versions/3.6/Resources/library/00LOCK-birta/00new/birta/libs
** R
** data
** inst
** byte-compile and prepare package for lazy loading
** help
*** installing help indices
** building package indices
** installing vignettes
** testing if installed package can be loaded from temporary location
** checking absolute paths in shared objects and dynamic libraries
** testing if installed package can be loaded from final location
** testing if installed package keeps a record of temporary installation path
* DONE (birta)