| Back to Multiple platform build/check report for BioC 3.9 |
|
This page was generated on 2019-10-16 11:56:40 -0400 (Wed, 16 Oct 2019).
| Package 127/1741 | Hostname | OS / Arch | INSTALL | BUILD | CHECK | BUILD BIN | ||||||
| bgafun 1.46.0 Iain Wallace
| malbec2 | Linux (Ubuntu 18.04.2 LTS) / x86_64 | OK | OK | [ OK ] | |||||||
| tokay2 | Windows Server 2012 R2 Standard / x64 | OK | OK | OK | OK | |||||||
| celaya2 | OS X 10.11.6 El Capitan / x86_64 | OK | OK | OK | OK |
| Package: bgafun |
| Version: 1.46.0 |
| Command: /home/biocbuild/bbs-3.9-bioc/R/bin/R CMD check --install=check:bgafun.install-out.txt --library=/home/biocbuild/bbs-3.9-bioc/R/library --no-vignettes --timings bgafun_1.46.0.tar.gz |
| StartedAt: 2019-10-16 00:01:16 -0400 (Wed, 16 Oct 2019) |
| EndedAt: 2019-10-16 00:02:00 -0400 (Wed, 16 Oct 2019) |
| EllapsedTime: 44.1 seconds |
| RetCode: 0 |
| Status: OK |
| CheckDir: bgafun.Rcheck |
| Warnings: 0 |
##############################################################################
##############################################################################
###
### Running command:
###
### /home/biocbuild/bbs-3.9-bioc/R/bin/R CMD check --install=check:bgafun.install-out.txt --library=/home/biocbuild/bbs-3.9-bioc/R/library --no-vignettes --timings bgafun_1.46.0.tar.gz
###
##############################################################################
##############################################################################
* using log directory ‘/home/biocbuild/bbs-3.9-bioc/meat/bgafun.Rcheck’
* using R version 3.6.1 (2019-07-05)
* using platform: x86_64-pc-linux-gnu (64-bit)
* using session charset: UTF-8
* using option ‘--no-vignettes’
* checking for file ‘bgafun/DESCRIPTION’ ... OK
* checking extension type ... Package
* this is package ‘bgafun’ version ‘1.46.0’
* checking package namespace information ... OK
* checking package dependencies ... OK
* checking if this is a source package ... OK
* checking if there is a namespace ... OK
* checking for hidden files and directories ... OK
* checking for portable file names ... OK
* checking for sufficient/correct file permissions ... OK
* checking whether package ‘bgafun’ can be installed ... OK
* checking installed package size ... OK
* checking package directory ... OK
* checking ‘build’ directory ... OK
* checking DESCRIPTION meta-information ... NOTE
Malformed Description field: should contain one or more complete sentences.
* checking top-level files ... OK
* checking for left-over files ... OK
* checking index information ... OK
* checking package subdirectories ... OK
* checking R files for non-ASCII characters ... OK
* checking R files for syntax errors ... OK
* checking whether the package can be loaded ... OK
* checking whether the package can be loaded with stated dependencies ... OK
* checking whether the package can be unloaded cleanly ... OK
* checking whether the namespace can be loaded with stated dependencies ... OK
* checking whether the namespace can be unloaded cleanly ... OK
* checking dependencies in R code ... NOTE
Packages in Depends field not imported from:
‘ade4’ ‘made4’ ‘seqinr’
These packages need to be imported from (in the NAMESPACE file)
for when this namespace is loaded but not attached.
* checking S3 generic/method consistency ... OK
* checking replacement functions ... OK
* checking foreign function calls ... OK
* checking R code for possible problems ... NOTE
run_between_pca: no visible global function definition for ‘dudi.pca’
run_between_pca: no visible global function definition for ‘bca’
Undefined global functions or variables:
bca dudi.pca
* checking Rd files ... OK
* checking Rd metadata ... OK
* checking Rd cross-references ... OK
* checking for missing documentation entries ... OK
* checking for code/documentation mismatches ... OK
* checking Rd \usage sections ... OK
* checking Rd contents ... OK
* checking for unstated dependencies in examples ... OK
* checking contents of ‘data’ directory ... OK
* checking data for non-ASCII characters ... OK
* checking data for ASCII and uncompressed saves ... OK
* checking files in ‘vignettes’ ... OK
* checking examples ... OK
Examples with CPU or elapsed time > 5s
user system elapsed
add_pseudo_counts 9.645 0 9.676
* checking for unstated dependencies in vignettes ... OK
* checking package vignettes in ‘inst/doc’ ... OK
* checking running R code from vignettes ... SKIPPED
* checking re-building of vignette outputs ... SKIPPED
* checking PDF version of manual ... OK
* DONE
Status: 3 NOTEs
See
‘/home/biocbuild/bbs-3.9-bioc/meat/bgafun.Rcheck/00check.log’
for details.
bgafun.Rcheck/00install.out
############################################################################## ############################################################################## ### ### Running command: ### ### /home/biocbuild/bbs-3.9-bioc/R/bin/R CMD INSTALL bgafun ### ############################################################################## ############################################################################## * installing to library ‘/home/biocbuild/bbs-3.9-bioc/R/library’ * installing *source* package ‘bgafun’ ... ** using staged installation ** R ** data ** inst ** byte-compile and prepare package for lazy loading ** help *** installing help indices ** building package indices ** installing vignettes ** testing if installed package can be loaded from temporary location ** testing if installed package can be loaded from final location ** testing if installed package keeps a record of temporary installation path * DONE (bgafun)
bgafun.Rcheck/bgafun-Ex.timings
| name | user | system | elapsed | |
| Calculate_Row_Weights | 0.065 | 0.013 | 0.077 | |
| add_pseudo_counts | 9.645 | 0.000 | 9.676 | |
| average_cols_aap | 0.307 | 0.007 | 0.315 | |
| bgafun | 2.396 | 0.008 | 2.422 | |
| convert_aln_AAP | 0.334 | 0.000 | 0.334 | |
| convert_aln_amino | 0.326 | 0.000 | 0.326 | |
| create_profile_strings | 1.417 | 0.008 | 1.425 | |
| remove_gaps_groups | 0.240 | 0.000 | 0.241 | |
| run_between_pca | 0.329 | 0.000 | 0.330 | |
| top_residues_2_groups | 1.575 | 0.000 | 1.576 | |