| Back to Multiple platform build/check report for BioC 3.9 |
|
This page was generated on 2019-10-16 12:18:20 -0400 (Wed, 16 Oct 2019).
| Package 55/1741 | Hostname | OS / Arch | INSTALL | BUILD | CHECK | BUILD BIN | ||||||
| animalcules 1.0.6 Yue Zhao
| malbec2 | Linux (Ubuntu 18.04.2 LTS) / x86_64 | OK | OK | [ OK ] | |||||||
| tokay2 | Windows Server 2012 R2 Standard / x64 | OK | OK | OK | OK | |||||||
| celaya2 | OS X 10.11.6 El Capitan / x86_64 | OK | OK | OK | OK |
| Package: animalcules |
| Version: 1.0.6 |
| Command: /home/biocbuild/bbs-3.9-bioc/R/bin/R CMD check --install=check:animalcules.install-out.txt --library=/home/biocbuild/bbs-3.9-bioc/R/library --no-vignettes --timings animalcules_1.0.6.tar.gz |
| StartedAt: 2019-10-15 23:44:06 -0400 (Tue, 15 Oct 2019) |
| EndedAt: 2019-10-15 23:48:57 -0400 (Tue, 15 Oct 2019) |
| EllapsedTime: 291.0 seconds |
| RetCode: 0 |
| Status: OK |
| CheckDir: animalcules.Rcheck |
| Warnings: 0 |
##############################################################################
##############################################################################
###
### Running command:
###
### /home/biocbuild/bbs-3.9-bioc/R/bin/R CMD check --install=check:animalcules.install-out.txt --library=/home/biocbuild/bbs-3.9-bioc/R/library --no-vignettes --timings animalcules_1.0.6.tar.gz
###
##############################################################################
##############################################################################
* using log directory ‘/home/biocbuild/bbs-3.9-bioc/meat/animalcules.Rcheck’
* using R version 3.6.1 (2019-07-05)
* using platform: x86_64-pc-linux-gnu (64-bit)
* using session charset: UTF-8
* using option ‘--no-vignettes’
* checking for file ‘animalcules/DESCRIPTION’ ... OK
* this is package ‘animalcules’ version ‘1.0.6’
* package encoding: UTF-8
* checking package namespace information ... OK
* checking package dependencies ... OK
* checking if this is a source package ... OK
* checking if there is a namespace ... OK
* checking for hidden files and directories ... OK
* checking for portable file names ... OK
* checking for sufficient/correct file permissions ... OK
* checking whether package ‘animalcules’ can be installed ... OK
* checking installed package size ... OK
* checking package directory ... OK
* checking ‘build’ directory ... OK
* checking DESCRIPTION meta-information ... OK
* checking top-level files ... OK
* checking for left-over files ... OK
* checking index information ... OK
* checking package subdirectories ... OK
* checking R files for non-ASCII characters ... OK
* checking R files for syntax errors ... OK
* checking whether the package can be loaded ... OK
* checking whether the package can be loaded with stated dependencies ... OK
* checking whether the package can be unloaded cleanly ... OK
* checking whether the namespace can be loaded with stated dependencies ... OK
* checking whether the namespace can be unloaded cleanly ... OK
* checking dependencies in R code ... OK
* checking S3 generic/method consistency ... OK
* checking replacement functions ... OK
* checking foreign function calls ... OK
* checking R code for possible problems ... NOTE
alpha_div_boxplot: no visible binding for global variable ‘richness’
differential_abundance: no visible binding for global variable ‘padj’
differential_abundance: no visible binding for global variable ‘pValue’
differential_abundance: no visible binding for global variable
‘log2FoldChange’
diversities_help: no visible binding for global variable ‘x’
find_biomarker: no visible binding for global variable ‘rowname’
find_biomarker: no visible binding for global variable ‘importance’
find_biomarker: no visible binding for global variable ‘.’
find_biomarker: no visible binding for global variable ‘Overall’
find_biomarker: no visible binding for global variable ‘y’
find_biomarker: no visible binding for global variable ‘m’
find_biomarker: no visible binding for global variable ‘d’
relabu_barplot: no visible binding for global variable ‘.’
relabu_boxplot: no visible binding for global variable ‘.’
relabu_heatmap: no visible binding for global variable ‘.’
upsample_counts: no visible binding for global variable ‘.’
Undefined global functions or variables:
. Overall d importance log2FoldChange m pValue padj richness rowname
x y
* checking Rd files ... OK
* checking Rd metadata ... OK
* checking Rd cross-references ... OK
* checking for missing documentation entries ... OK
* checking for code/documentation mismatches ... OK
* checking Rd \usage sections ... OK
* checking Rd contents ... OK
* checking for unstated dependencies in examples ... OK
* checking files in ‘vignettes’ ... OK
* checking examples ... OK
Examples with CPU or elapsed time > 5s
user system elapsed
find_biomarker 36.190 0.124 14.519
dimred_tsne 6.668 0.012 6.692
* checking for unstated dependencies in ‘tests’ ... OK
* checking tests ...
Running ‘testthat.R’
OK
* checking for unstated dependencies in vignettes ... OK
* checking package vignettes in ‘inst/doc’ ... OK
* checking running R code from vignettes ... SKIPPED
* checking re-building of vignette outputs ... SKIPPED
* checking PDF version of manual ... OK
* DONE
Status: 1 NOTE
See
‘/home/biocbuild/bbs-3.9-bioc/meat/animalcules.Rcheck/00check.log’
for details.
animalcules.Rcheck/00install.out
############################################################################## ############################################################################## ### ### Running command: ### ### /home/biocbuild/bbs-3.9-bioc/R/bin/R CMD INSTALL animalcules ### ############################################################################## ############################################################################## * installing to library ‘/home/biocbuild/bbs-3.9-bioc/R/library’ * installing *source* package ‘animalcules’ ... ** using staged installation ** R ** inst ** byte-compile and prepare package for lazy loading ** help *** installing help indices ** building package indices ** installing vignettes ** testing if installed package can be loaded from temporary location ** testing if installed package can be loaded from final location ** testing if installed package keeps a record of temporary installation path * DONE (animalcules)
animalcules.Rcheck/tests/testthat.Rout
R version 3.6.1 (2019-07-05) -- "Action of the Toes"
Copyright (C) 2019 The R Foundation for Statistical Computing
Platform: x86_64-pc-linux-gnu (64-bit)
R is free software and comes with ABSOLUTELY NO WARRANTY.
You are welcome to redistribute it under certain conditions.
Type 'license()' or 'licence()' for distribution details.
R is a collaborative project with many contributors.
Type 'contributors()' for more information and
'citation()' on how to cite R or R packages in publications.
Type 'demo()' for some demos, 'help()' for on-line help, or
'help.start()' for an HTML browser interface to help.
Type 'q()' to quit R.
> library(testthat)
> library(animalcules)
>
> test_check("animalcules")
══ testthat results ═══════════════════════════════════════════════════════════
[ OK: 39 | SKIPPED: 0 | WARNINGS: 0 | FAILED: 0 ]
>
> proc.time()
user system elapsed
60.850 0.910 38.054
animalcules.Rcheck/animalcules-Ex.timings
| name | user | system | elapsed | |
| alpha_div_boxplot | 1.465 | 0.083 | 1.633 | |
| alpha_div_test | 0.006 | 0.000 | 0.005 | |
| counts_to_logcpm | 0.002 | 0.000 | 0.001 | |
| counts_to_relabu | 0.002 | 0.000 | 0.003 | |
| df_char_to_factor | 0.000 | 0.000 | 0.001 | |
| differential_abundance | 4.084 | 0.012 | 4.096 | |
| dimred_pca | 0.230 | 0.004 | 0.234 | |
| dimred_pcoa | 0.229 | 0.008 | 0.236 | |
| dimred_tsne | 6.668 | 0.012 | 6.692 | |
| diversities | 0.001 | 0.000 | 0.000 | |
| diversities_help | 0.001 | 0.000 | 0.001 | |
| diversity_beta_boxplot | 0.276 | 0.004 | 0.280 | |
| diversity_beta_heatmap | 0.291 | 0.012 | 0.304 | |
| diversity_beta_test | 0.295 | 0.040 | 0.336 | |
| do_alpha_div_test | 0.074 | 0.000 | 0.074 | |
| filter_categorize | 0.840 | 0.032 | 0.456 | |
| filter_summary_bottom | 0.231 | 0.004 | 0.235 | |
| filter_summary_top | 0.152 | 0.008 | 0.160 | |
| find_biomarker | 36.190 | 0.124 | 14.519 | |
| find_taxon_mat | 0.350 | 0.004 | 1.383 | |
| find_taxonomy | 0.118 | 0.004 | 0.765 | |
| find_taxonomy_300 | 0.126 | 0.004 | 1.126 | |
| gini_simpson | 0 | 0 | 0 | |
| grep_tid | 0 | 0 | 0 | |
| inverse_simpson | 0 | 0 | 0 | |
| is_categorical | 0 | 0 | 0 | |
| is_integer0 | 0 | 0 | 0 | |
| is_integer1 | 0.000 | 0.000 | 0.001 | |
| mae_pick_organisms | 0.144 | 0.000 | 0.145 | |
| mae_pick_samples | 0.145 | 0.000 | 0.145 | |
| pct2str | 0 | 0 | 0 | |
| percent | 0 | 0 | 0 | |
| relabu_barplot | 1.214 | 0.013 | 1.226 | |
| relabu_boxplot | 0.140 | 0.004 | 0.145 | |
| relabu_heatmap | 0.200 | 0.004 | 0.203 | |
| run_animalcules | 0.000 | 0.000 | 0.001 | |
| shannon | 0.000 | 0.000 | 0.001 | |
| simpson_index | 0.000 | 0.000 | 0.001 | |
| upsample_counts | 0.016 | 0.004 | 0.039 | |