| Back to Multiple platform build/check report for BioC 3.9 |
|
This page was generated on 2019-10-16 13:04:24 -0400 (Wed, 16 Oct 2019).
| Package 1730/1741 | Hostname | OS / Arch | INSTALL | BUILD | CHECK | BUILD BIN | ||||||
| Xeva 1.0.0 Benjamin Haibe-Kains
| malbec2 | Linux (Ubuntu 18.04.2 LTS) / x86_64 | OK | OK | OK | |||||||
| tokay2 | Windows Server 2012 R2 Standard / x64 | OK | OK | OK | OK | |||||||
| celaya2 | OS X 10.11.6 El Capitan / x86_64 | OK | OK | [ OK ] | OK |
| Package: Xeva |
| Version: 1.0.0 |
| Command: /Library/Frameworks/R.framework/Versions/Current/Resources/bin/R CMD check --install=check:Xeva.install-out.txt --library=/Library/Frameworks/R.framework/Versions/Current/Resources/library --no-vignettes --timings Xeva_1.0.0.tar.gz |
| StartedAt: 2019-10-16 07:47:07 -0400 (Wed, 16 Oct 2019) |
| EndedAt: 2019-10-16 07:50:59 -0400 (Wed, 16 Oct 2019) |
| EllapsedTime: 232.1 seconds |
| RetCode: 0 |
| Status: OK |
| CheckDir: Xeva.Rcheck |
| Warnings: 0 |
##############################################################################
##############################################################################
###
### Running command:
###
### /Library/Frameworks/R.framework/Versions/Current/Resources/bin/R CMD check --install=check:Xeva.install-out.txt --library=/Library/Frameworks/R.framework/Versions/Current/Resources/library --no-vignettes --timings Xeva_1.0.0.tar.gz
###
##############################################################################
##############################################################################
* using log directory ‘/Users/biocbuild/bbs-3.9-bioc/meat/Xeva.Rcheck’
* using R version 3.6.1 (2019-07-05)
* using platform: x86_64-apple-darwin15.6.0 (64-bit)
* using session charset: UTF-8
* using option ‘--no-vignettes’
* checking for file ‘Xeva/DESCRIPTION’ ... OK
* checking extension type ... Package
* this is package ‘Xeva’ version ‘1.0.0’
* package encoding: UTF-8
* checking package namespace information ... OK
* checking package dependencies ... OK
* checking if this is a source package ... OK
* checking if there is a namespace ... OK
* checking for hidden files and directories ... OK
* checking for portable file names ... OK
* checking for sufficient/correct file permissions ... OK
* checking whether package ‘Xeva’ can be installed ... OK
* checking installed package size ... OK
* checking package directory ... OK
* checking ‘build’ directory ... OK
* checking DESCRIPTION meta-information ... OK
* checking top-level files ... OK
* checking for left-over files ... OK
* checking index information ... OK
* checking package subdirectories ... OK
* checking R files for non-ASCII characters ... OK
* checking R files for syntax errors ... OK
* checking whether the package can be loaded ... OK
* checking whether the package can be loaded with stated dependencies ... OK
* checking whether the package can be unloaded cleanly ... OK
* checking whether the namespace can be loaded with stated dependencies ... OK
* checking whether the namespace can be unloaded cleanly ... OK
* checking dependencies in R code ... OK
* checking S3 generic/method consistency ... OK
* checking replacement functions ... OK
* checking foreign function calls ... OK
* checking R code for possible problems ... OK
* checking Rd files ... OK
* checking Rd metadata ... OK
* checking Rd cross-references ... OK
* checking for missing documentation entries ... OK
* checking for code/documentation mismatches ... OK
* checking Rd \usage sections ... OK
* checking Rd contents ... OK
* checking for unstated dependencies in examples ... OK
* checking contents of ‘data’ directory ... OK
* checking data for non-ASCII characters ... NOTE
Note: found 31 marked UTF-8 strings
* checking data for ASCII and uncompressed saves ... OK
* checking sizes of PDF files under ‘inst/doc’ ... OK
* checking files in ‘vignettes’ ... OK
* checking examples ... OK
Examples with CPU or elapsed time > 5s
user system elapsed
setResponse 6.349 2.425 8.708
plotmRECIST 4.572 1.110 5.647
* checking for unstated dependencies in vignettes ... OK
* checking package vignettes in ‘inst/doc’ ... OK
* checking running R code from vignettes ... SKIPPED
* checking re-building of vignette outputs ... SKIPPED
* checking PDF version of manual ... OK
* DONE
Status: 1 NOTE
See
‘/Users/biocbuild/bbs-3.9-bioc/meat/Xeva.Rcheck/00check.log’
for details.
Xeva.Rcheck/00install.out
############################################################################## ############################################################################## ### ### Running command: ### ### /Library/Frameworks/R.framework/Versions/Current/Resources/bin/R CMD INSTALL Xeva ### ############################################################################## ############################################################################## * installing to library ‘/Library/Frameworks/R.framework/Versions/3.6/Resources/library’ * installing *source* package ‘Xeva’ ... ** using staged installation ** R ** data ** inst ** byte-compile and prepare package for lazy loading ** help *** installing help indices ** building package indices ** installing vignettes ** testing if installed package can be loaded from temporary location ** testing if installed package can be loaded from final location ** testing if installed package keeps a record of temporary installation path * DONE (Xeva)
Xeva.Rcheck/Xeva-Ex.timings
| name | user | system | elapsed | |
| ABC | 0.009 | 0.003 | 0.012 | |
| AUC | 0.056 | 0.032 | 0.087 | |
| TGI | 0.001 | 0.000 | 0.002 | |
| addExperimentalDesign | 0.184 | 0.020 | 0.204 | |
| angle | 0.017 | 0.007 | 0.024 | |
| batchInfo | 0.228 | 0.028 | 0.256 | |
| createXevaSet | 0.235 | 0.054 | 0.292 | |
| dosePlot | 1.076 | 0.413 | 1.469 | |
| downloadXevaSet | 0.053 | 0.016 | 0.323 | |
| drugInform | 0.244 | 0.011 | 0.255 | |
| drugSensitivitySig | 0.963 | 0.261 | 1.215 | |
| getExperiment | 0.299 | 0.062 | 0.361 | |
| getMolecularProfiles | 0.110 | 0.003 | 0.114 | |
| lmm | 0.161 | 0.059 | 0.219 | |
| mRECIST | 0.004 | 0.001 | 0.005 | |
| modelInfo | 0.124 | 0.008 | 0.133 | |
| plotPDX | 2.717 | 0.725 | 3.426 | |
| plotmRECIST | 4.572 | 1.110 | 5.647 | |
| response | 0.222 | 0.053 | 0.275 | |
| selectModelIds | 0.345 | 0.111 | 0.453 | |
| sensitivity | 0.216 | 0.010 | 0.226 | |
| setResponse | 6.349 | 2.425 | 8.708 | |
| slope | 0.015 | 0.006 | 0.022 | |
| subsetXeva | 0.334 | 0.039 | 0.373 | |
| summarizeMolecularProfiles | 0.270 | 0.022 | 0.292 | |
| summarizeResponse | 0.372 | 0.028 | 0.399 | |
| waterfall | 1.809 | 0.372 | 2.164 | |