| Back to Multiple platform build/check report for BioC 3.9 |
|
This page was generated on 2019-10-16 12:11:58 -0400 (Wed, 16 Oct 2019).
| Package 1642/1741 | Hostname | OS / Arch | INSTALL | BUILD | CHECK | BUILD BIN | ||||||
| TFHAZ 1.6.0 Alberto Marchesi
| malbec2 | Linux (Ubuntu 18.04.2 LTS) / x86_64 | OK | OK | [ OK ] | |||||||
| tokay2 | Windows Server 2012 R2 Standard / x64 | OK | OK | OK | OK | |||||||
| celaya2 | OS X 10.11.6 El Capitan / x86_64 | OK | OK | OK | OK |
| Package: TFHAZ |
| Version: 1.6.0 |
| Command: /home/biocbuild/bbs-3.9-bioc/R/bin/R CMD check --install=check:TFHAZ.install-out.txt --library=/home/biocbuild/bbs-3.9-bioc/R/library --no-vignettes --timings TFHAZ_1.6.0.tar.gz |
| StartedAt: 2019-10-16 05:25:17 -0400 (Wed, 16 Oct 2019) |
| EndedAt: 2019-10-16 05:26:45 -0400 (Wed, 16 Oct 2019) |
| EllapsedTime: 88.7 seconds |
| RetCode: 0 |
| Status: OK |
| CheckDir: TFHAZ.Rcheck |
| Warnings: 0 |
##############################################################################
##############################################################################
###
### Running command:
###
### /home/biocbuild/bbs-3.9-bioc/R/bin/R CMD check --install=check:TFHAZ.install-out.txt --library=/home/biocbuild/bbs-3.9-bioc/R/library --no-vignettes --timings TFHAZ_1.6.0.tar.gz
###
##############################################################################
##############################################################################
* using log directory ‘/home/biocbuild/bbs-3.9-bioc/meat/TFHAZ.Rcheck’
* using R version 3.6.1 (2019-07-05)
* using platform: x86_64-pc-linux-gnu (64-bit)
* using session charset: UTF-8
* using option ‘--no-vignettes’
* checking for file ‘TFHAZ/DESCRIPTION’ ... OK
* checking extension type ... Package
* this is package ‘TFHAZ’ version ‘1.6.0’
* package encoding: UTF-8
* checking package namespace information ... OK
* checking package dependencies ... OK
* checking if this is a source package ... OK
* checking if there is a namespace ... OK
* checking for hidden files and directories ... OK
* checking for portable file names ... OK
* checking for sufficient/correct file permissions ... OK
* checking whether package ‘TFHAZ’ can be installed ... OK
* checking installed package size ... OK
* checking package directory ... OK
* checking ‘build’ directory ... OK
* checking DESCRIPTION meta-information ... OK
* checking top-level files ... OK
* checking for left-over files ... OK
* checking index information ... OK
* checking package subdirectories ... OK
* checking R files for non-ASCII characters ... OK
* checking R files for syntax errors ... OK
* checking whether the package can be loaded ... OK
* checking whether the package can be loaded with stated dependencies ... OK
* checking whether the package can be unloaded cleanly ... OK
* checking whether the namespace can be loaded with stated dependencies ... OK
* checking whether the namespace can be unloaded cleanly ... OK
* checking dependencies in R code ... OK
* checking S3 generic/method consistency ... OK
* checking replacement functions ... OK
* checking foreign function calls ... OK
* checking R code for possible problems ... OK
* checking Rd files ... OK
* checking Rd metadata ... OK
* checking Rd cross-references ... OK
* checking for missing documentation entries ... OK
* checking for code/documentation mismatches ... OK
* checking Rd \usage sections ... OK
* checking Rd contents ... OK
* checking for unstated dependencies in examples ... OK
* checking contents of ‘data’ directory ... OK
* checking data for non-ASCII characters ... OK
* checking data for ASCII and uncompressed saves ... OK
* checking files in ‘vignettes’ ... OK
* checking examples ... OK
Examples with CPU or elapsed time > 5s
user system elapsed
dense_zones 5.509 0.007 5.518
* checking for unstated dependencies in vignettes ... OK
* checking package vignettes in ‘inst/doc’ ... OK
* checking running R code from vignettes ... SKIPPED
* checking re-building of vignette outputs ... SKIPPED
* checking PDF version of manual ... OK
* DONE
Status: OK
TFHAZ.Rcheck/00install.out
############################################################################## ############################################################################## ### ### Running command: ### ### /home/biocbuild/bbs-3.9-bioc/R/bin/R CMD INSTALL TFHAZ ### ############################################################################## ############################################################################## * installing to library ‘/home/biocbuild/bbs-3.9-bioc/R/library’ * installing *source* package ‘TFHAZ’ ... ** using staged installation ** R ** data *** moving datasets to lazyload DB ** byte-compile and prepare package for lazy loading ** help *** installing help indices ** building package indices ** installing vignettes ** testing if installed package can be loaded from temporary location ** testing if installed package can be loaded from final location ** testing if installed package keeps a record of temporary installation path * DONE (TFHAZ)
TFHAZ.Rcheck/TFHAZ-Ex.timings
| name | user | system | elapsed | |
| Ishikawa | 0.071 | 0.016 | 0.087 | |
| TF_acc_w_0 | 0.076 | 0.008 | 0.084 | |
| TF_dense_w_0 | 0.083 | 0.004 | 0.087 | |
| TF_dense_w_10 | 0.098 | 0.017 | 0.113 | |
| TF_dense_w_100 | 0.108 | 0.015 | 0.123 | |
| TF_dense_w_1000 | 0.121 | 0.008 | 0.129 | |
| TF_dense_w_10000 | 0.138 | 0.008 | 0.146 | |
| accumulation | 4.529 | 0.008 | 4.537 | |
| base_dense_w_10 | 0.069 | 0.000 | 0.069 | |
| dense_zones | 5.509 | 0.007 | 5.518 | |
| high_accumulation_zones | 0.141 | 0.004 | 0.144 | |
| n_zones_PCA | 0.207 | 0.000 | 0.207 | |
| plot_accumulation | 0 | 0 | 0 | |
| plot_n_zones | 0.007 | 0.000 | 0.007 | |
| reg_dense_w_10 | 0.07 | 0.00 | 0.07 | |
| w_analysis | 0.005 | 0.003 | 0.009 | |