| Back to Multiple platform build/check report for BioC 3.9 |
|
This page was generated on 2019-10-16 12:28:27 -0400 (Wed, 16 Oct 2019).
| Package 1630/1741 | Hostname | OS / Arch | INSTALL | BUILD | CHECK | BUILD BIN | ||||||
| TCC 1.24.0 Jianqiang Sun
| malbec2 | Linux (Ubuntu 18.04.2 LTS) / x86_64 | OK | OK | OK | |||||||
| tokay2 | Windows Server 2012 R2 Standard / x64 | [ OK ] | OK | WARNINGS | OK | |||||||
| celaya2 | OS X 10.11.6 El Capitan / x86_64 | OK | OK | OK | OK |
| Package: TCC |
| Version: 1.24.0 |
| Command: C:\cygwin\bin\curl.exe -O https://malbec2.bioconductor.org/BBS/3.9/bioc/src/contrib/TCC_1.24.0.tar.gz && rm -rf TCC.buildbin-libdir && mkdir TCC.buildbin-libdir && C:\Users\biocbuild\bbs-3.9-bioc\R\bin\R.exe CMD INSTALL --merge-multiarch --build --library=TCC.buildbin-libdir TCC_1.24.0.tar.gz && C:\Users\biocbuild\bbs-3.9-bioc\R\bin\R.exe CMD INSTALL TCC_1.24.0.zip && rm TCC_1.24.0.tar.gz TCC_1.24.0.zip |
| StartedAt: 2019-10-15 20:42:20 -0400 (Tue, 15 Oct 2019) |
| EndedAt: 2019-10-15 20:43:30 -0400 (Tue, 15 Oct 2019) |
| EllapsedTime: 69.5 seconds |
| RetCode: 0 |
| Status: OK |
##############################################################################
##############################################################################
###
### Running command:
###
### C:\cygwin\bin\curl.exe -O https://malbec2.bioconductor.org/BBS/3.9/bioc/src/contrib/TCC_1.24.0.tar.gz && rm -rf TCC.buildbin-libdir && mkdir TCC.buildbin-libdir && C:\Users\biocbuild\bbs-3.9-bioc\R\bin\R.exe CMD INSTALL --merge-multiarch --build --library=TCC.buildbin-libdir TCC_1.24.0.tar.gz && C:\Users\biocbuild\bbs-3.9-bioc\R\bin\R.exe CMD INSTALL TCC_1.24.0.zip && rm TCC_1.24.0.tar.gz TCC_1.24.0.zip
###
##############################################################################
##############################################################################
% Total % Received % Xferd Average Speed Time Time Time Current
Dload Upload Total Spent Left Speed
0 0 0 0 0 0 0 0 --:--:-- --:--:-- --:--:-- 0
100 858k 100 858k 0 0 12.5M 0 --:--:-- --:--:-- --:--:-- 13.9M
install for i386
* installing *source* package 'TCC' ...
** using staged installation
** R
** data
** inst
** byte-compile and prepare package for lazy loading
Creating a new generic function for 'calcNormFactors' in package 'TCC'
** help
*** installing help indices
converting help for package 'TCC'
finding HTML links ... done
ROKU html
TCC-class html
TCC html
WAD html
arab html
calcAUCValue html
calcNormFactors html
clusterSample html
estimateDE html
Rd warning: C:/Users/biocbuild/bbs-3.9-bioc/tmpdir/RtmpKGfEyT/R.INSTALL236810d82c0/TCC/man/estimateDE.Rd:66: file link 'glmLRT' in package 'edgeR' does not exist and so has been treated as a topic
Rd warning: C:/Users/biocbuild/bbs-3.9-bioc/tmpdir/RtmpKGfEyT/R.INSTALL236810d82c0/TCC/man/estimateDE.Rd:73: file link 'glmLRT' in package 'edgeR' does not exist and so has been treated as a topic
Rd warning: C:/Users/biocbuild/bbs-3.9-bioc/tmpdir/RtmpKGfEyT/R.INSTALL236810d82c0/TCC/man/estimateDE.Rd:81: file link 'getPriors.NB' in package 'baySeq' does not exist and so has been treated as a topic
Rd warning: C:/Users/biocbuild/bbs-3.9-bioc/tmpdir/RtmpKGfEyT/R.INSTALL236810d82c0/TCC/man/estimateDE.Rd:128: file link 'glmLRT' in package 'edgeR' does not exist and so has been treated as a topic
Rd warning: C:/Users/biocbuild/bbs-3.9-bioc/tmpdir/RtmpKGfEyT/R.INSTALL236810d82c0/TCC/man/estimateDE.Rd:152: file link 'getPriors.NB' in package 'baySeq' does not exist and so has been treated as a topic
filterLowCountGenes html
getNormalizedData html
getResult html
Rd warning: C:/Users/biocbuild/bbs-3.9-bioc/tmpdir/RtmpKGfEyT/R.INSTALL236810d82c0/TCC/man/getResult.Rd:20: file link 'plot' in package 'TCC' does not exist and so has been treated as a topic
hypoData html
hypoData_mg html
hypoData_ts html
makeFCMatrix html
nakai html
plot.TCC html
plotFCPseudocolor html
simulateReadCounts html
** building package indices
** installing vignettes
** testing if installed package can be loaded from temporary location
** testing if installed package can be loaded from final location
** testing if installed package keeps a record of temporary installation path
install for x64
* installing *source* package 'TCC' ...
** testing if installed package can be loaded
* MD5 sums
packaged installation of 'TCC' as TCC_1.24.0.zip
* DONE (TCC)
* installing to library 'C:/Users/biocbuild/bbs-3.9-bioc/R/library'
package 'TCC' successfully unpacked and MD5 sums checked