| Back to Multiple platform build/check report for BioC 3.9 |
|
This page was generated on 2019-10-16 12:34:57 -0400 (Wed, 16 Oct 2019).
| Package 1545/1741 | Hostname | OS / Arch | INSTALL | BUILD | CHECK | BUILD BIN | ||||||
| SMITE 1.12.0 Neil Ari Wijetunga
| malbec2 | Linux (Ubuntu 18.04.2 LTS) / x86_64 | OK | OK | OK | |||||||
| tokay2 | Windows Server 2012 R2 Standard / x64 | OK | OK | OK | [ OK ] | |||||||
| celaya2 | OS X 10.11.6 El Capitan / x86_64 | OK | OK | OK | OK |
| Package: SMITE |
| Version: 1.12.0 |
| Command: rm -rf SMITE.buildbin-libdir && mkdir SMITE.buildbin-libdir && C:\Users\biocbuild\bbs-3.9-bioc\R\bin\R.exe CMD INSTALL --merge-multiarch --build --library=SMITE.buildbin-libdir SMITE_1.12.0.tar.gz |
| StartedAt: 2019-10-16 10:15:17 -0400 (Wed, 16 Oct 2019) |
| EndedAt: 2019-10-16 10:16:32 -0400 (Wed, 16 Oct 2019) |
| EllapsedTime: 74.6 seconds |
| RetCode: 0 |
| Status: OK |
| PackageFile: SMITE_1.12.0.zip |
| PackageFileSize: 3.636 MiB |
##############################################################################
##############################################################################
###
### Running command:
###
### rm -rf SMITE.buildbin-libdir && mkdir SMITE.buildbin-libdir && C:\Users\biocbuild\bbs-3.9-bioc\R\bin\R.exe CMD INSTALL --merge-multiarch --build --library=SMITE.buildbin-libdir SMITE_1.12.0.tar.gz
###
##############################################################################
##############################################################################
install for i386
* installing *source* package 'SMITE' ...
** using staged installation
** R
** data
** inst
** byte-compile and prepare package for lazy loading
** help
*** installing help indices
converting help for package 'SMITE'
finding HTML links ... done
Reactome.Symbol.Igraph html
SMITE-package html
addShadowText html
annotateExpression html
annotateModification html
convertGeneIds html
curated_expression html
extractExpression html
extractGOseq html
extractModification html
extractModules html
extractScores html
genes_for_conversiontest html
hg19_gene_bed html
highScores html
histone_h3k4me1 html
makePvalueAnnotation html
makePvalueObject html
methylationdata html
normalizePval html
plotCompareScores html
plotDensityPval html
plotModule html
removeModification html
runBioNet html
runGOseq html
runSpinglass html
scorePval html
stoufferTest html
test_annotation_score_data html
** building package indices
** installing vignettes
** testing if installed package can be loaded from temporary location
** testing if installed package can be loaded from final location
** testing if installed package keeps a record of temporary installation path
install for x64
* installing *source* package 'SMITE' ...
** testing if installed package can be loaded
* MD5 sums
packaged installation of 'SMITE' as SMITE_1.12.0.zip
* DONE (SMITE)