| Back to Multiple platform build/check report for BioC 3.9 |
|
This page was generated on 2019-10-16 12:30:56 -0400 (Wed, 16 Oct 2019).
| Package 1403/1741 | Hostname | OS / Arch | INSTALL | BUILD | CHECK | BUILD BIN | ||||||
| Rnits 1.18.0 Dipen P. Sangurdekar
| malbec2 | Linux (Ubuntu 18.04.2 LTS) / x86_64 | OK | OK | OK | |||||||
| tokay2 | Windows Server 2012 R2 Standard / x64 | [ OK ] | OK | OK | OK | |||||||
| celaya2 | OS X 10.11.6 El Capitan / x86_64 | OK | OK | OK | OK |
| Package: Rnits |
| Version: 1.18.0 |
| Command: C:\cygwin\bin\curl.exe -O https://malbec2.bioconductor.org/BBS/3.9/bioc/src/contrib/Rnits_1.18.0.tar.gz && rm -rf Rnits.buildbin-libdir && mkdir Rnits.buildbin-libdir && C:\Users\biocbuild\bbs-3.9-bioc\R\bin\R.exe CMD INSTALL --merge-multiarch --build --library=Rnits.buildbin-libdir Rnits_1.18.0.tar.gz && C:\Users\biocbuild\bbs-3.9-bioc\R\bin\R.exe CMD INSTALL Rnits_1.18.0.zip && rm Rnits_1.18.0.tar.gz Rnits_1.18.0.zip |
| StartedAt: 2019-10-15 20:18:31 -0400 (Tue, 15 Oct 2019) |
| EndedAt: 2019-10-15 20:19:22 -0400 (Tue, 15 Oct 2019) |
| EllapsedTime: 51.0 seconds |
| RetCode: 0 |
| Status: OK |
##############################################################################
##############################################################################
###
### Running command:
###
### C:\cygwin\bin\curl.exe -O https://malbec2.bioconductor.org/BBS/3.9/bioc/src/contrib/Rnits_1.18.0.tar.gz && rm -rf Rnits.buildbin-libdir && mkdir Rnits.buildbin-libdir && C:\Users\biocbuild\bbs-3.9-bioc\R\bin\R.exe CMD INSTALL --merge-multiarch --build --library=Rnits.buildbin-libdir Rnits_1.18.0.tar.gz && C:\Users\biocbuild\bbs-3.9-bioc\R\bin\R.exe CMD INSTALL Rnits_1.18.0.zip && rm Rnits_1.18.0.tar.gz Rnits_1.18.0.zip
###
##############################################################################
##############################################################################
% Total % Received % Xferd Average Speed Time Time Time Current
Dload Upload Total Spent Left Speed
0 0 0 0 0 0 0 0 --:--:-- --:--:-- --:--:-- 0
100 319k 100 319k 0 0 5668k 0 --:--:-- --:--:-- --:--:-- 6396k
install for i386
* installing *source* package 'Rnits' ...
** using staged installation
** R
** data
*** moving datasets to lazyload DB
** inst
** byte-compile and prepare package for lazy loading
** help
*** installing help indices
converting help for package 'Rnits'
finding HTML links ... done
Rnits-class html
build.Rnits html
finding level-2 HTML links ... done
calculateGCV-methods html
extract-methods html
fit-methods html
getCID-methods html
getFitModel-methods html
getLR-methods html
getNormTwoChannel-methods html
getPval-methods html
getStat-methods html
plotResults-methods html
rnits html
summarizeProbes-methods html
summary-methods html
timeAlign-methods html
topData-methods html
yeastchemostat html
** building package indices
** installing vignettes
** testing if installed package can be loaded from temporary location
** testing if installed package can be loaded from final location
** testing if installed package keeps a record of temporary installation path
install for x64
* installing *source* package 'Rnits' ...
** testing if installed package can be loaded
* MD5 sums
packaged installation of 'Rnits' as Rnits_1.18.0.zip
* DONE (Rnits)
* installing to library 'C:/Users/biocbuild/bbs-3.9-bioc/R/library'
package 'Rnits' successfully unpacked and MD5 sums checked