| Back to Multiple platform build/check report for BioC 3.9 |
|
This page was generated on 2019-10-16 12:38:42 -0400 (Wed, 16 Oct 2019).
| Package 1433/1741 | Hostname | OS / Arch | INSTALL | BUILD | CHECK | BUILD BIN | ||||||
| RTNsurvival 1.8.3 Clarice Groeneveld
| malbec2 | Linux (Ubuntu 18.04.2 LTS) / x86_64 | OK | OK | OK | |||||||
| tokay2 | Windows Server 2012 R2 Standard / x64 | [ OK ] | OK | OK | OK | |||||||
| celaya2 | OS X 10.11.6 El Capitan / x86_64 | OK | OK | OK | OK |
| Package: RTNsurvival |
| Version: 1.8.3 |
| Command: C:\cygwin\bin\curl.exe -O https://malbec2.bioconductor.org/BBS/3.9/bioc/src/contrib/RTNsurvival_1.8.3.tar.gz && rm -rf RTNsurvival.buildbin-libdir && mkdir RTNsurvival.buildbin-libdir && C:\Users\biocbuild\bbs-3.9-bioc\R\bin\R.exe CMD INSTALL --merge-multiarch --build --library=RTNsurvival.buildbin-libdir RTNsurvival_1.8.3.tar.gz && C:\Users\biocbuild\bbs-3.9-bioc\R\bin\R.exe CMD INSTALL RTNsurvival_1.8.3.zip && rm RTNsurvival_1.8.3.tar.gz RTNsurvival_1.8.3.zip |
| StartedAt: 2019-10-15 20:12:34 -0400 (Tue, 15 Oct 2019) |
| EndedAt: 2019-10-15 20:13:38 -0400 (Tue, 15 Oct 2019) |
| EllapsedTime: 64.2 seconds |
| RetCode: 0 |
| Status: OK |
##############################################################################
##############################################################################
###
### Running command:
###
### C:\cygwin\bin\curl.exe -O https://malbec2.bioconductor.org/BBS/3.9/bioc/src/contrib/RTNsurvival_1.8.3.tar.gz && rm -rf RTNsurvival.buildbin-libdir && mkdir RTNsurvival.buildbin-libdir && C:\Users\biocbuild\bbs-3.9-bioc\R\bin\R.exe CMD INSTALL --merge-multiarch --build --library=RTNsurvival.buildbin-libdir RTNsurvival_1.8.3.tar.gz && C:\Users\biocbuild\bbs-3.9-bioc\R\bin\R.exe CMD INSTALL RTNsurvival_1.8.3.zip && rm RTNsurvival_1.8.3.tar.gz RTNsurvival_1.8.3.zip
###
##############################################################################
##############################################################################
% Total % Received % Xferd Average Speed Time Time Time Current
Dload Upload Total Spent Left Speed
0 0 0 0 0 0 0 0 --:--:-- --:--:-- --:--:-- 0
100 323k 100 323k 0 0 640k 0 --:--:-- --:--:-- --:--:-- 650k
install for i386
* installing *source* package 'RTNsurvival' ...
** using staged installation
** R
** data
*** moving datasets to lazyload DB
** inst
** byte-compile and prepare package for lazy loading
** help
*** installing help indices
converting help for package 'RTNsurvival'
finding HTML links ... done
RTNsurvival-package html
TNS-class html
finding level-2 HTML links ... done
TNS.data html
hclust_semisupervised html
tni2tnsPreprocess-methods html
tnsAREA3-methods html
tnsCox-methods html
tnsCoxInteraction-methods html
tnsGSEA2-methods html
tnsGet-methods html
tnsInteraction-methods html
tnsKM-methods html
tnsKmInteraction-methods html
tnsPlotCovariates-methods html
tnsPlotCox-methods html
tnsPlotCoxInteraction-methods html
tnsPlotGSEA2-methods html
tnsPlotKM-methods html
tnsPlotKmInteraction-methods html
tnsPlotSRE-methods html
tnsSRD-methods html
tnsSRE-methods html
tnsStratification html
** building package indices
** installing vignettes
** testing if installed package can be loaded from temporary location
** testing if installed package can be loaded from final location
** testing if installed package keeps a record of temporary installation path
install for x64
* installing *source* package 'RTNsurvival' ...
** testing if installed package can be loaded
* MD5 sums
packaged installation of 'RTNsurvival' as RTNsurvival_1.8.3.zip
* DONE (RTNsurvival)
* installing to library 'C:/Users/biocbuild/bbs-3.9-bioc/R/library'
package 'RTNsurvival' successfully unpacked and MD5 sums checked