| Back to Multiple platform build/check report for BioC 3.9 | 
  | 
This page was generated on 2019-04-09 13:27:14 -0400 (Tue, 09 Apr 2019).
| Package 1336/1703 | Hostname | OS / Arch | INSTALL | BUILD | CHECK | BUILD BIN | ||||||
| RGalaxy 1.27.0 Bioconductor Package Maintainer 
  | malbec2 | Linux (Ubuntu 18.04.2 LTS) / x86_64 | OK | OK | OK | |||||||
| tokay2 | Windows Server 2012 R2 Standard / x64 | OK | OK | OK | OK | |||||||
| celaya2 | OS X 10.11.6 El Capitan / x86_64 | OK | OK | OK | OK | |||||||
| merida2 | OS X 10.11.6 El Capitan / x86_64 | OK | OK | OK | [ OK ] | 
| Package: RGalaxy | 
| Version: 1.27.0 | 
| Command: rm -rf RGalaxy.buildbin-libdir && mkdir RGalaxy.buildbin-libdir && /Users/biocbuild/BBS/utils/build-universal.sh RGalaxy_1.27.0.tar.gz /Library/Frameworks/R.framework/Versions/Current/Resources/bin/R RGalaxy.buildbin-libdir | 
| StartedAt: 2019-04-09 06:18:52 -0400 (Tue, 09 Apr 2019) | 
| EndedAt: 2019-04-09 06:20:09 -0400 (Tue, 09 Apr 2019) | 
| EllapsedTime: 77.7 seconds | 
| RetCode: 0 | 
| Status: OK | 
| PackageFile: RGalaxy_1.27.0.tgz | 
| PackageFileSize: 293.8 KiB | 
############################################################################## ############################################################################## ### ### Running command: ### ### rm -rf RGalaxy.buildbin-libdir && mkdir RGalaxy.buildbin-libdir && /Users/biocbuild/BBS/utils/build-universal.sh RGalaxy_1.27.0.tar.gz /Library/Frameworks/R.framework/Versions/Current/Resources/bin/R RGalaxy.buildbin-libdir ### ############################################################################## ############################################################################## >>>>>>> >>>>>>> INSTALLATION WITH 'R CMD INSTALL --preclean --no-multiarch --library=RGalaxy.buildbin-libdir RGalaxy_1.27.0.tar.gz' >>>>>>> * installing *source* package ‘RGalaxy’ ... ** R ** inst ** byte-compile and prepare package for lazy loading ** help *** installing help indices ** building package indices ** installing vignettes ** testing if installed package can be loaded * DONE (RGalaxy)