| Back to Multiple platform build/check report for BioC 3.9 |
|
This page was generated on 2019-10-16 12:55:56 -0400 (Wed, 16 Oct 2019).
| Package 1249/1741 | Hostname | OS / Arch | INSTALL | BUILD | CHECK | BUILD BIN | ||||||
| Prize 1.14.0 Daryanaz Dargahi
| malbec2 | Linux (Ubuntu 18.04.2 LTS) / x86_64 | OK | OK | OK | |||||||
| tokay2 | Windows Server 2012 R2 Standard / x64 | OK | OK | OK | OK | |||||||
| celaya2 | OS X 10.11.6 El Capitan / x86_64 | OK | OK | [ OK ] | OK |
| Package: Prize |
| Version: 1.14.0 |
| Command: /Library/Frameworks/R.framework/Versions/Current/Resources/bin/R CMD check --install=check:Prize.install-out.txt --library=/Library/Frameworks/R.framework/Versions/Current/Resources/library --no-vignettes --timings Prize_1.14.0.tar.gz |
| StartedAt: 2019-10-16 05:43:58 -0400 (Wed, 16 Oct 2019) |
| EndedAt: 2019-10-16 05:46:11 -0400 (Wed, 16 Oct 2019) |
| EllapsedTime: 133.3 seconds |
| RetCode: 0 |
| Status: OK |
| CheckDir: Prize.Rcheck |
| Warnings: 0 |
##############################################################################
##############################################################################
###
### Running command:
###
### /Library/Frameworks/R.framework/Versions/Current/Resources/bin/R CMD check --install=check:Prize.install-out.txt --library=/Library/Frameworks/R.framework/Versions/Current/Resources/library --no-vignettes --timings Prize_1.14.0.tar.gz
###
##############################################################################
##############################################################################
* using log directory ‘/Users/biocbuild/bbs-3.9-bioc/meat/Prize.Rcheck’
* using R version 3.6.1 (2019-07-05)
* using platform: x86_64-apple-darwin15.6.0 (64-bit)
* using session charset: UTF-8
* using option ‘--no-vignettes’
* checking for file ‘Prize/DESCRIPTION’ ... OK
* checking extension type ... Package
* this is package ‘Prize’ version ‘1.14.0’
* checking package namespace information ... OK
* checking package dependencies ... OK
* checking if this is a source package ... OK
* checking if there is a namespace ... OK
* checking for hidden files and directories ... OK
* checking for portable file names ... OK
* checking for sufficient/correct file permissions ... OK
* checking whether package ‘Prize’ can be installed ... OK
* checking installed package size ... OK
* checking package directory ... OK
* checking ‘build’ directory ... OK
* checking DESCRIPTION meta-information ... OK
* checking top-level files ... OK
* checking for left-over files ... OK
* checking index information ... OK
* checking package subdirectories ... OK
* checking R files for non-ASCII characters ... OK
* checking R files for syntax errors ... OK
* checking whether the package can be loaded ... OK
* checking whether the package can be loaded with stated dependencies ... OK
* checking whether the package can be unloaded cleanly ... OK
* checking whether the namespace can be loaded with stated dependencies ... OK
* checking whether the namespace can be unloaded cleanly ... OK
* checking dependencies in R code ... OK
* checking S3 generic/method consistency ... OK
* checking replacement functions ... OK
* checking foreign function calls ... OK
* checking R code for possible problems ... OK
* checking Rd files ... OK
* checking Rd metadata ... OK
* checking Rd cross-references ... OK
* checking for missing documentation entries ... OK
* checking for code/documentation mismatches ... OK
* checking Rd \usage sections ... OK
* checking Rd contents ... OK
* checking for unstated dependencies in examples ... OK
* checking sizes of PDF files under ‘inst/doc’ ... OK
* checking files in ‘vignettes’ ... OK
* checking examples ... OK
Examples with CPU or elapsed time > 5s
user system elapsed
Prize-package 9.172 0.155 9.337
gaggregate 5.865 0.023 5.890
* checking for unstated dependencies in ‘tests’ ... OK
* checking tests ...
Running ‘runTests.R’
OK
* checking for unstated dependencies in vignettes ... OK
* checking package vignettes in ‘inst/doc’ ... OK
* checking running R code from vignettes ... SKIPPED
* checking re-building of vignette outputs ... SKIPPED
* checking PDF version of manual ... OK
* DONE
Status: OK
Prize.Rcheck/00install.out
############################################################################## ############################################################################## ### ### Running command: ### ### /Library/Frameworks/R.framework/Versions/Current/Resources/bin/R CMD INSTALL Prize ### ############################################################################## ############################################################################## * installing to library ‘/Library/Frameworks/R.framework/Versions/3.6/Resources/library’ * installing *source* package ‘Prize’ ... ** using staged installation ** R ** inst ** byte-compile and prepare package for lazy loading ** help *** installing help indices ** building package indices ** installing vignettes ** testing if installed package can be loaded from temporary location ** testing if installed package can be loaded from final location ** testing if installed package keeps a record of temporary installation path * DONE (Prize)
Prize.Rcheck/tests/runTests.Rout
R version 3.6.1 (2019-07-05) -- "Action of the Toes"
Copyright (C) 2019 The R Foundation for Statistical Computing
Platform: x86_64-apple-darwin15.6.0 (64-bit)
R is free software and comes with ABSOLUTELY NO WARRANTY.
You are welcome to redistribute it under certain conditions.
Type 'license()' or 'licence()' for distribution details.
R is a collaborative project with many contributors.
Type 'contributors()' for more information and
'citation()' on how to cite R or R packages in publications.
Type 'demo()' for some demos, 'help()' for on-line help, or
'help.start()' for an HTML browser interface to help.
Type 'q()' to quit R.
> BiocGenerics:::testPackage("Prize")
Loading required package: shape
Reading individual judgements.
Aggregating individual judgements with geometric mean (AIJ).
Computing group consistency ratio (GCR).
Computing consensus index (CI).
Reading individual judgements.
Aggregating individual priorities with arithmetic mean (AIP).
0 Prioritization_of_DE_genes is processed.
1 Tumor_expression is processed.
2 Normal_expression is processed.
3 Frequency is processed.
4 Epitopes is processed.
4.1 Number_of_epitopes is processed.
4.2 Size_of_epitopes is processed.
RUNIT TEST PROTOCOL -- Wed Oct 16 05:46:04 2019
***********************************************
Number of test functions: 5
Number of errors: 0
Number of failures: 0
1 Test Suite :
Prize RUnit Tests - 5 test functions, 0 errors, 0 failures
Number of test functions: 5
Number of errors: 0
Number of failures: 0
>
> proc.time()
user system elapsed
11.898 0.495 12.348
Prize.Rcheck/Prize-Ex.timings
| name | user | system | elapsed | |
| AIJ | 2.687 | 0.128 | 2.820 | |
| AIP | 1.764 | 0.010 | 1.775 | |
| CI | 2.592 | 0.013 | 2.606 | |
| GCR | 2.649 | 0.010 | 2.660 | |
| ICR | 4.415 | 0.056 | 4.472 | |
| IP | 4.253 | 0.013 | 4.267 | |
| Prize-package | 9.172 | 0.155 | 9.337 | |
| RM | 0.479 | 0.004 | 0.484 | |
| ahmatrix | 0.001 | 0.000 | 0.001 | |
| ahp | 0.428 | 0.001 | 0.428 | |
| ahp_matrix | 0.001 | 0.001 | 0.001 | |
| ahp_plot | 3.651 | 0.083 | 3.735 | |
| ahp_weights | 3.965 | 0.075 | 4.043 | |
| ahplot | 0.043 | 0.002 | 0.046 | |
| crplot | 0.414 | 0.003 | 0.417 | |
| dplot | 0.179 | 0.002 | 0.180 | |
| gaggregate | 5.865 | 0.023 | 5.890 | |
| pipeline | 3.737 | 0.064 | 3.802 | |
| rainbow_plot | 3.819 | 0.059 | 3.880 | |
| rainbowplot | 0.396 | 0.004 | 0.400 | |
| rating | 0.971 | 0.003 | 0.974 | |
| saaty_inconsistency | 4.567 | 0.055 | 4.623 | |
| simulation | 3.354 | 0.059 | 3.413 | |
| weight | 0.839 | 0.009 | 0.849 | |
| weight_plot | 3.602 | 0.070 | 3.673 | |
| wplot | 0.660 | 0.008 | 0.668 | |