| Back to Multiple platform build/check report for BioC 3.9 |
|
This page was generated on 2019-10-16 12:16:54 -0400 (Wed, 16 Oct 2019).
| Package 1194/1741 | Hostname | OS / Arch | INSTALL | BUILD | CHECK | BUILD BIN | ||||||
| PepsNMR 1.2.1 Manon Martin
| malbec2 | Linux (Ubuntu 18.04.2 LTS) / x86_64 | OK | OK | [ OK ] | |||||||
| tokay2 | Windows Server 2012 R2 Standard / x64 | OK | OK | OK | OK | |||||||
| celaya2 | OS X 10.11.6 El Capitan / x86_64 | OK | OK | OK | OK |
| Package: PepsNMR |
| Version: 1.2.1 |
| Command: /home/biocbuild/bbs-3.9-bioc/R/bin/R CMD check --install=check:PepsNMR.install-out.txt --library=/home/biocbuild/bbs-3.9-bioc/R/library --no-vignettes --timings PepsNMR_1.2.1.tar.gz |
| StartedAt: 2019-10-16 03:51:48 -0400 (Wed, 16 Oct 2019) |
| EndedAt: 2019-10-16 04:02:37 -0400 (Wed, 16 Oct 2019) |
| EllapsedTime: 649.2 seconds |
| RetCode: 0 |
| Status: OK |
| CheckDir: PepsNMR.Rcheck |
| Warnings: 0 |
##############################################################################
##############################################################################
###
### Running command:
###
### /home/biocbuild/bbs-3.9-bioc/R/bin/R CMD check --install=check:PepsNMR.install-out.txt --library=/home/biocbuild/bbs-3.9-bioc/R/library --no-vignettes --timings PepsNMR_1.2.1.tar.gz
###
##############################################################################
##############################################################################
* using log directory ‘/home/biocbuild/bbs-3.9-bioc/meat/PepsNMR.Rcheck’
* using R version 3.6.1 (2019-07-05)
* using platform: x86_64-pc-linux-gnu (64-bit)
* using session charset: UTF-8
* using option ‘--no-vignettes’
* checking for file ‘PepsNMR/DESCRIPTION’ ... OK
* checking extension type ... Package
* this is package ‘PepsNMR’ version ‘1.2.1’
* package encoding: UTF-8
* checking package namespace information ... OK
* checking package dependencies ... OK
* checking if this is a source package ... OK
* checking if there is a namespace ... OK
* checking for hidden files and directories ... OK
* checking for portable file names ... OK
* checking for sufficient/correct file permissions ... OK
* checking whether package ‘PepsNMR’ can be installed ... OK
* checking installed package size ... OK
* checking package directory ... OK
* checking ‘build’ directory ... OK
* checking DESCRIPTION meta-information ... OK
* checking top-level files ... OK
* checking for left-over files ... OK
* checking index information ... OK
* checking package subdirectories ... OK
* checking R files for non-ASCII characters ... OK
* checking R files for syntax errors ... OK
* checking whether the package can be loaded ... OK
* checking whether the package can be loaded with stated dependencies ... OK
* checking whether the package can be unloaded cleanly ... OK
* checking whether the namespace can be loaded with stated dependencies ... OK
* checking whether the namespace can be unloaded cleanly ... OK
* checking dependencies in R code ... OK
* checking S3 generic/method consistency ... OK
* checking replacement functions ... OK
* checking foreign function calls ... OK
* checking R code for possible problems ... OK
* checking Rd files ... OK
* checking Rd metadata ... OK
* checking Rd cross-references ... OK
* checking for missing documentation entries ... OK
* checking for code/documentation mismatches ... OK
* checking Rd \usage sections ... OK
* checking Rd contents ... OK
* checking for unstated dependencies in examples ... OK
* checking files in ‘vignettes’ ... OK
* checking examples ... OK
Examples with CPU or elapsed time > 5s
user system elapsed
PreprocessingChain 285.646 1.261 287.317
PEPSNMR-package 282.406 2.045 286.547
Warping 11.324 0.024 11.348
* checking for unstated dependencies in vignettes ... OK
* checking package vignettes in ‘inst/doc’ ... OK
* checking running R code from vignettes ... SKIPPED
* checking re-building of vignette outputs ... SKIPPED
* checking PDF version of manual ... OK
* DONE
Status: OK
PepsNMR.Rcheck/00install.out
############################################################################## ############################################################################## ### ### Running command: ### ### /home/biocbuild/bbs-3.9-bioc/R/bin/R CMD INSTALL PepsNMR ### ############################################################################## ############################################################################## * installing to library ‘/home/biocbuild/bbs-3.9-bioc/R/library’ * installing *source* package ‘PepsNMR’ ... ** using staged installation ** R ** inst ** byte-compile and prepare package for lazy loading ** help *** installing help indices ** building package indices ** installing vignettes ** testing if installed package can be loaded from temporary location ** testing if installed package can be loaded from final location ** testing if installed package keeps a record of temporary installation path * DONE (PepsNMR)
PepsNMR.Rcheck/PepsNMR-Ex.timings
| name | user | system | elapsed | |
| Apodization | 0.577 | 0.039 | 0.828 | |
| BaselineCorrection | 0.424 | 0.016 | 0.440 | |
| Bucketing | 0.052 | 0.000 | 0.052 | |
| Draw | 1.304 | 0.000 | 1.305 | |
| DrawPCA | 0.604 | 0.000 | 0.604 | |
| DrawSignal | 0.660 | 0.003 | 0.664 | |
| FirstOrderPhaseCorrection | 0.027 | 0.007 | 0.035 | |
| FourierTransform | 0.018 | 0.008 | 0.026 | |
| GroupDelayCorrection | 0.037 | 0.004 | 0.041 | |
| InternalReferencing | 0.021 | 0.000 | 0.020 | |
| NegativeValuesZeroing | 0.014 | 0.004 | 0.017 | |
| Normalization | 0.007 | 0.000 | 0.007 | |
| PEPSNMR-package | 282.406 | 2.045 | 286.547 | |
| PreprocessingChain | 285.646 | 1.261 | 287.317 | |
| ReadFids | 0.308 | 0.010 | 0.319 | |
| RegionRemoval | 0.011 | 0.000 | 0.011 | |
| SolventSuppression | 0.142 | 0.000 | 0.142 | |
| Warping | 11.324 | 0.024 | 11.348 | |
| WindowSelection | 0.023 | 0.000 | 0.024 | |
| ZeroFilling | 0.068 | 0.000 | 0.068 | |
| ZeroOrderPhaseCorrection | 0.074 | 0.000 | 0.075 | |
| ZoneAggregation | 0.277 | 0.008 | 0.508 | |