| Back to Multiple platform build/check report for BioC 3.9 | 
  | 
This page was generated on 2019-10-16 12:31:15 -0400 (Wed, 16 Oct 2019).
| Package 1271/1741 | Hostname | OS / Arch | INSTALL | BUILD | CHECK | BUILD BIN | ||||||
| PSEA 1.18.0 Alexandre Kuhn 
  | malbec2 | Linux (Ubuntu 18.04.2 LTS) / x86_64 | OK | OK | OK | |||||||
| tokay2 | Windows Server 2012 R2 Standard / x64 | OK | OK | OK | [ OK ] | |||||||
| celaya2 | OS X 10.11.6 El Capitan / x86_64 | OK | OK | OK | OK | 
| Package: PSEA | 
| Version: 1.18.0 | 
| Command: rm -rf PSEA.buildbin-libdir && mkdir PSEA.buildbin-libdir && C:\Users\biocbuild\bbs-3.9-bioc\R\bin\R.exe CMD INSTALL --merge-multiarch --build --library=PSEA.buildbin-libdir PSEA_1.18.0.tar.gz | 
| StartedAt: 2019-10-16 09:57:48 -0400 (Wed, 16 Oct 2019) | 
| EndedAt: 2019-10-16 09:58:16 -0400 (Wed, 16 Oct 2019) | 
| EllapsedTime: 28.0 seconds | 
| RetCode: 0 | 
| Status: OK | 
| PackageFile: PSEA_1.18.0.zip | 
| PackageFileSize: 6.157 MiB | 
##############################################################################
##############################################################################
###
### Running command:
###
###   rm -rf PSEA.buildbin-libdir && mkdir PSEA.buildbin-libdir && C:\Users\biocbuild\bbs-3.9-bioc\R\bin\R.exe CMD INSTALL --merge-multiarch --build --library=PSEA.buildbin-libdir PSEA_1.18.0.tar.gz
###
##############################################################################
##############################################################################
install for i386
* installing *source* package 'PSEA' ...
** using staged installation
** R
** data
** inst
** byte-compile and prepare package for lazy loading
** help
*** installing help indices
  converting help for package 'PSEA'
    finding HTML links ... done
    coefmat                                 html  
    crplot                                  html  
    em_quantvg                              html  
    expression                              html  
    expression_GSE19380                     html  
    fmm                                     html  
    groups                                  html  
    information                             html  
    lmfitst                                 html  
    marker                                  html  
    pvalmat                                 html  
    slt                                     html  
    swlm                                    html  
** building package indices
** installing vignettes
** testing if installed package can be loaded from temporary location
** testing if installed package can be loaded from final location
** testing if installed package keeps a record of temporary installation path
install for x64
* installing *source* package 'PSEA' ...
** testing if installed package can be loaded
* MD5 sums
packaged installation of 'PSEA' as PSEA_1.18.0.zip
* DONE (PSEA)