| Back to Multiple platform build/check report for BioC 3.9 |
|
This page was generated on 2019-10-16 12:15:21 -0400 (Wed, 16 Oct 2019).
| Package 1157/1741 | Hostname | OS / Arch | INSTALL | BUILD | CHECK | BUILD BIN | ||||||
| OUTRIDER 1.2.4 Christian Mertes
| malbec2 | Linux (Ubuntu 18.04.2 LTS) / x86_64 | OK | OK | [ OK ] | |||||||
| tokay2 | Windows Server 2012 R2 Standard / x64 | OK | OK | OK | OK | |||||||
| celaya2 | OS X 10.11.6 El Capitan / x86_64 | OK | OK | OK | OK |
| Package: OUTRIDER |
| Version: 1.2.4 |
| Command: /home/biocbuild/bbs-3.9-bioc/R/bin/R CMD check --install=check:OUTRIDER.install-out.txt --library=/home/biocbuild/bbs-3.9-bioc/R/library --no-vignettes --timings OUTRIDER_1.2.4.tar.gz |
| StartedAt: 2019-10-16 03:43:34 -0400 (Wed, 16 Oct 2019) |
| EndedAt: 2019-10-16 03:49:48 -0400 (Wed, 16 Oct 2019) |
| EllapsedTime: 374.6 seconds |
| RetCode: 0 |
| Status: OK |
| CheckDir: OUTRIDER.Rcheck |
| Warnings: 0 |
##############################################################################
##############################################################################
###
### Running command:
###
### /home/biocbuild/bbs-3.9-bioc/R/bin/R CMD check --install=check:OUTRIDER.install-out.txt --library=/home/biocbuild/bbs-3.9-bioc/R/library --no-vignettes --timings OUTRIDER_1.2.4.tar.gz
###
##############################################################################
##############################################################################
* using log directory ‘/home/biocbuild/bbs-3.9-bioc/meat/OUTRIDER.Rcheck’
* using R version 3.6.1 (2019-07-05)
* using platform: x86_64-pc-linux-gnu (64-bit)
* using session charset: UTF-8
* using option ‘--no-vignettes’
* checking for file ‘OUTRIDER/DESCRIPTION’ ... OK
* checking extension type ... Package
* this is package ‘OUTRIDER’ version ‘1.2.4’
* package encoding: UTF-8
* checking package namespace information ... OK
* checking package dependencies ... OK
* checking if this is a source package ... OK
* checking if there is a namespace ... OK
* checking for hidden files and directories ... OK
* checking for portable file names ... OK
* checking for sufficient/correct file permissions ... OK
* checking whether package ‘OUTRIDER’ can be installed ... OK
* checking installed package size ... OK
* checking package directory ... OK
* checking ‘build’ directory ... OK
* checking DESCRIPTION meta-information ... OK
* checking top-level files ... OK
* checking for left-over files ... OK
* checking index information ... OK
* checking package subdirectories ... OK
* checking R files for non-ASCII characters ... OK
* checking R files for syntax errors ... OK
* checking whether the package can be loaded ... OK
* checking whether the package can be loaded with stated dependencies ... OK
* checking whether the package can be unloaded cleanly ... OK
* checking whether the namespace can be loaded with stated dependencies ... OK
* checking whether the namespace can be unloaded cleanly ... OK
* checking dependencies in R code ... OK
* checking S3 generic/method consistency ... OK
* checking replacement functions ... OK
* checking foreign function calls ... OK
* checking R code for possible problems ... OK
* checking Rd files ... OK
* checking Rd metadata ... OK
* checking Rd cross-references ... OK
* checking for missing documentation entries ... OK
* checking for code/documentation mismatches ... OK
* checking Rd \usage sections ... OK
* checking Rd contents ... OK
* checking for unstated dependencies in examples ... OK
* checking line endings in C/C++/Fortran sources/headers ... OK
* checking line endings in Makefiles ... OK
* checking compilation flags in Makevars ... OK
* checking for GNU extensions in Makefiles ... OK
* checking for portable use of $(BLAS_LIBS) and $(LAPACK_LIBS) ... OK
* checking compiled code ... NOTE
Note: information on .o files is not available
* checking files in ‘vignettes’ ... OK
* checking examples ... OK
Examples with CPU or elapsed time > 5s
user system elapsed
findEncodingDim 6.918 0.007 6.787
plotFunctions 6.197 0.105 5.744
OUTRIDER 5.225 0.976 5.540
* checking for unstated dependencies in ‘tests’ ... OK
* checking tests ...
Running ‘testthat.R’
OK
* checking for unstated dependencies in vignettes ... OK
* checking package vignettes in ‘inst/doc’ ... OK
* checking running R code from vignettes ... SKIPPED
* checking re-building of vignette outputs ... SKIPPED
* checking PDF version of manual ... OK
* DONE
Status: 1 NOTE
See
‘/home/biocbuild/bbs-3.9-bioc/meat/OUTRIDER.Rcheck/00check.log’
for details.
OUTRIDER.Rcheck/00install.out
############################################################################## ############################################################################## ### ### Running command: ### ### /home/biocbuild/bbs-3.9-bioc/R/bin/R CMD INSTALL OUTRIDER ### ############################################################################## ############################################################################## * installing to library ‘/home/biocbuild/bbs-3.9-bioc/R/library’ * installing *source* package ‘OUTRIDER’ ... ** using staged installation ** libs g++ -std=gnu++11 -I"/home/biocbuild/bbs-3.9-bioc/R/include" -DNDEBUG -I"/home/biocbuild/bbs-3.9-bioc/R/library/Rcpp/include" -I"/home/biocbuild/bbs-3.9-bioc/R/library/RcppArmadillo/include" -I/usr/local/include -fopenmp -fpic -g -O2 -Wall -c RcppExports.cpp -o RcppExports.o g++ -std=gnu++11 -I"/home/biocbuild/bbs-3.9-bioc/R/include" -DNDEBUG -I"/home/biocbuild/bbs-3.9-bioc/R/library/Rcpp/include" -I"/home/biocbuild/bbs-3.9-bioc/R/library/RcppArmadillo/include" -I/usr/local/include -fopenmp -fpic -g -O2 -Wall -c loss_n_gradient_functions.cpp -o loss_n_gradient_functions.o g++ -std=gnu++11 -shared -L/home/biocbuild/bbs-3.9-bioc/R/lib -L/usr/local/lib -o OUTRIDER.so RcppExports.o loss_n_gradient_functions.o -fopenmp -L/home/biocbuild/bbs-3.9-bioc/R/lib -lRlapack -L/home/biocbuild/bbs-3.9-bioc/R/lib -lRblas -lgfortran -lm -lquadmath -L/home/biocbuild/bbs-3.9-bioc/R/lib -lR installing to /home/biocbuild/bbs-3.9-bioc/R/library/00LOCK-OUTRIDER/00new/OUTRIDER/libs ** R ** inst ** byte-compile and prepare package for lazy loading ** help *** installing help indices ** building package indices ** installing vignettes ** testing if installed package can be loaded from temporary location ** checking absolute paths in shared objects and dynamic libraries ** testing if installed package can be loaded from final location ** testing if installed package keeps a record of temporary installation path * DONE (OUTRIDER)
OUTRIDER.Rcheck/tests/testthat.Rout
R version 3.6.1 (2019-07-05) -- "Action of the Toes"
Copyright (C) 2019 The R Foundation for Statistical Computing
Platform: x86_64-pc-linux-gnu (64-bit)
R is free software and comes with ABSOLUTELY NO WARRANTY.
You are welcome to redistribute it under certain conditions.
Type 'license()' or 'licence()' for distribution details.
R is a collaborative project with many contributors.
Type 'contributors()' for more information and
'citation()' on how to cite R or R packages in publications.
Type 'demo()' for some demos, 'help()' for on-line help, or
'help.start()' for an HTML browser interface to help.
Type 'q()' to quit R.
> library(testthat)
> library(OUTRIDER)
Loading required package: BiocParallel
Loading required package: GenomicFeatures
Loading required package: BiocGenerics
Loading required package: parallel
Attaching package: 'BiocGenerics'
The following objects are masked from 'package:parallel':
clusterApply, clusterApplyLB, clusterCall, clusterEvalQ,
clusterExport, clusterMap, parApply, parCapply, parLapply,
parLapplyLB, parRapply, parSapply, parSapplyLB
The following objects are masked from 'package:stats':
IQR, mad, sd, var, xtabs
The following objects are masked from 'package:base':
Filter, Find, Map, Position, Reduce, anyDuplicated, append,
as.data.frame, basename, cbind, colnames, dirname, do.call,
duplicated, eval, evalq, get, grep, grepl, intersect, is.unsorted,
lapply, mapply, match, mget, order, paste, pmax, pmax.int, pmin,
pmin.int, rank, rbind, rownames, sapply, setdiff, sort, table,
tapply, union, unique, unsplit, which, which.max, which.min
Loading required package: S4Vectors
Loading required package: stats4
Attaching package: 'S4Vectors'
The following object is masked from 'package:base':
expand.grid
Loading required package: IRanges
Loading required package: GenomeInfoDb
Loading required package: GenomicRanges
Loading required package: AnnotationDbi
Loading required package: Biobase
Welcome to Bioconductor
Vignettes contain introductory material; view with
'browseVignettes()'. To cite Bioconductor, see
'citation("Biobase")', and for packages 'citation("pkgname")'.
Loading required package: SummarizedExperiment
Loading required package: DelayedArray
Loading required package: matrixStats
Attaching package: 'matrixStats'
The following objects are masked from 'package:Biobase':
anyMissing, rowMedians
Attaching package: 'DelayedArray'
The following objects are masked from 'package:matrixStats':
colMaxs, colMins, colRanges, rowMaxs, rowMins, rowRanges
The following objects are masked from 'package:base':
aperm, apply, rowsum
Loading required package: data.table
Attaching package: 'data.table'
The following object is masked from 'package:SummarizedExperiment':
shift
The following object is masked from 'package:GenomicRanges':
shift
The following object is masked from 'package:IRanges':
shift
The following objects are masked from 'package:S4Vectors':
first, second
>
> register(SerialParam())
>
> test_check("OUTRIDER")
[1] "Wed Oct 16 03:49:01 2019: Initial PCA loss: 6.07872789593612"
[1] "Wed Oct 16 03:49:02 2019: Iteration: 1 loss: 4.34950890563925"
[1] "Wed Oct 16 03:49:02 2019: Iteration: 2 loss: 4.28550387431445"
[1] "Wed Oct 16 03:49:03 2019: Iteration: 3 loss: 4.25771354182273"
[1] "Wed Oct 16 03:49:03 2019: Iteration: 4 loss: 4.25224096668731"
[1] "Wed Oct 16 03:49:03 2019: Iteration: 5 loss: 4.24680883264253"
[1] "Wed Oct 16 03:49:04 2019: Iteration: 6 loss: 4.24420008777541"
Time difference of 2.167646 secs
[1] "Wed Oct 16 03:49:04 2019: 6 Final nb-AE loss: 4.24420008777541"
[1] "Wed Oct 16 03:49:04 2019: Initial PCA loss: 6.07872789593612"
[1] "Wed Oct 16 03:49:05 2019: Iteration: 1 loss: 4.34950890563925"
[1] "Wed Oct 16 03:49:06 2019: Iteration: 2 loss: 4.28550387431445"
[1] "Wed Oct 16 03:49:06 2019: Iteration: 3 loss: 4.25771354182273"
[1] "Wed Oct 16 03:49:07 2019: Iteration: 4 loss: 4.25224096668731"
[1] "Wed Oct 16 03:49:07 2019: Iteration: 5 loss: 4.24680883264253"
[1] "Wed Oct 16 03:49:07 2019: Iteration: 6 loss: 4.24420008777541"
Time difference of 2.64923 secs
[1] "Wed Oct 16 03:49:07 2019: 6 Final nb-AE loss: 4.24420008777541"
class: OutriderDataSet
class: RangedSummarizedExperiment
dim: 100 50
metadata(1): version
assays(1): counts
rownames(100): ENSG00000223972.4 ENSG00000227232.4 ...
ENSG00000107404.13 ENSG00000162576.12
rowData names(0):
colnames(50): GTEX.UPK5.0426.SM.3GAEK GTEX.WFG7.2026.SM.3GIL7 ...
GTEX.11UD2.2526.SM.5CVNU GTEX.13O61.1426.SM.5KM3D
colData names(1): sampleID
[1] "Wed Oct 16 03:49:19 2019: Initial PCA loss: 4.47163408821507"
[1] "Wed Oct 16 03:49:19 2019: Iteration: 1 loss: 4.11036262081535"
[1] "Wed Oct 16 03:49:20 2019: Iteration: 2 loss: 4.09889658478883"
Time difference of 0.6533108 secs
[1] "Wed Oct 16 03:49:20 2019: 2 Final nb-AE loss: 4.09889658478883"
[1] "Evaluation loss: 0.670322215530675"
[1] "Wed Oct 16 03:49:20 2019: Initial PCA loss: 4.4417254467137"
[1] "Wed Oct 16 03:49:21 2019: Iteration: 1 loss: 4.0542483950656"
[1] "Wed Oct 16 03:49:21 2019: Iteration: 2 loss: 4.04150176920689"
Time difference of 0.6874249 secs
[1] "Wed Oct 16 03:49:21 2019: 2 Final nb-AE loss: 4.04150176920689"
[1] "Evaluation loss: 0.657035905726537"
[1] "Wed Oct 16 03:49:21 2019: Initial PCA loss: 4.41566849939134"
[1] "Wed Oct 16 03:49:22 2019: Iteration: 1 loss: 3.97742851284453"
[1] "Wed Oct 16 03:49:23 2019: Iteration: 2 loss: 3.96061494070534"
Time difference of 0.7992077 secs
[1] "Wed Oct 16 03:49:23 2019: 2 Final nb-AE loss: 3.96061494070534"
[1] "Evaluation loss: 0.661447304876924"
[1] "Wed Oct 16 03:49:28 2019: Initial PCA loss: 6.46616282459584"
[1] "Wed Oct 16 03:49:29 2019: Iteration: 1 loss: 4.8154263846794"
[1] "Wed Oct 16 03:49:30 2019: Iteration: 2 loss: 4.79016305976782"
Time difference of 1.320386 secs
[1] "Wed Oct 16 03:49:30 2019: 2 Final nb-AE loss: 4.79016305976782"
══ testthat results ═══════════════════════════════════════════════════════════
[ OK: 96 | SKIPPED: 0 | WARNINGS: 37 | FAILED: 0 ]
>
> proc.time()
user system elapsed
112.635 1.299 59.810
OUTRIDER.Rcheck/OUTRIDER-Ex.timings
| name | user | system | elapsed | |
| OUTRIDER | 5.225 | 0.976 | 5.540 | |
| OutriderDataSet-class | 0.465 | 0.036 | 0.516 | |
| aberrant | 3.051 | 0.782 | 2.862 | |
| computeGeneLength | 1.198 | 0.045 | 1.348 | |
| computeLatentSpace | 0.398 | 0.000 | 0.399 | |
| computePvalues | 2.193 | 0.682 | 2.391 | |
| computeZscores | 0.509 | 0.039 | 0.527 | |
| controlForConfounders | 0.780 | 0.016 | 0.796 | |
| counts | 0.348 | 0.000 | 0.348 | |
| estimateBestQ | 0.213 | 0.000 | 0.213 | |
| filterExpression | 0.917 | 0.006 | 0.903 | |
| findEncodingDim | 6.918 | 0.007 | 6.787 | |
| fit | 0.556 | 0.012 | 0.567 | |
| fpkm | 0.446 | 0.000 | 0.445 | |
| getter_setter_functions | 1.475 | 0.003 | 1.479 | |
| makeExampleOutriderDataSet | 0.518 | 0.001 | 0.518 | |
| normalizationFactors | 0.382 | 0.000 | 0.381 | |
| plotFunctions | 6.197 | 0.105 | 5.744 | |
| results | 1.398 | 0.005 | 1.383 | |
| sampleExclusionMask | 0.247 | 0.000 | 0.247 | |
| sizeFactors | 0.364 | 0.000 | 0.364 | |