| Back to Multiple platform build/check report for BioC 3.9 |
|
This page was generated on 2019-10-16 13:03:16 -0400 (Wed, 16 Oct 2019).
| Package 1110/1741 | Hostname | OS / Arch | INSTALL | BUILD | CHECK | BUILD BIN | ||||||
| NormalyzerDE 1.2.0 Jakob Willforss
| malbec2 | Linux (Ubuntu 18.04.2 LTS) / x86_64 | OK | OK | OK | |||||||
| tokay2 | Windows Server 2012 R2 Standard / x64 | OK | OK | OK | OK | |||||||
| celaya2 | OS X 10.11.6 El Capitan / x86_64 | OK | OK | [ OK ] | OK |
| Package: NormalyzerDE |
| Version: 1.2.0 |
| Command: /Library/Frameworks/R.framework/Versions/Current/Resources/bin/R CMD check --install=check:NormalyzerDE.install-out.txt --library=/Library/Frameworks/R.framework/Versions/Current/Resources/library --no-vignettes --timings NormalyzerDE_1.2.0.tar.gz |
| StartedAt: 2019-10-16 05:07:19 -0400 (Wed, 16 Oct 2019) |
| EndedAt: 2019-10-16 05:15:01 -0400 (Wed, 16 Oct 2019) |
| EllapsedTime: 461.3 seconds |
| RetCode: 0 |
| Status: OK |
| CheckDir: NormalyzerDE.Rcheck |
| Warnings: 0 |
##############################################################################
##############################################################################
###
### Running command:
###
### /Library/Frameworks/R.framework/Versions/Current/Resources/bin/R CMD check --install=check:NormalyzerDE.install-out.txt --library=/Library/Frameworks/R.framework/Versions/Current/Resources/library --no-vignettes --timings NormalyzerDE_1.2.0.tar.gz
###
##############################################################################
##############################################################################
* using log directory ‘/Users/biocbuild/bbs-3.9-bioc/meat/NormalyzerDE.Rcheck’
* using R version 3.6.1 (2019-07-05)
* using platform: x86_64-apple-darwin15.6.0 (64-bit)
* using session charset: UTF-8
* using option ‘--no-vignettes’
* checking for file ‘NormalyzerDE/DESCRIPTION’ ... OK
* this is package ‘NormalyzerDE’ version ‘1.2.0’
* package encoding: UTF-8
* checking package namespace information ... OK
* checking package dependencies ... OK
* checking if this is a source package ... OK
* checking if there is a namespace ... OK
* checking for hidden files and directories ... NOTE
Found the following hidden files and directories:
.travis.yml
These were most likely included in error. See section ‘Package
structure’ in the ‘Writing R Extensions’ manual.
* checking for portable file names ... OK
* checking for sufficient/correct file permissions ... OK
* checking whether package ‘NormalyzerDE’ can be installed ... OK
* checking installed package size ... OK
* checking package directory ... OK
* checking ‘build’ directory ... OK
* checking DESCRIPTION meta-information ... OK
* checking top-level files ... OK
* checking for left-over files ... OK
* checking index information ... OK
* checking package subdirectories ... OK
* checking R files for non-ASCII characters ... OK
* checking R files for syntax errors ... OK
* checking whether the package can be loaded ... OK
* checking whether the package can be loaded with stated dependencies ... OK
* checking whether the package can be unloaded cleanly ... OK
* checking whether the namespace can be loaded with stated dependencies ... OK
* checking whether the namespace can be unloaded cleanly ... OK
* checking dependencies in R code ... NOTE
Missing or unexported object: ‘SummarizedExperiment::metadata’
* checking S3 generic/method consistency ... OK
* checking replacement functions ... OK
* checking foreign function calls ... OK
* checking R code for possible problems ... OK
* checking Rd files ... OK
* checking Rd metadata ... OK
* checking Rd cross-references ... OK
* checking for missing documentation entries ... OK
* checking for code/documentation mismatches ... OK
* checking Rd \usage sections ... OK
* checking Rd contents ... OK
* checking for unstated dependencies in examples ... OK
* checking contents of ‘data’ directory ... OK
* checking data for non-ASCII characters ... OK
* checking data for ASCII and uncompressed saves ... OK
* checking sizes of PDF files under ‘inst/doc’ ... OK
* checking files in ‘vignettes’ ... OK
* checking examples ... OK
Examples with CPU or elapsed time > 5s
user system elapsed
generatePlots 28.109 0.595 28.765
NormalyzerEvaluationResults 8.960 0.309 9.269
analyzeNormalizations 8.686 0.089 8.776
writeNormalizedDatasets 8.509 0.053 8.561
getSmoothedRTNormalizedMatrix 5.979 0.269 6.249
* checking for unstated dependencies in ‘tests’ ... OK
* checking tests ...
Running ‘testthat.R’
OK
* checking for unstated dependencies in vignettes ... OK
* checking package vignettes in ‘inst/doc’ ... OK
* checking running R code from vignettes ... SKIPPED
* checking re-building of vignette outputs ... SKIPPED
* checking PDF version of manual ... OK
* DONE
Status: 2 NOTEs
See
‘/Users/biocbuild/bbs-3.9-bioc/meat/NormalyzerDE.Rcheck/00check.log’
for details.
NormalyzerDE.Rcheck/00install.out
############################################################################## ############################################################################## ### ### Running command: ### ### /Library/Frameworks/R.framework/Versions/Current/Resources/bin/R CMD INSTALL NormalyzerDE ### ############################################################################## ############################################################################## * installing to library ‘/Library/Frameworks/R.framework/Versions/3.6/Resources/library’ * installing *source* package ‘NormalyzerDE’ ... ** using staged installation ** R ** data ** inst ** byte-compile and prepare package for lazy loading ** help *** installing help indices ** building package indices ** installing vignettes ** testing if installed package can be loaded from temporary location ** testing if installed package can be loaded from final location ** testing if installed package keeps a record of temporary installation path * DONE (NormalyzerDE)
NormalyzerDE.Rcheck/tests/testthat.Rout
R version 3.6.1 (2019-07-05) -- "Action of the Toes"
Copyright (C) 2019 The R Foundation for Statistical Computing
Platform: x86_64-apple-darwin15.6.0 (64-bit)
R is free software and comes with ABSOLUTELY NO WARRANTY.
You are welcome to redistribute it under certain conditions.
Type 'license()' or 'licence()' for distribution details.
R is a collaborative project with many contributors.
Type 'contributors()' for more information and
'citation()' on how to cite R or R packages in publications.
Type 'demo()' for some demos, 'help()' for on-line help, or
'help.start()' for an HTML browser interface to help.
Type 'q()' to quit R.
> library(testthat)
> library(NormalyzerDE)
> test_check("NormalyzerDE")
══ testthat results ═══════════════════════════════════════════════════════════
[ OK: 85 | SKIPPED: 0 | WARNINGS: 78 | FAILED: 0 ]
>
> proc.time()
user system elapsed
47.147 1.919 49.032
NormalyzerDE.Rcheck/NormalyzerDE-Ex.timings
| name | user | system | elapsed | |
| NormalyzerEvaluationResults | 8.960 | 0.309 | 9.269 | |
| NormalyzerResults | 0.122 | 0.004 | 0.126 | |
| NormalyzerStatistics | 0.027 | 0.006 | 0.033 | |
| analyzeNormalizations | 8.686 | 0.089 | 8.776 | |
| calculateContrasts | 0.194 | 0.010 | 0.206 | |
| generateAnnotatedMatrix | 0.119 | 0.010 | 0.130 | |
| generatePlots | 28.109 | 0.595 | 28.765 | |
| generateStatsReport | 4.889 | 0.036 | 4.938 | |
| getRTNormalizedMatrix | 3.568 | 0.141 | 3.708 | |
| getSmoothedRTNormalizedMatrix | 5.979 | 0.269 | 6.249 | |
| getVerifiedNormalyzerObject | 0.078 | 0.002 | 0.080 | |
| globalIntensityNormalization | 0.008 | 0.002 | 0.011 | |
| loadData | 0 | 0 | 0 | |
| loadDesign | 0.001 | 0.000 | 0.001 | |
| meanNormalization | 0.007 | 0.002 | 0.009 | |
| medianNormalization | 0.008 | 0.002 | 0.011 | |
| normMethods | 2.827 | 0.111 | 2.939 | |
| normalyzer | 0.000 | 0.001 | 0.001 | |
| normalyzerDE | 2.076 | 0.020 | 2.100 | |
| performCyclicLoessNormalization | 0.013 | 0.002 | 0.015 | |
| performGlobalRLRNormalization | 0.032 | 0.002 | 0.033 | |
| performQuantileNormalization | 0.002 | 0.002 | 0.004 | |
| performSMADNormalization | 0.003 | 0.001 | 0.004 | |
| performVSNNormalization | 0.030 | 0.002 | 0.032 | |
| reduceTechnicalReplicates | 0.123 | 0.001 | 0.124 | |
| setupJobDir | 0.000 | 0.000 | 0.001 | |
| setupRawContrastObject | 0.019 | 0.000 | 0.019 | |
| setupRawDataObject | 0.022 | 0.000 | 0.023 | |
| setupTestData | 0.003 | 0.000 | 0.004 | |
| writeNormalizedDatasets | 8.509 | 0.053 | 8.561 | |