| Back to Multiple platform build/check report for BioC 3.9 |
|
This page was generated on 2019-10-16 12:31:01 -0400 (Wed, 16 Oct 2019).
| Package 1104/1741 | Hostname | OS / Arch | INSTALL | BUILD | CHECK | BUILD BIN | ||||||
Xiaobei Zhao
| malbec2 | Linux (Ubuntu 18.04.2 LTS) / x86_64 | ERROR | ERROR | skipped | |||||||
| tokay2 | Windows Server 2012 R2 Standard / x64 | [ ERROR ] | ERROR | skipped | skipped | |||||||
| celaya2 | OS X 10.11.6 El Capitan / x86_64 | ERROR | ERROR | skipped | skipped |
| Package: NGScopy |
| Version: 1.18.0 |
| Command: C:\cygwin\bin\curl.exe -O https://malbec2.bioconductor.org/BBS/3.9/bioc/src/contrib/NGScopy_1.18.0.tar.gz && rm -rf NGScopy.buildbin-libdir && mkdir NGScopy.buildbin-libdir && C:\Users\biocbuild\bbs-3.9-bioc\R\bin\R.exe CMD INSTALL --merge-multiarch --build --library=NGScopy.buildbin-libdir NGScopy_1.18.0.tar.gz && C:\Users\biocbuild\bbs-3.9-bioc\R\bin\R.exe CMD INSTALL NGScopy_1.18.0.zip && rm NGScopy_1.18.0.tar.gz NGScopy_1.18.0.zip |
| StartedAt: 2019-10-15 21:17:37 -0400 (Tue, 15 Oct 2019) |
| EndedAt: 2019-10-15 21:17:39 -0400 (Tue, 15 Oct 2019) |
| EllapsedTime: 1.5 seconds |
| RetCode: 1 |
| Status: ERROR |
##############################################################################
##############################################################################
###
### Running command:
###
### C:\cygwin\bin\curl.exe -O https://malbec2.bioconductor.org/BBS/3.9/bioc/src/contrib/NGScopy_1.18.0.tar.gz && rm -rf NGScopy.buildbin-libdir && mkdir NGScopy.buildbin-libdir && C:\Users\biocbuild\bbs-3.9-bioc\R\bin\R.exe CMD INSTALL --merge-multiarch --build --library=NGScopy.buildbin-libdir NGScopy_1.18.0.tar.gz && C:\Users\biocbuild\bbs-3.9-bioc\R\bin\R.exe CMD INSTALL NGScopy_1.18.0.zip && rm NGScopy_1.18.0.tar.gz NGScopy_1.18.0.zip
###
##############################################################################
##############################################################################
% Total % Received % Xferd Average Speed Time Time Time Current
Dload Upload Total Spent Left Speed
0 0 0 0 0 0 0 0 --:--:-- --:--:-- --:--:-- 0
100 1822k 100 1822k 0 0 25.3M 0 --:--:-- --:--:-- --:--:-- 27.8M
install for i386
ERROR: dependency 'rbamtools' is not available for package 'NGScopy'
* removing 'C:/Users/biocbuild/bbs-3.9-bioc/meat/NGScopy.buildbin-libdir/NGScopy'