| Back to Multiple platform build/check report for BioC 3.9 |
|
This page was generated on 2019-10-16 12:42:53 -0400 (Wed, 16 Oct 2019).
| Package 1062/1741 | Hostname | OS / Arch | INSTALL | BUILD | CHECK | BUILD BIN | ||||||
| MTseeker 1.2.0 Tim Triche
| malbec2 | Linux (Ubuntu 18.04.2 LTS) / x86_64 | OK | OK | WARNINGS | |||||||
| tokay2 | Windows Server 2012 R2 Standard / x64 | [ ERROR ] | ERROR | skipped | skipped | |||||||
| celaya2 | OS X 10.11.6 El Capitan / x86_64 | OK | OK | WARNINGS | OK |
| Package: MTseeker |
| Version: 1.2.0 |
| Command: C:\cygwin\bin\curl.exe -O https://malbec2.bioconductor.org/BBS/3.9/bioc/src/contrib/MTseeker_1.2.0.tar.gz && rm -rf MTseeker.buildbin-libdir && mkdir MTseeker.buildbin-libdir && C:\Users\biocbuild\bbs-3.9-bioc\R\bin\R.exe CMD INSTALL --merge-multiarch --build --library=MTseeker.buildbin-libdir MTseeker_1.2.0.tar.gz && C:\Users\biocbuild\bbs-3.9-bioc\R\bin\R.exe CMD INSTALL MTseeker_1.2.0.zip && rm MTseeker_1.2.0.tar.gz MTseeker_1.2.0.zip |
| StartedAt: 2019-10-15 20:49:43 -0400 (Tue, 15 Oct 2019) |
| EndedAt: 2019-10-15 20:49:48 -0400 (Tue, 15 Oct 2019) |
| EllapsedTime: 5.0 seconds |
| RetCode: 1 |
| Status: ERROR |
##############################################################################
##############################################################################
###
### Running command:
###
### C:\cygwin\bin\curl.exe -O https://malbec2.bioconductor.org/BBS/3.9/bioc/src/contrib/MTseeker_1.2.0.tar.gz && rm -rf MTseeker.buildbin-libdir && mkdir MTseeker.buildbin-libdir && C:\Users\biocbuild\bbs-3.9-bioc\R\bin\R.exe CMD INSTALL --merge-multiarch --build --library=MTseeker.buildbin-libdir MTseeker_1.2.0.tar.gz && C:\Users\biocbuild\bbs-3.9-bioc\R\bin\R.exe CMD INSTALL MTseeker_1.2.0.zip && rm MTseeker_1.2.0.tar.gz MTseeker_1.2.0.zip
###
##############################################################################
##############################################################################
% Total % Received % Xferd Average Speed Time Time Time Current
Dload Upload Total Spent Left Speed
0 0 0 0 0 0 0 0 --:--:-- --:--:-- --:--:-- 0
26 2961k 26 784k 0 0 1273k 0 0:00:02 --:--:-- 0:00:02 1285k
100 2961k 100 2961k 0 0 4439k 0 --:--:-- --:--:-- --:--:-- 4480k
install for i386
ERROR: dependency 'gmapR' is not available for package 'MTseeker'
* removing 'C:/Users/biocbuild/bbs-3.9-bioc/meat/MTseeker.buildbin-libdir/MTseeker'