| Back to Multiple platform build/check report for BioC 3.9 |
|
This page was generated on 2019-10-16 12:22:17 -0400 (Wed, 16 Oct 2019).
| Package 937/1741 | Hostname | OS / Arch | INSTALL | BUILD | CHECK | BUILD BIN | ||||||
| MCRestimate 2.40.0 Marc Johannes
| malbec2 | Linux (Ubuntu 18.04.2 LTS) / x86_64 | OK | OK | OK | |||||||
| tokay2 | Windows Server 2012 R2 Standard / x64 | [ OK ] | OK | OK | OK | |||||||
| celaya2 | OS X 10.11.6 El Capitan / x86_64 | OK | OK | OK | OK |
| Package: MCRestimate |
| Version: 2.40.0 |
| Command: C:\cygwin\bin\curl.exe -O https://malbec2.bioconductor.org/BBS/3.9/bioc/src/contrib/MCRestimate_2.40.0.tar.gz && rm -rf MCRestimate.buildbin-libdir && mkdir MCRestimate.buildbin-libdir && C:\Users\biocbuild\bbs-3.9-bioc\R\bin\R.exe CMD INSTALL --merge-multiarch --build --library=MCRestimate.buildbin-libdir MCRestimate_2.40.0.tar.gz && C:\Users\biocbuild\bbs-3.9-bioc\R\bin\R.exe CMD INSTALL MCRestimate_2.40.0.zip && rm MCRestimate_2.40.0.tar.gz MCRestimate_2.40.0.zip |
| StartedAt: 2019-10-15 19:01:50 -0400 (Tue, 15 Oct 2019) |
| EndedAt: 2019-10-15 19:02:16 -0400 (Tue, 15 Oct 2019) |
| EllapsedTime: 25.5 seconds |
| RetCode: 0 |
| Status: OK |
##############################################################################
##############################################################################
###
### Running command:
###
### C:\cygwin\bin\curl.exe -O https://malbec2.bioconductor.org/BBS/3.9/bioc/src/contrib/MCRestimate_2.40.0.tar.gz && rm -rf MCRestimate.buildbin-libdir && mkdir MCRestimate.buildbin-libdir && C:\Users\biocbuild\bbs-3.9-bioc\R\bin\R.exe CMD INSTALL --merge-multiarch --build --library=MCRestimate.buildbin-libdir MCRestimate_2.40.0.tar.gz && C:\Users\biocbuild\bbs-3.9-bioc\R\bin\R.exe CMD INSTALL MCRestimate_2.40.0.zip && rm MCRestimate_2.40.0.tar.gz MCRestimate_2.40.0.zip
###
##############################################################################
##############################################################################
% Total % Received % Xferd Average Speed Time Time Time Current
Dload Upload Total Spent Left Speed
0 0 0 0 0 0 0 0 --:--:-- --:--:-- --:--:-- 0
100 34241 100 34241 0 0 250k 0 --:--:-- --:--:-- --:--:-- 263k
install for i386
* installing *source* package 'MCRestimate' ...
** using staged installation
** R
** inst
** byte-compile and prepare package for lazy loading
** help
*** installing help indices
converting help for package 'MCRestimate'
finding HTML links ... done
ClassifierBuild html
MCRconfusion html
MCRestimate html
MCRestimateMerge html
PLR html
SVM.OVA.wrap html
class.factor.format html
geneReduction html
important.variable.names html
indVotes html
intersectList html
plot.MCRestimate html
replace.NA html
select.NA.elements html
wrapper.fkt html
** building package indices
** installing vignettes
** testing if installed package can be loaded from temporary location
** testing if installed package can be loaded from final location
** testing if installed package keeps a record of temporary installation path
install for x64
* installing *source* package 'MCRestimate' ...
** testing if installed package can be loaded
* MD5 sums
packaged installation of 'MCRestimate' as MCRestimate_2.40.0.zip
* DONE (MCRestimate)
* installing to library 'C:/Users/biocbuild/bbs-3.9-bioc/R/library'
package 'MCRestimate' successfully unpacked and MD5 sums checked