| Back to Multiple platform build/check report for BioC 3.9 | 
  | 
This page was generated on 2019-04-09 13:35:32 -0400 (Tue, 09 Apr 2019).
| Package 881/1703 | Hostname | OS / Arch | INSTALL | BUILD | CHECK | BUILD BIN | ||||||
| M3C 1.5.85 Christopher John 
  | malbec2 | Linux (Ubuntu 18.04.2 LTS) / x86_64 | OK | OK | OK | |||||||
| tokay2 | Windows Server 2012 R2 Standard / x64 | OK | OK | OK | OK | |||||||
| celaya2 | OS X 10.11.6 El Capitan / x86_64 | OK | OK | OK | OK | |||||||
| merida2 | OS X 10.11.6 El Capitan / x86_64 | OK | OK | [ OK ] | OK | 
| Package: M3C | 
| Version: 1.5.85 | 
| Command: /Library/Frameworks/R.framework/Versions/Current/Resources/bin/R CMD check --install=check:M3C.install-out.txt --library=/Library/Frameworks/R.framework/Versions/Current/Resources/library --no-vignettes --timings M3C_1.5.85.tar.gz | 
| StartedAt: 2019-04-09 01:53:11 -0400 (Tue, 09 Apr 2019) | 
| EndedAt: 2019-04-09 01:57:10 -0400 (Tue, 09 Apr 2019) | 
| EllapsedTime: 239.1 seconds | 
| RetCode: 0 | 
| Status: OK | 
| CheckDir: M3C.Rcheck | 
| Warnings: 0 | 
##############################################################################
##############################################################################
###
### Running command:
###
###   /Library/Frameworks/R.framework/Versions/Current/Resources/bin/R CMD check --install=check:M3C.install-out.txt --library=/Library/Frameworks/R.framework/Versions/Current/Resources/library --no-vignettes --timings M3C_1.5.85.tar.gz
###
##############################################################################
##############################################################################
* using log directory ‘/Users/biocbuild/bbs-3.9-bioc/meat/M3C.Rcheck’
* using R Under development (unstable) (2018-11-27 r75683)
* using platform: x86_64-apple-darwin15.6.0 (64-bit)
* using session charset: UTF-8
* using option ‘--no-vignettes’
* checking for file ‘M3C/DESCRIPTION’ ... OK
* this is package ‘M3C’ version ‘1.5.85’
* package encoding: UTF-8
* checking package namespace information ... OK
* checking package dependencies ... OK
* checking if this is a source package ... OK
* checking if there is a namespace ... OK
* checking for hidden files and directories ... OK
* checking for portable file names ... OK
* checking for sufficient/correct file permissions ... OK
* checking whether package ‘M3C’ can be installed ... OK
* checking installed package size ... OK
* checking package directory ... OK
* checking ‘build’ directory ... OK
* checking DESCRIPTION meta-information ... OK
* checking top-level files ... OK
* checking for left-over files ... OK
* checking index information ... OK
* checking package subdirectories ... OK
* checking R files for non-ASCII characters ... OK
* checking R files for syntax errors ... OK
* checking whether the package can be loaded ... OK
* checking whether the package can be loaded with stated dependencies ... OK
* checking whether the package can be unloaded cleanly ... OK
* checking whether the namespace can be loaded with stated dependencies ... OK
* checking whether the namespace can be unloaded cleanly ... OK
* checking dependencies in R code ... OK
* checking S3 generic/method consistency ... OK
* checking replacement functions ... OK
* checking foreign function calls ... OK
* checking R code for possible problems ... NOTE
CDF: no visible binding for global variable ‘consensusindex’
CDF: no visible binding for global variable ‘k’
CDF: no visible global function definition for ‘png’
CDF: no visible global function definition for ‘dev.off’
CDF: no visible binding for global variable ‘K’
CDF: no visible binding for global variable ‘PAC_SCORE’
M3C: no visible binding for global variable ‘i’
M3C: no visible binding for global variable ‘K’
M3C: no visible binding for global variable ‘RCSI’
M3C: no visible binding for global variable ‘P_SCORE’
M3C: no visible global function definition for ‘png’
M3C: no visible global function definition for ‘dev.off’
M3Cdendcomputations: no visible global function definition for ‘png’
M3Cdendcomputations: no visible global function definition for
  ‘dev.off’
M3Creal: no visible global function definition for ‘colorRampPalette’
M3Creal: no visible global function definition for ‘png’
M3Creal: no visible global function definition for ‘dev.off’
clustersim: no visible binding for global variable ‘X3’
clustersim: no visible binding for global variable ‘PC1’
clustersim: no visible binding for global variable ‘PC2’
clustersim: no visible global function definition for ‘png’
clustersim: no visible global function definition for ‘dev.off’
pca: no visible binding for global variable ‘PC1’
pca: no visible binding for global variable ‘PC2’
pca: no visible global function definition for ‘png’
pca: no visible global function definition for ‘dev.off’
pca: no visible binding for global variable ‘label’
tsne: no visible binding for global variable ‘X1’
tsne: no visible binding for global variable ‘X2’
tsne: no visible global function definition for ‘png’
tsne: no visible global function definition for ‘dev.off’
umap: no visible binding for global variable ‘X1’
umap: no visible binding for global variable ‘X2’
umap: no visible global function definition for ‘png’
umap: no visible global function definition for ‘dev.off’
Undefined global functions or variables:
  K PAC_SCORE PC1 PC2 P_SCORE RCSI X1 X2 X3 colorRampPalette
  consensusindex dev.off i k label png
Consider adding
  importFrom("grDevices", "colorRampPalette", "dev.off", "png")
to your NAMESPACE file.
* checking Rd files ... OK
* checking Rd metadata ... OK
* checking Rd cross-references ... OK
* checking for missing documentation entries ... OK
* checking for code/documentation mismatches ... OK
* checking Rd \usage sections ... OK
* checking Rd contents ... OK
* checking for unstated dependencies in examples ... OK
* checking contents of ‘data’ directory ... OK
* checking data for non-ASCII characters ... OK
* checking data for ASCII and uncompressed saves ... OK
* checking files in ‘vignettes’ ... OK
* checking examples ... OK
Examples with CPU or elapsed time > 5s
            user system elapsed
clustersim 6.864  0.220   7.160
M3C        2.969  0.187 117.368
* checking for unstated dependencies in vignettes ... OK
* checking package vignettes in ‘inst/doc’ ... OK
* checking running R code from vignettes ... SKIPPED
* checking re-building of vignette outputs ... SKIPPED
* checking PDF version of manual ... OK
* DONE
Status: 1 NOTE
See
  ‘/Users/biocbuild/bbs-3.9-bioc/meat/M3C.Rcheck/00check.log’
for details.
M3C.Rcheck/00install.out
############################################################################## ############################################################################## ### ### Running command: ### ### /Library/Frameworks/R.framework/Versions/Current/Resources/bin/R CMD INSTALL M3C ### ############################################################################## ############################################################################## * installing to library ‘/Library/Frameworks/R.framework/Versions/3.6/Resources/library’ * installing *source* package ‘M3C’ ... ** R ** data *** moving datasets to lazyload DB ** byte-compile and prepare package for lazy loading ** help *** installing help indices ** building package indices ** installing vignettes ** testing if installed package can be loaded * DONE (M3C)
M3C.Rcheck/M3C-Ex.timings
| name | user | system | elapsed | |
| M3C | 2.969 | 0.187 | 117.368 | |
| clustersim | 6.864 | 0.220 | 7.160 | |
| featurefilter | 0.191 | 0.000 | 0.196 | |
| pca | 0.047 | 0.003 | 0.051 | |
| tsne | 0.132 | 0.005 | 0.138 | |
| umap | 1.689 | 0.420 | 2.100 | |