| Back to Multiple platform build/check report for BioC 3.9 |
|
This page was generated on 2019-10-16 12:07:23 -0400 (Wed, 16 Oct 2019).
| Package 885/1741 | Hostname | OS / Arch | INSTALL | BUILD | CHECK | BUILD BIN | ||||||
| LOLA 1.14.0 Nathan Sheffield
| malbec2 | Linux (Ubuntu 18.04.2 LTS) / x86_64 | OK | OK | [ OK ] | |||||||
| tokay2 | Windows Server 2012 R2 Standard / x64 | OK | OK | OK | OK | |||||||
| celaya2 | OS X 10.11.6 El Capitan / x86_64 | OK | OK | OK | OK |
| Package: LOLA |
| Version: 1.14.0 |
| Command: /home/biocbuild/bbs-3.9-bioc/R/bin/R CMD check --install=check:LOLA.install-out.txt --library=/home/biocbuild/bbs-3.9-bioc/R/library --no-vignettes --timings LOLA_1.14.0.tar.gz |
| StartedAt: 2019-10-16 02:46:15 -0400 (Wed, 16 Oct 2019) |
| EndedAt: 2019-10-16 02:48:24 -0400 (Wed, 16 Oct 2019) |
| EllapsedTime: 128.6 seconds |
| RetCode: 0 |
| Status: OK |
| CheckDir: LOLA.Rcheck |
| Warnings: 0 |
##############################################################################
##############################################################################
###
### Running command:
###
### /home/biocbuild/bbs-3.9-bioc/R/bin/R CMD check --install=check:LOLA.install-out.txt --library=/home/biocbuild/bbs-3.9-bioc/R/library --no-vignettes --timings LOLA_1.14.0.tar.gz
###
##############################################################################
##############################################################################
* using log directory ‘/home/biocbuild/bbs-3.9-bioc/meat/LOLA.Rcheck’
* using R version 3.6.1 (2019-07-05)
* using platform: x86_64-pc-linux-gnu (64-bit)
* using session charset: UTF-8
* using option ‘--no-vignettes’
* checking for file ‘LOLA/DESCRIPTION’ ... OK
* this is package ‘LOLA’ version ‘1.14.0’
* checking package namespace information ... OK
* checking package dependencies ... NOTE
Package which this enhances but not available for checking: ‘simpleCache’
* checking if this is a source package ... OK
* checking if there is a namespace ... OK
* checking for hidden files and directories ... OK
* checking for portable file names ... OK
* checking for sufficient/correct file permissions ... OK
* checking whether package ‘LOLA’ can be installed ... OK
* checking installed package size ... OK
* checking package directory ... OK
* checking ‘build’ directory ... OK
* checking DESCRIPTION meta-information ... OK
* checking top-level files ... OK
* checking for left-over files ... OK
* checking index information ... OK
* checking package subdirectories ... OK
* checking R files for non-ASCII characters ... OK
* checking R files for syntax errors ... OK
* checking whether the package can be loaded ... OK
* checking whether the package can be loaded with stated dependencies ... OK
* checking whether the package can be unloaded cleanly ... OK
* checking whether the namespace can be loaded with stated dependencies ... OK
* checking whether the namespace can be unloaded cleanly ... OK
* checking dependencies in R code ... OK
* checking S3 generic/method consistency ... OK
* checking replacement functions ... OK
* checking foreign function calls ... OK
* checking R code for possible problems ... OK
* checking Rd files ... OK
* checking Rd metadata ... OK
* checking Rd cross-references ... OK
* checking for missing documentation entries ... OK
* checking for code/documentation mismatches ... OK
* checking Rd \usage sections ... OK
* checking Rd contents ... OK
* checking for unstated dependencies in examples ... OK
* checking contents of ‘data’ directory ... OK
* checking data for non-ASCII characters ... OK
* checking data for ASCII and uncompressed saves ... OK
* checking files in ‘vignettes’ ... OK
* checking examples ... OK
Examples with CPU or elapsed time > 5s
user system elapsed
extractEnrichmentOverlaps 11.375 0.553 5.651
getRegionSet 10.740 0.502 3.443
runLOLA 10.557 0.526 3.330
writeCombinedEnrichment 10.387 0.485 3.548
getRegionFile 9.873 0.407 3.213
plotTopLOLAEnrichments 9.524 0.438 3.544
redefineUserSets 8.038 0.515 2.928
* checking for unstated dependencies in ‘tests’ ... OK
* checking tests ...
Running ‘testthat.R’
OK
* checking for unstated dependencies in vignettes ... OK
* checking package vignettes in ‘inst/doc’ ... OK
* checking running R code from vignettes ... SKIPPED
* checking re-building of vignette outputs ... SKIPPED
* checking PDF version of manual ... OK
* DONE
Status: 1 NOTE
See
‘/home/biocbuild/bbs-3.9-bioc/meat/LOLA.Rcheck/00check.log’
for details.
LOLA.Rcheck/00install.out
############################################################################## ############################################################################## ### ### Running command: ### ### /home/biocbuild/bbs-3.9-bioc/R/bin/R CMD INSTALL LOLA ### ############################################################################## ############################################################################## * installing to library ‘/home/biocbuild/bbs-3.9-bioc/R/library’ * installing *source* package ‘LOLA’ ... ** using staged installation ** R ** data ** inst ** byte-compile and prepare package for lazy loading ** help *** installing help indices *** copying figures ** building package indices ** installing vignettes ** testing if installed package can be loaded from temporary location ** testing if installed package can be loaded from final location ** testing if installed package keeps a record of temporary installation path * DONE (LOLA)
LOLA.Rcheck/tests/testthat.Rout
R version 3.6.1 (2019-07-05) -- "Action of the Toes"
Copyright (C) 2019 The R Foundation for Statistical Computing
Platform: x86_64-pc-linux-gnu (64-bit)
R is free software and comes with ABSOLUTELY NO WARRANTY.
You are welcome to redistribute it under certain conditions.
Type 'license()' or 'licence()' for distribution details.
R is a collaborative project with many contributors.
Type 'contributors()' for more information and
'citation()' on how to cite R or R packages in publications.
Type 'demo()' for some demos, 'help()' for on-line help, or
'help.start()' for an HTML browser interface to help.
Type 'q()' to quit R.
> library(testthat)
> library(LOLA)
>
> test_check("LOLA")
══ testthat results ═══════════════════════════════════════════════════════════
[ OK: 34 | SKIPPED: 0 | WARNINGS: 17 | FAILED: 0 ]
>
> proc.time()
user system elapsed
27.783 1.867 15.312
LOLA.Rcheck/LOLA-Ex.timings
| name | user | system | elapsed | |
| buildRestrictedUniverse | 0.354 | 0.040 | 0.395 | |
| checkUniverseAppropriateness | 0.151 | 0.000 | 0.152 | |
| extractEnrichmentOverlaps | 11.375 | 0.553 | 5.651 | |
| getRegionFile | 9.873 | 0.407 | 3.213 | |
| getRegionSet | 10.740 | 0.502 | 3.443 | |
| listRegionSets | 0.518 | 0.123 | 0.208 | |
| loadRegionDB | 1.383 | 0.158 | 0.817 | |
| mergeRegionDBs | 1.313 | 0.137 | 0.683 | |
| plotTopLOLAEnrichments | 9.524 | 0.438 | 3.544 | |
| readBed | 0.299 | 0.000 | 0.073 | |
| readCollection | 0.198 | 0.000 | 0.198 | |
| readCollectionAnnotation | 0.075 | 0.007 | 0.017 | |
| readCollectionFiles | 0.357 | 0.005 | 0.067 | |
| readRegionGRL | 1.208 | 0.187 | 0.797 | |
| readRegionSetAnnotation | 0.411 | 0.112 | 0.184 | |
| redefineUserSets | 8.038 | 0.515 | 2.928 | |
| runLOLA | 10.557 | 0.526 | 3.330 | |
| setSharedDataDir | 0.001 | 0.000 | 0.000 | |
| splitFileIntoCollection | 0.347 | 0.005 | 0.072 | |
| userSets | 0 | 0 | 0 | |
| writeCombinedEnrichment | 10.387 | 0.485 | 3.548 | |