| Back to Multiple platform build/check report for BioC 3.9 |
|
This page was generated on 2019-04-09 13:27:50 -0400 (Tue, 09 Apr 2019).
| Package 844/1703 | Hostname | OS / Arch | INSTALL | BUILD | CHECK | BUILD BIN | ||||||
| KEGGREST 1.23.0 Bioconductor Package Maintainer
| malbec2 | Linux (Ubuntu 18.04.2 LTS) / x86_64 | OK | OK | OK | |||||||
| tokay2 | Windows Server 2012 R2 Standard / x64 | OK | OK | OK | OK | |||||||
| celaya2 | OS X 10.11.6 El Capitan / x86_64 | OK | OK | OK | OK | |||||||
| merida2 | OS X 10.11.6 El Capitan / x86_64 | OK | OK | [ OK ] | OK |
| Package: KEGGREST |
| Version: 1.23.0 |
| Command: /Library/Frameworks/R.framework/Versions/Current/Resources/bin/R CMD check --install=check:KEGGREST.install-out.txt --library=/Library/Frameworks/R.framework/Versions/Current/Resources/library --no-vignettes --timings KEGGREST_1.23.0.tar.gz |
| StartedAt: 2019-04-09 01:47:33 -0400 (Tue, 09 Apr 2019) |
| EndedAt: 2019-04-09 01:51:26 -0400 (Tue, 09 Apr 2019) |
| EllapsedTime: 233.2 seconds |
| RetCode: 0 |
| Status: OK |
| CheckDir: KEGGREST.Rcheck |
| Warnings: 0 |
##############################################################################
##############################################################################
###
### Running command:
###
### /Library/Frameworks/R.framework/Versions/Current/Resources/bin/R CMD check --install=check:KEGGREST.install-out.txt --library=/Library/Frameworks/R.framework/Versions/Current/Resources/library --no-vignettes --timings KEGGREST_1.23.0.tar.gz
###
##############################################################################
##############################################################################
* using log directory ‘/Users/biocbuild/bbs-3.9-bioc/meat/KEGGREST.Rcheck’
* using R Under development (unstable) (2018-11-27 r75683)
* using platform: x86_64-apple-darwin15.6.0 (64-bit)
* using session charset: UTF-8
* using option ‘--no-vignettes’
* checking for file ‘KEGGREST/DESCRIPTION’ ... OK
* this is package ‘KEGGREST’ version ‘1.23.0’
* checking package namespace information ... OK
* checking package dependencies ... OK
* checking if this is a source package ... OK
* checking if there is a namespace ... OK
* checking for hidden files and directories ... OK
* checking for portable file names ... OK
* checking for sufficient/correct file permissions ... OK
* checking whether package ‘KEGGREST’ can be installed ... OK
* checking installed package size ... OK
* checking package directory ... OK
* checking ‘build’ directory ... OK
* checking DESCRIPTION meta-information ... OK
* checking top-level files ... OK
* checking for left-over files ... OK
* checking index information ... OK
* checking package subdirectories ... OK
* checking R files for non-ASCII characters ... OK
* checking R files for syntax errors ... OK
* checking whether the package can be loaded ... OK
* checking whether the package can be loaded with stated dependencies ... OK
* checking whether the package can be unloaded cleanly ... OK
* checking whether the namespace can be loaded with stated dependencies ... OK
* checking whether the namespace can be unloaded cleanly ... OK
* checking dependencies in R code ... NOTE
Unexported object imported by a ':::' call: ‘BiocGenerics:::testPackage’
See the note in ?`:::` about the use of this operator.
* checking S3 generic/method consistency ... OK
* checking replacement functions ... OK
* checking foreign function calls ... OK
* checking R code for possible problems ... OK
* checking Rd files ... OK
* checking Rd metadata ... OK
* checking Rd cross-references ... OK
* checking for missing documentation entries ... OK
* checking for code/documentation mismatches ... OK
* checking Rd \usage sections ... OK
* checking Rd contents ... OK
* checking for unstated dependencies in examples ... OK
* checking files in ‘vignettes’ ... OK
* checking examples ... OK
Examples with CPU or elapsed time > 5s
user system elapsed
keggList 0.603 0.044 15.410
listDatabases 0.557 0.044 11.134
keggLink 0.387 0.022 6.002
mark.pathway.by.objects 0.106 0.019 7.950
keggInfo 0.022 0.001 5.327
* checking for unstated dependencies in ‘tests’ ... OK
* checking tests ...
Running ‘KEGGREST_unit_tests.R’
OK
* checking for unstated dependencies in vignettes ... OK
* checking package vignettes in ‘inst/doc’ ... OK
* checking running R code from vignettes ... SKIPPED
* checking re-building of vignette outputs ... SKIPPED
* checking PDF version of manual ... OK
* DONE
Status: 1 NOTE
See
‘/Users/biocbuild/bbs-3.9-bioc/meat/KEGGREST.Rcheck/00check.log’
for details.
KEGGREST.Rcheck/00install.out
############################################################################## ############################################################################## ### ### Running command: ### ### /Library/Frameworks/R.framework/Versions/Current/Resources/bin/R CMD INSTALL KEGGREST ### ############################################################################## ############################################################################## * installing to library ‘/Library/Frameworks/R.framework/Versions/3.6/Resources/library’ * installing *source* package ‘KEGGREST’ ... ** R ** inst ** byte-compile and prepare package for lazy loading ** help *** installing help indices ** building package indices ** installing vignettes ** testing if installed package can be loaded * DONE (KEGGREST)
KEGGREST.Rcheck/tests/KEGGREST_unit_tests.Rout
R Under development (unstable) (2018-11-27 r75683) -- "Unsuffered Consequences"
Copyright (C) 2018 The R Foundation for Statistical Computing
Platform: x86_64-apple-darwin15.6.0 (64-bit)
R is free software and comes with ABSOLUTELY NO WARRANTY.
You are welcome to redistribute it under certain conditions.
Type 'license()' or 'licence()' for distribution details.
R is a collaborative project with many contributors.
Type 'contributors()' for more information and
'citation()' on how to cite R or R packages in publications.
Type 'demo()' for some demos, 'help()' for on-line help, or
'help.start()' for an HTML browser interface to help.
Type 'q()' to quit R.
> BiocGenerics:::testPackage("KEGGREST")
No encoding supplied: defaulting to UTF-8.
RUNIT TEST PROTOCOL -- Tue Apr 9 01:51:21 2019
***********************************************
Number of test functions: 11
Number of errors: 0
Number of failures: 0
1 Test Suite :
KEGGREST RUnit Tests - 11 test functions, 0 errors, 0 failures
Number of test functions: 11
Number of errors: 0
Number of failures: 0
>
> proc.time()
user system elapsed
13.613 0.485 100.524
KEGGREST.Rcheck/KEGGREST-Ex.timings
| name | user | system | elapsed | |
| keggConv | 0.314 | 0.013 | 3.401 | |
| keggFind | 0.053 | 0.002 | 3.334 | |
| keggGet | 1.277 | 0.095 | 4.406 | |
| keggInfo | 0.022 | 0.001 | 5.327 | |
| keggLink | 0.387 | 0.022 | 6.002 | |
| keggList | 0.603 | 0.044 | 15.410 | |
| listDatabases | 0.557 | 0.044 | 11.134 | |
| mark.pathway.by.objects | 0.106 | 0.019 | 7.950 | |