| Back to Multiple platform build/check report for BioC 3.9 |
|
This page was generated on 2019-10-16 12:35:22 -0400 (Wed, 16 Oct 2019).
| Package 839/1741 | Hostname | OS / Arch | INSTALL | BUILD | CHECK | BUILD BIN | ||||||
| ISoLDE 1.12.0 Christelle Reynès
| malbec2 | Linux (Ubuntu 18.04.2 LTS) / x86_64 | OK | OK | WARNINGS | |||||||
| tokay2 | Windows Server 2012 R2 Standard / x64 | OK | OK | WARNINGS | [ OK ] | |||||||
| celaya2 | OS X 10.11.6 El Capitan / x86_64 | OK | OK | WARNINGS | OK |
| Package: ISoLDE |
| Version: 1.12.0 |
| Command: rm -rf ISoLDE.buildbin-libdir && mkdir ISoLDE.buildbin-libdir && C:\Users\biocbuild\bbs-3.9-bioc\R\bin\R.exe CMD INSTALL --merge-multiarch --build --library=ISoLDE.buildbin-libdir ISoLDE_1.12.0.tar.gz |
| StartedAt: 2019-10-16 09:30:33 -0400 (Wed, 16 Oct 2019) |
| EndedAt: 2019-10-16 09:31:10 -0400 (Wed, 16 Oct 2019) |
| EllapsedTime: 36.3 seconds |
| RetCode: 0 |
| Status: OK |
| PackageFile: ISoLDE_1.12.0.zip |
| PackageFileSize: 1.338 MiB |
##############################################################################
##############################################################################
###
### Running command:
###
### rm -rf ISoLDE.buildbin-libdir && mkdir ISoLDE.buildbin-libdir && C:\Users\biocbuild\bbs-3.9-bioc\R\bin\R.exe CMD INSTALL --merge-multiarch --build --library=ISoLDE.buildbin-libdir ISoLDE_1.12.0.tar.gz
###
##############################################################################
##############################################################################
install for i386
* installing *source* package 'ISoLDE' ...
** using staged installation
** libs
C:/Rtools/mingw_32/bin/gcc -I"C:/Users/BIOCBU~1/BBS-3~1.9-B/R/include" -DNDEBUG -I"C:/extsoft/include" -fopenmp -O3 -Wall -std=gnu99 -mtune=generic -c Isolde.c -o Isolde.o
C:/Rtools/mingw_32/bin/gcc -shared -s -static-libgcc -o ISoLDE.dll tmp.def Isolde.o -fopenmp -LC:/extsoft/lib/i386 -LC:/extsoft/lib -LC:/Users/BIOCBU~1/BBS-3~1.9-B/R/bin/i386 -lR
installing to C:/Users/biocbuild/bbs-3.9-bioc/meat/ISoLDE.buildbin-libdir/00LOCK-ISoLDE/00new/ISoLDE/libs/i386
** R
** data
** inst
** byte-compile and prepare package for lazy loading
** help
*** installing help indices
converting help for package 'ISoLDE'
finding HTML links ... done
ISoLDE-package html
filterT html
filteredASRcounts html
isolde_test html
normASRcounts html
rawASRcounts html
readNormInput html
readRawInput html
readTarget html
target html
** building package indices
** installing vignettes
** testing if installed package can be loaded from temporary location
** testing if installed package can be loaded from final location
** testing if installed package keeps a record of temporary installation path
install for x64
* installing *source* package 'ISoLDE' ...
** libs
C:/Rtools/mingw_64/bin/gcc -I"C:/Users/BIOCBU~1/BBS-3~1.9-B/R/include" -DNDEBUG -I"C:/extsoft/include" -fopenmp -O2 -Wall -std=gnu99 -mtune=generic -c Isolde.c -o Isolde.o
C:/Rtools/mingw_64/bin/gcc -shared -s -static-libgcc -o ISoLDE.dll tmp.def Isolde.o -fopenmp -LC:/extsoft/lib/x64 -LC:/extsoft/lib -LC:/Users/BIOCBU~1/BBS-3~1.9-B/R/bin/x64 -lR
installing to C:/Users/biocbuild/bbs-3.9-bioc/meat/ISoLDE.buildbin-libdir/ISoLDE/libs/x64
** testing if installed package can be loaded
* MD5 sums
packaged installation of 'ISoLDE' as ISoLDE_1.12.0.zip
* DONE (ISoLDE)