| Back to Multiple platform build/check report for BioC 3.9 | 
  | 
This page was generated on 2019-04-09 13:35:25 -0400 (Tue, 09 Apr 2019).
| Package 742/1703 | Hostname | OS / Arch | INSTALL | BUILD | CHECK | BUILD BIN | ||||||
| HiCcompare 1.5.3 John Stansfield 
  | malbec2 | Linux (Ubuntu 18.04.2 LTS) / x86_64 | OK | OK | OK | |||||||
| tokay2 | Windows Server 2012 R2 Standard / x64 | OK | OK | OK | OK | |||||||
| celaya2 | OS X 10.11.6 El Capitan / x86_64 | OK | OK | OK | OK | |||||||
| merida2 | OS X 10.11.6 El Capitan / x86_64 | OK | OK | [ OK ] | OK | 
| Package: HiCcompare | 
| Version: 1.5.3 | 
| Command: /Library/Frameworks/R.framework/Versions/Current/Resources/bin/R CMD check --install=check:HiCcompare.install-out.txt --library=/Library/Frameworks/R.framework/Versions/Current/Resources/library --no-vignettes --timings HiCcompare_1.5.3.tar.gz | 
| StartedAt: 2019-04-09 01:28:41 -0400 (Tue, 09 Apr 2019) | 
| EndedAt: 2019-04-09 01:33:35 -0400 (Tue, 09 Apr 2019) | 
| EllapsedTime: 293.9 seconds | 
| RetCode: 0 | 
| Status: OK | 
| CheckDir: HiCcompare.Rcheck | 
| Warnings: 0 | 
##############################################################################
##############################################################################
###
### Running command:
###
###   /Library/Frameworks/R.framework/Versions/Current/Resources/bin/R CMD check --install=check:HiCcompare.install-out.txt --library=/Library/Frameworks/R.framework/Versions/Current/Resources/library --no-vignettes --timings HiCcompare_1.5.3.tar.gz
###
##############################################################################
##############################################################################
* using log directory ‘/Users/biocbuild/bbs-3.9-bioc/meat/HiCcompare.Rcheck’
* using R Under development (unstable) (2018-11-27 r75683)
* using platform: x86_64-apple-darwin15.6.0 (64-bit)
* using session charset: UTF-8
* using option ‘--no-vignettes’
* checking for file ‘HiCcompare/DESCRIPTION’ ... OK
* this is package ‘HiCcompare’ version ‘1.5.3’
* package encoding: UTF-8
* checking package namespace information ... OK
* checking package dependencies ... OK
* checking if this is a source package ... OK
* checking if there is a namespace ... OK
* checking for hidden files and directories ... OK
* checking for portable file names ... OK
* checking for sufficient/correct file permissions ... OK
* checking whether package ‘HiCcompare’ can be installed ... OK
* checking installed package size ... NOTE
  installed size is  5.9Mb
  sub-directories of 1Mb or more:
    data   5.6Mb
* checking package directory ... OK
* checking ‘build’ directory ... OK
* checking DESCRIPTION meta-information ... OK
* checking top-level files ... OK
* checking for left-over files ... OK
* checking index information ... OK
* checking package subdirectories ... OK
* checking R files for non-ASCII characters ... OK
* checking R files for syntax errors ... OK
* checking whether the package can be loaded ... OK
* checking whether the package can be loaded with stated dependencies ... OK
* checking whether the package can be unloaded cleanly ... OK
* checking whether the namespace can be loaded with stated dependencies ... OK
* checking whether the namespace can be unloaded cleanly ... OK
* checking dependencies in R code ... OK
* checking S3 generic/method consistency ... OK
* checking replacement functions ... OK
* checking foreign function calls ... OK
* checking R code for possible problems ... NOTE
.adjust_pval : <anonymous>: no visible binding for global variable
  ‘p.adj’
.adjust_pval : <anonymous>: no visible binding for global variable
  ‘p.value’
.adjust_pval: no visible binding for global variable ‘p.value’
.adjust_pval: no visible binding for global variable ‘p.adj’
.calc.pval: no visible binding for global variable ‘D’
.calc.pval: no visible binding for global variable ‘p.value’
.calc.pval: no visible binding for global variable ‘p.adj’
.calc.pval: no visible binding for global variable ‘adj.M’
.calc.pval: no visible binding for global variable ‘fold.change’
.calc.pval: no visible binding for global variable ‘adj.IF2’
.calc.pval: no visible binding for global variable ‘adj.IF1’
.calc_z2: no visible binding for global variable ‘Z’
.calc_z2: no visible global function definition for ‘pnorm’
.calc_z2: no visible binding for global variable ‘p.value’
.loess.matrix: no visible binding for global variable ‘adj.IF1’
.loess.matrix: no visible binding for global variable ‘IF1’
.loess.matrix: no visible binding for global variable ‘adj.IF2’
.loess.matrix: no visible binding for global variable ‘IF2’
.loess.matrix: no visible binding for global variable ‘adj.M’
.loess.matrix: no visible binding for global variable ‘A’
.split_cent: no visible binding for global variable
  ‘centromere_locations’
.split_cent: no visible binding for global variable ‘start1’
.split_cent: no visible binding for global variable ‘start2’
.split_cent: no visible binding for global variable ‘chr1’
.split_cent: no visible binding for global variable ‘chr2’
MA_norm: no visible binding for global variable ‘D’
MA_norm: no visible binding for global variable ‘M’
MA_norm: no visible binding for global variable ‘adj.IF1’
MA_norm: no visible binding for global variable ‘IF1’
MA_norm: no visible binding for global variable ‘adj.IF2’
MA_norm: no visible binding for global variable ‘IF2’
MA_norm: no visible binding for global variable ‘adj.M’
cooler2sparse: no visible binding for global variable ‘chr1’
cooler2sparse: no visible binding for global variable ‘chr2’
cooler2sparse: no visible binding for global variable ‘IF’
create.hic.table: no visible binding for global variable ‘D’
create.hic.table: no visible binding for global variable ‘region2’
create.hic.table: no visible binding for global variable ‘region1’
create.hic.table: no visible binding for global variable ‘IF2’
create.hic.table: no visible binding for global variable ‘M’
create.hic.table: no visible binding for global variable ‘IF1’
create.hic.table: no visible binding for global variable ‘i’
create.hic.table: no visible binding for global variable ‘j’
filter_params: no visible binding for global variable ‘M’
filter_params: no visible binding for global variable ‘IF1’
filter_params: no visible binding for global variable ‘IF2’
filter_params: no visible global function definition for ‘axis’
full2sparse: no visible binding for global variable ‘IF’
hic_compare : <anonymous>: no visible binding for global variable
  ‘p.adj’
hic_simulate: no visible binding for global variable ‘bias.slope’
hicpro2bedpe: no visible binding for global variable ‘chr1’
hicpro2bedpe: no visible binding for global variable ‘chr2’
manhattan_plot: no visible binding for global variable ‘bp’
manhattan_plot: no visible binding for global variable ‘count’
sim.other.methods: no visible binding for global variable ‘adj.IF1’
sim.other.methods: no visible binding for global variable ‘IF1’
sim.other.methods: no visible binding for global variable ‘adj.IF2’
sim.other.methods: no visible binding for global variable ‘IF2’
sim.other.methods: no visible binding for global variable ‘adj.M’
sim.other.methods: no visible binding for global variable ‘M’
sim_matrix: no visible binding for global variable ‘bias.slope’
total_sum: no visible binding for global variable ‘IF2’
total_sum: no visible binding for global variable ‘M’
total_sum: no visible binding for global variable ‘IF1’
total_sum: no visible binding for global variable ‘chr1’
volcano: no visible binding for global variable ‘A’
volcano: no visible binding for global variable ‘adj.IF1’
volcano: no visible binding for global variable ‘adj.IF2’
volcano: no visible binding for global variable ‘p.value’
volcano: no visible binding for global variable ‘D’
Undefined global functions or variables:
  A D IF IF1 IF2 M Z adj.IF1 adj.IF2 adj.M axis bias.slope bp
  centromere_locations chr1 chr2 count fold.change i j p.adj p.value
  pnorm region1 region2 start1 start2
Consider adding
  importFrom("graphics", "axis")
  importFrom("stats", "D", "pnorm")
to your NAMESPACE file.
* checking Rd files ... OK
* checking Rd metadata ... OK
* checking Rd cross-references ... OK
* checking for missing documentation entries ... OK
* checking for code/documentation mismatches ... OK
* checking Rd \usage sections ... OK
* checking Rd contents ... OK
* checking for unstated dependencies in examples ... OK
* checking contents of ‘data’ directory ... OK
* checking data for non-ASCII characters ... OK
* checking data for ASCII and uncompressed saves ... OK
* checking files in ‘vignettes’ ... OK
* checking examples ... OK
Examples with CPU or elapsed time > 5s
                    user system elapsed
filter_params     45.492 13.757  23.989
hic_diff           9.653  3.679   6.259
sim_matrix         5.101  2.501   2.073
sim.other.methods  4.449  1.968   2.106
hic_simulate       4.274  1.211   2.554
* checking for unstated dependencies in ‘tests’ ... OK
* checking tests ...
  Running ‘testthat.R’
 OK
* checking for unstated dependencies in vignettes ... OK
* checking package vignettes in ‘inst/doc’ ... OK
* checking running R code from vignettes ... SKIPPED
* checking re-building of vignette outputs ... SKIPPED
* checking PDF version of manual ... OK
* DONE
Status: 2 NOTEs
See
  ‘/Users/biocbuild/bbs-3.9-bioc/meat/HiCcompare.Rcheck/00check.log’
for details.
HiCcompare.Rcheck/00install.out
############################################################################## ############################################################################## ### ### Running command: ### ### /Library/Frameworks/R.framework/Versions/Current/Resources/bin/R CMD INSTALL HiCcompare ### ############################################################################## ############################################################################## * installing to library ‘/Library/Frameworks/R.framework/Versions/3.6/Resources/library’ * installing *source* package ‘HiCcompare’ ... ** R ** data *** moving datasets to lazyload DB ** byte-compile and prepare package for lazy loading Note: wrong number of arguments to 'ceiling' ** help *** installing help indices ** building package indices ** installing vignettes ** testing if installed package can be loaded * DONE (HiCcompare)
HiCcompare.Rcheck/tests/testthat.Rout
R Under development (unstable) (2018-11-27 r75683) -- "Unsuffered Consequences"
Copyright (C) 2018 The R Foundation for Statistical Computing
Platform: x86_64-apple-darwin15.6.0 (64-bit)
R is free software and comes with ABSOLUTELY NO WARRANTY.
You are welcome to redistribute it under certain conditions.
Type 'license()' or 'licence()' for distribution details.
R is a collaborative project with many contributors.
Type 'contributors()' for more information and
'citation()' on how to cite R or R packages in publications.
Type 'demo()' for some demos, 'help()' for on-line help, or
'help.start()' for an HTML browser interface to help.
Type 'q()' to quit R.
> library(testthat)
> library(HiCcompare)
Loading required package: dplyr
Attaching package: 'dplyr'
The following object is masked from 'package:testthat':
    matches
The following objects are masked from 'package:stats':
    filter, lag
The following objects are masked from 'package:base':
    intersect, setdiff, setequal, union
> 
> test_check("HiCcompare")
══ testthat results  ═══════════════════════════════════════════════════════════
OK: 28 SKIPPED: 0 FAILED: 0
> 
> proc.time()
   user  system elapsed 
 18.505   5.119  13.392 
HiCcompare.Rcheck/HiCcompare-Ex.timings
| name | user | system | elapsed | |
| KRnorm | 0.007 | 0.001 | 0.008 | |
| MA_norm | 0.124 | 0.009 | 0.133 | |
| MD.plot1 | 0.983 | 0.020 | 1.011 | |
| MD.plot2 | 1.287 | 0.436 | 0.662 | |
| SCN | 0.002 | 0.000 | 0.003 | |
| cooler2sparse | 1.618 | 0.534 | 1.006 | |
| create.hic.table | 0.062 | 0.028 | 0.026 | |
| filter_params | 45.492 | 13.757 | 23.989 | |
| full2sparse | 0.015 | 0.003 | 0.011 | |
| get_CNV | 0.000 | 0.000 | 0.001 | |
| hic_compare | 1.369 | 0.317 | 1.182 | |
| hic_diff | 9.653 | 3.679 | 6.259 | |
| hic_loess | 0.321 | 0.019 | 0.346 | |
| hic_simulate | 4.274 | 1.211 | 2.554 | |
| hicpro2bedpe | 0 | 0 | 0 | |
| make_InteractionSet | 0.206 | 0.002 | 0.209 | |
| manhattan_plot | 1.697 | 0.407 | 1.113 | |
| remove_centromere | 0.002 | 0.001 | 0.003 | |
| sim.other.methods | 4.449 | 1.968 | 2.106 | |
| sim_matrix | 5.101 | 2.501 | 2.073 | |
| sparse2full | 0.003 | 0.001 | 0.004 | |
| split_centromere | 0.041 | 0.016 | 0.022 | |
| total_sum | 0.701 | 0.324 | 0.284 | |
| visualize_pvals | 2.220 | 0.770 | 1.084 | |