| Back to Multiple platform build/check report for BioC 3.9 |
|
This page was generated on 2019-10-16 12:32:24 -0400 (Wed, 16 Oct 2019).
| Package 752/1741 | Hostname | OS / Arch | INSTALL | BUILD | CHECK | BUILD BIN | ||||||
| HIBAG 1.20.0 Xiuwen Zheng
| malbec2 | Linux (Ubuntu 18.04.2 LTS) / x86_64 | OK | OK | OK | |||||||
| tokay2 | Windows Server 2012 R2 Standard / x64 | [ OK ] | OK | OK | OK | |||||||
| celaya2 | OS X 10.11.6 El Capitan / x86_64 | OK | OK | OK | OK |
| Package: HIBAG |
| Version: 1.20.0 |
| Command: C:\cygwin\bin\curl.exe -O https://malbec2.bioconductor.org/BBS/3.9/bioc/src/contrib/HIBAG_1.20.0.tar.gz && rm -rf HIBAG.buildbin-libdir && mkdir HIBAG.buildbin-libdir && C:\Users\biocbuild\bbs-3.9-bioc\R\bin\R.exe CMD INSTALL --merge-multiarch --build --library=HIBAG.buildbin-libdir HIBAG_1.20.0.tar.gz && C:\Users\biocbuild\bbs-3.9-bioc\R\bin\R.exe CMD INSTALL HIBAG_1.20.0.zip && rm HIBAG_1.20.0.tar.gz HIBAG_1.20.0.zip |
| StartedAt: 2019-10-15 18:47:09 -0400 (Tue, 15 Oct 2019) |
| EndedAt: 2019-10-15 18:49:05 -0400 (Tue, 15 Oct 2019) |
| EllapsedTime: 115.8 seconds |
| RetCode: 0 |
| Status: OK |
##############################################################################
##############################################################################
###
### Running command:
###
### C:\cygwin\bin\curl.exe -O https://malbec2.bioconductor.org/BBS/3.9/bioc/src/contrib/HIBAG_1.20.0.tar.gz && rm -rf HIBAG.buildbin-libdir && mkdir HIBAG.buildbin-libdir && C:\Users\biocbuild\bbs-3.9-bioc\R\bin\R.exe CMD INSTALL --merge-multiarch --build --library=HIBAG.buildbin-libdir HIBAG_1.20.0.tar.gz && C:\Users\biocbuild\bbs-3.9-bioc\R\bin\R.exe CMD INSTALL HIBAG_1.20.0.zip && rm HIBAG_1.20.0.tar.gz HIBAG_1.20.0.zip
###
##############################################################################
##############################################################################
% Total % Received % Xferd Average Speed Time Time Time Current
Dload Upload Total Spent Left Speed
0 0 0 0 0 0 0 0 --:--:-- --:--:-- --:--:-- 0
100 557k 100 557k 0 0 2412k 0 --:--:-- --:--:-- --:--:-- 2477k
install for i386
* installing *source* package 'HIBAG' ...
** using staged installation
** libs
C:/Rtools/mingw_32/bin/g++ -I"C:/Users/BIOCBU~1/BBS-3~1.9-B/R/include" -DNDEBUG -I"C:/extsoft/include" -O2 -Wall -mtune=generic -c HIBAG.cpp -o HIBAG.o
C:/Rtools/mingw_32/bin/g++ -I"C:/Users/BIOCBU~1/BBS-3~1.9-B/R/include" -DNDEBUG -I"C:/extsoft/include" -O2 -Wall -mtune=generic -c LibHLA.cpp -o LibHLA.o
C:/Rtools/mingw_32/bin/g++ -shared -s -static-libgcc -o HIBAG.dll tmp.def HIBAG.o LibHLA.o -LC:/extsoft/lib/i386 -LC:/extsoft/lib -LC:/Users/BIOCBU~1/BBS-3~1.9-B/R/bin/i386 -lR
installing to C:/Users/biocbuild/bbs-3.9-bioc/meat/HIBAG.buildbin-libdir/00LOCK-HIBAG/00new/HIBAG/libs/i386
** R
** data
*** moving datasets to lazyload DB
** inst
** byte-compile and prepare package for lazy loading
** help
*** installing help indices
converting help for package 'HIBAG'
finding HTML links ... done
HIBAG-package html
HLA_Type_Table html
HapMap_CEU_Geno html
hlaAASeqClass html
hlaAllele html
hlaAlleleClass html
hlaAlleleDigit html
hlaAlleleSubset html
hlaAssocTest html
hlaAttrBagClass html
hlaAttrBagObj html
hlaAttrBagging html
hlaBED2Geno html
hlaCheckAllele html
hlaCheckSNPs html
hlaClose html
hlaCombineAllele html
hlaCombineModelObj html
hlaCompareAllele html
hlaConvSequence html
hlaDistance html
hlaErrMsg html
hlaFlankingSNP html
hlaGDS2Geno html
hlaGeno2PED html
hlaGenoAFreq html
hlaGenoCombine html
hlaGenoLD html
hlaGenoMFreq html
hlaGenoMRate html
hlaGenoMRate_Samp html
hlaGenoSubset html
hlaGenoSwitchStrand html
hlaLDMatrix html
hlaLociInfo html
hlaMakeSNPGeno html
hlaModelFiles html
hlaModelFromObj html
hlaOutOfBag html
hlaParallelAttrBagging html
hlaPredMerge html
hlaPublish html
hlaReport html
hlaReportPlot html
hlaSNPGenoClass html
hlaSNPID html
hlaSampleAllele html
hlaSplitAllele html
hlaSubModelObj html
hlaUniqueAllele html
plot.hlaAttrBagObj html
predict.hlaAttrBagClass html
print.hlaAttrBagClass html
summary.hlaAlleleClass html
summary.hlaSNPGenoClass html
** building package indices
** installing vignettes
'HIBAG_Tutorial.Rmd'
** testing if installed package can be loaded from temporary location
** testing if installed package can be loaded from final location
** testing if installed package keeps a record of temporary installation path
install for x64
* installing *source* package 'HIBAG' ...
** libs
C:/Rtools/mingw_64/bin/g++ -I"C:/Users/BIOCBU~1/BBS-3~1.9-B/R/include" -DNDEBUG -I"C:/extsoft/include" -O2 -Wall -mtune=generic -c HIBAG.cpp -o HIBAG.o
C:/Rtools/mingw_64/bin/g++ -I"C:/Users/BIOCBU~1/BBS-3~1.9-B/R/include" -DNDEBUG -I"C:/extsoft/include" -O2 -Wall -mtune=generic -c LibHLA.cpp -o LibHLA.o
C:/Rtools/mingw_64/bin/g++ -shared -s -static-libgcc -o HIBAG.dll tmp.def HIBAG.o LibHLA.o -LC:/extsoft/lib/x64 -LC:/extsoft/lib -LC:/Users/BIOCBU~1/BBS-3~1.9-B/R/bin/x64 -lR
installing to C:/Users/biocbuild/bbs-3.9-bioc/meat/HIBAG.buildbin-libdir/HIBAG/libs/x64
** testing if installed package can be loaded
* MD5 sums
packaged installation of 'HIBAG' as HIBAG_1.20.0.zip
* DONE (HIBAG)
* installing to library 'C:/Users/biocbuild/bbs-3.9-bioc/R/library'
package 'HIBAG' successfully unpacked and MD5 sums checked