| Back to Multiple platform build/check report for BioC 3.9 |
|
This page was generated on 2019-10-16 12:34:04 -0400 (Wed, 16 Oct 2019).
| Package 734/1741 | Hostname | OS / Arch | INSTALL | BUILD | CHECK | BUILD BIN | ||||||
| Guitar 2.0.0 Jia Meng
| malbec2 | Linux (Ubuntu 18.04.2 LTS) / x86_64 | OK | OK | OK | |||||||
| tokay2 | Windows Server 2012 R2 Standard / x64 | OK | OK | [ OK ] | OK | |||||||
| celaya2 | OS X 10.11.6 El Capitan / x86_64 | OK | OK | OK | OK |
| Package: Guitar |
| Version: 2.0.0 |
| Command: C:\Users\biocbuild\bbs-3.9-bioc\R\bin\R.exe CMD check --force-multiarch --install=check:Guitar.install-out.txt --library=C:\Users\biocbuild\bbs-3.9-bioc\R\library --no-vignettes --timings Guitar_2.0.0.tar.gz |
| StartedAt: 2019-10-16 04:18:59 -0400 (Wed, 16 Oct 2019) |
| EndedAt: 2019-10-16 04:26:19 -0400 (Wed, 16 Oct 2019) |
| EllapsedTime: 439.7 seconds |
| RetCode: 0 |
| Status: OK |
| CheckDir: Guitar.Rcheck |
| Warnings: 0 |
##############################################################################
##############################################################################
###
### Running command:
###
### C:\Users\biocbuild\bbs-3.9-bioc\R\bin\R.exe CMD check --force-multiarch --install=check:Guitar.install-out.txt --library=C:\Users\biocbuild\bbs-3.9-bioc\R\library --no-vignettes --timings Guitar_2.0.0.tar.gz
###
##############################################################################
##############################################################################
* using log directory 'C:/Users/biocbuild/bbs-3.9-bioc/meat/Guitar.Rcheck'
* using R version 3.6.1 (2019-07-05)
* using platform: x86_64-w64-mingw32 (64-bit)
* using session charset: ISO8859-1
* using option '--no-vignettes'
* checking for file 'Guitar/DESCRIPTION' ... OK
* checking extension type ... Package
* this is package 'Guitar' version '2.0.0'
* package encoding: UTF-8
* checking package namespace information ... OK
* checking package dependencies ... NOTE
Depends: includes the non-default packages:
'GenomicFeatures', 'rtracklayer', 'AnnotationDbi', 'GenomicRanges',
'magrittr', 'ggplot2', 'knitr', 'dplyr'
Adding so many packages to the search path is excessive and importing
selectively is preferable.
* checking if this is a source package ... OK
* checking if there is a namespace ... OK
* checking for hidden files and directories ... OK
* checking for portable file names ... OK
* checking whether package 'Guitar' can be installed ... OK
* checking installed package size ... NOTE
installed size is 15.8Mb
sub-directories of 1Mb or more:
extdata 15.7Mb
* checking package directory ... OK
* checking 'build' directory ... OK
* checking DESCRIPTION meta-information ... OK
* checking top-level files ... OK
* checking for left-over files ... OK
* checking index information ... OK
* checking package subdirectories ... OK
* checking R files for non-ASCII characters ... OK
* checking R files for syntax errors ... OK
* loading checks for arch 'i386'
** checking whether the package can be loaded ... OK
** checking whether the package can be loaded with stated dependencies ... OK
** checking whether the package can be unloaded cleanly ... OK
** checking whether the namespace can be loaded with stated dependencies ... OK
** checking whether the namespace can be unloaded cleanly ... OK
* loading checks for arch 'x64'
** checking whether the package can be loaded ... OK
** checking whether the package can be loaded with stated dependencies ... OK
** checking whether the package can be unloaded cleanly ... OK
** checking whether the namespace can be loaded with stated dependencies ... OK
** checking whether the namespace can be unloaded cleanly ... OK
* checking dependencies in R code ... NOTE
Package in Depends field not imported from: 'knitr'
These packages need to be imported from (in the NAMESPACE file)
for when this namespace is loaded but not attached.
Unexported object imported by a ':::' call: 'GenomicRanges:::get_out_of_bound_index'
See the note in ?`:::` about the use of this operator.
* checking S3 generic/method consistency ... OK
* checking replacement functions ... OK
* checking foreign function calls ... OK
* checking R code for possible problems ... NOTE
.extractComponent: no visible binding for global variable 'gene_id'
.generate_guitar_coordinates: no visible global function definition for
'makeGuitarCoordsFromTxDb'
.generate_guitar_coordinates: no visible binding for global variable
'noBins'
Undefined global functions or variables:
gene_id makeGuitarCoordsFromTxDb noBins
* checking Rd files ... OK
* checking Rd metadata ... OK
* checking Rd cross-references ... OK
* checking for missing documentation entries ... OK
* checking for code/documentation mismatches ... OK
* checking Rd \usage sections ... OK
* checking Rd contents ... OK
* checking for unstated dependencies in examples ... OK
* checking files in 'vignettes' ... OK
* checking examples ...
** running examples for arch 'i386' ... OK
Examples with CPU or elapsed time > 5s
user system elapsed
GuitarPlot 29.78 0.11 29.89
GRangesListmapToTranscripts 8.75 0.61 23.66
makeGuitarTxdb 8.88 0.13 9.00
normalize 8.95 0.01 8.97
samplePoints 7.06 0.03 7.10
** running examples for arch 'x64' ... OK
Examples with CPU or elapsed time > 5s
user system elapsed
GuitarPlot 27.98 0.06 28.05
samplePoints 9.84 0.02 9.86
normalize 9.06 0.01 9.08
GRangesListmapToTranscripts 8.49 0.14 8.63
makeGuitarTxdb 7.23 0.04 7.27
* checking for unstated dependencies in vignettes ... OK
* checking package vignettes in 'inst/doc' ... OK
* checking running R code from vignettes ... SKIPPED
* checking re-building of vignette outputs ... SKIPPED
* checking PDF version of manual ... OK
* DONE
Status: 4 NOTEs
See
'C:/Users/biocbuild/bbs-3.9-bioc/meat/Guitar.Rcheck/00check.log'
for details.
Guitar.Rcheck/00install.out
##############################################################################
##############################################################################
###
### Running command:
###
### C:\cygwin\bin\curl.exe -O https://malbec2.bioconductor.org/BBS/3.9/bioc/src/contrib/Guitar_2.0.0.tar.gz && rm -rf Guitar.buildbin-libdir && mkdir Guitar.buildbin-libdir && C:\Users\biocbuild\bbs-3.9-bioc\R\bin\R.exe CMD INSTALL --merge-multiarch --build --library=Guitar.buildbin-libdir Guitar_2.0.0.tar.gz && C:\Users\biocbuild\bbs-3.9-bioc\R\bin\R.exe CMD INSTALL Guitar_2.0.0.zip && rm Guitar_2.0.0.tar.gz Guitar_2.0.0.zip
###
##############################################################################
##############################################################################
% Total % Received % Xferd Average Speed Time Time Time Current
Dload Upload Total Spent Left Speed
0 0 0 0 0 0 0 0 --:--:-- --:--:-- --:--:-- 0
100 3624k 100 3624k 0 0 36.9M 0 --:--:-- --:--:-- --:--:-- 39.7M
install for i386
* installing *source* package 'Guitar' ...
** using staged installation
** R
** inst
** byte-compile and prepare package for lazy loading
** help
*** installing help indices
converting help for package 'Guitar'
finding HTML links ... done
GRangesListmapToTranscripts html
GuitarPlot html
makeGuitarTxdb html
normalize html
samplePoints html
** building package indices
** installing vignettes
** testing if installed package can be loaded from temporary location
** testing if installed package can be loaded from final location
** testing if installed package keeps a record of temporary installation path
install for x64
* installing *source* package 'Guitar' ...
** testing if installed package can be loaded
* MD5 sums
packaged installation of 'Guitar' as Guitar_2.0.0.zip
* DONE (Guitar)
* installing to library 'C:/Users/biocbuild/bbs-3.9-bioc/R/library'
package 'Guitar' successfully unpacked and MD5 sums checked
|
Guitar.Rcheck/examples_i386/Guitar-Ex.timings
|
Guitar.Rcheck/examples_x64/Guitar-Ex.timings
|