| Back to Multiple platform build/check report for BioC 3.9 |
|
This page was generated on 2019-10-16 13:04:11 -0400 (Wed, 16 Oct 2019).
| Package 603/1741 | Hostname | OS / Arch | INSTALL | BUILD | CHECK | BUILD BIN | ||||||
| GAPGOM 1.0.0 Casper Peters
| malbec2 | Linux (Ubuntu 18.04.2 LTS) / x86_64 | OK | OK | OK | |||||||
| tokay2 | Windows Server 2012 R2 Standard / x64 | OK | OK | OK | OK | |||||||
| celaya2 | OS X 10.11.6 El Capitan / x86_64 | OK | OK | [ OK ] | OK |
| Package: GAPGOM |
| Version: 1.0.0 |
| Command: /Library/Frameworks/R.framework/Versions/Current/Resources/bin/R CMD check --install=check:GAPGOM.install-out.txt --library=/Library/Frameworks/R.framework/Versions/Current/Resources/library --no-vignettes --timings GAPGOM_1.0.0.tar.gz |
| StartedAt: 2019-10-16 02:56:45 -0400 (Wed, 16 Oct 2019) |
| EndedAt: 2019-10-16 03:02:00 -0400 (Wed, 16 Oct 2019) |
| EllapsedTime: 314.9 seconds |
| RetCode: 0 |
| Status: OK |
| CheckDir: GAPGOM.Rcheck |
| Warnings: 0 |
##############################################################################
##############################################################################
###
### Running command:
###
### /Library/Frameworks/R.framework/Versions/Current/Resources/bin/R CMD check --install=check:GAPGOM.install-out.txt --library=/Library/Frameworks/R.framework/Versions/Current/Resources/library --no-vignettes --timings GAPGOM_1.0.0.tar.gz
###
##############################################################################
##############################################################################
* using log directory ‘/Users/biocbuild/bbs-3.9-bioc/meat/GAPGOM.Rcheck’
* using R version 3.6.1 (2019-07-05)
* using platform: x86_64-apple-darwin15.6.0 (64-bit)
* using session charset: UTF-8
* using option ‘--no-vignettes’
* checking for file ‘GAPGOM/DESCRIPTION’ ... OK
* checking extension type ... Package
* this is package ‘GAPGOM’ version ‘1.0.0’
* package encoding: UTF-8
* checking package namespace information ... OK
* checking package dependencies ... OK
* checking if this is a source package ... OK
* checking if there is a namespace ... OK
* checking for hidden files and directories ... OK
* checking for portable file names ... OK
* checking for sufficient/correct file permissions ... OK
* checking whether package ‘GAPGOM’ can be installed ... OK
* checking installed package size ... OK
* checking package directory ... OK
* checking ‘build’ directory ... OK
* checking DESCRIPTION meta-information ... OK
* checking top-level files ... OK
* checking for left-over files ... OK
* checking index information ... OK
* checking package subdirectories ... OK
* checking R files for non-ASCII characters ... OK
* checking R files for syntax errors ... OK
* checking whether the package can be loaded ... OK
* checking whether the package can be loaded with stated dependencies ... OK
* checking whether the package can be unloaded cleanly ... OK
* checking whether the namespace can be loaded with stated dependencies ... OK
* checking whether the namespace can be unloaded cleanly ... OK
* checking dependencies in R code ... OK
* checking S3 generic/method consistency ... OK
* checking replacement functions ... OK
* checking foreign function calls ... OK
* checking R code for possible problems ... OK
* checking Rd files ... OK
* checking Rd metadata ... OK
* checking Rd cross-references ... OK
* checking for missing documentation entries ... OK
* checking for code/documentation mismatches ... OK
* checking Rd \usage sections ... OK
* checking Rd contents ... OK
* checking for unstated dependencies in examples ... OK
* checking contents of ‘data’ directory ... OK
* checking data for non-ASCII characters ... OK
* checking data for ASCII and uncompressed saves ... OK
* checking R/sysdata.rda ... OK
* checking files in ‘vignettes’ ... OK
* checking examples ... OK
Examples with CPU or elapsed time > 5s
user system elapsed
topo_ic_sim_genes 52.152 7.868 54.819
topo_ic_sim_term 16.070 2.189 17.725
set_go_data 14.255 2.289 16.257
fantom_to_expset 11.769 0.649 11.467
fantom_load_raw 11.771 0.100 11.874
* checking for unstated dependencies in ‘tests’ ... OK
* checking tests ...
Running ‘testthat.R’
OK
* checking for unstated dependencies in vignettes ... OK
* checking package vignettes in ‘inst/doc’ ... OK
* checking running R code from vignettes ... SKIPPED
* checking re-building of vignette outputs ... SKIPPED
* checking PDF version of manual ... OK
* DONE
Status: OK
GAPGOM.Rcheck/00install.out
############################################################################## ############################################################################## ### ### Running command: ### ### /Library/Frameworks/R.framework/Versions/Current/Resources/bin/R CMD INSTALL GAPGOM ### ############################################################################## ############################################################################## * installing to library ‘/Library/Frameworks/R.framework/Versions/3.6/Resources/library’ * installing *source* package ‘GAPGOM’ ... ** using staged installation ** R ** data *** moving datasets to lazyload DB ** inst ** byte-compile and prepare package for lazy loading ** help *** installing help indices ** building package indices ** installing vignettes ** testing if installed package can be loaded from temporary location ** testing if installed package can be loaded from final location ** testing if installed package keeps a record of temporary installation path * DONE (GAPGOM)
GAPGOM.Rcheck/tests/testthat.Rout
R version 3.6.1 (2019-07-05) -- "Action of the Toes"
Copyright (C) 2019 The R Foundation for Statistical Computing
Platform: x86_64-apple-darwin15.6.0 (64-bit)
R is free software and comes with ABSOLUTELY NO WARRANTY.
You are welcome to redistribute it under certain conditions.
Type 'license()' or 'licence()' for distribution details.
R is a collaborative project with many contributors.
Type 'contributors()' for more information and
'citation()' on how to cite R or R packages in publications.
Type 'demo()' for some demos, 'help()' for on-line help, or
'help.start()' for an HTML browser interface to help.
Type 'q()' to quit R.
> library(testthat)
> library(GAPGOM)
Setting options('download.file.method.GEOquery'='auto')
Setting options('GEOquery.inmemory.gpl'=FALSE)
GAPGOM v1.0.0
For help/issues, refer to the readme FAQ or report an issue on the issue page: https://github.com/Berghopper/GAPGOM/issues
If you use GAPGOM in any sort of publication, please cite:
[1] Ehsani R, Drabløs F: TopoICSim: a new semantic similarity measure based on gene ontology. BMC Bioinformatics 2016, 17(1):296
[2] Ehsani R, Drabløs F: Measures of co-expression for improved function prediction of long non-coding RNAs, 2018. BMC Bioinformatics, 2018 Accepted.
>
> test_check("GAPGOM")
══ testthat results ═══════════════════════════════════════════════════════════
[ OK: 7 | SKIPPED: 3 | WARNINGS: 0 | FAILED: 0 ]
>
> proc.time()
user system elapsed
12.752 1.465 11.678
GAPGOM.Rcheck/GAPGOM-Ex.timings
| name | user | system | elapsed | |
| expression_prediction | 3.130 | 1.532 | 1.319 | |
| expression_semantic_scoring | 0.810 | 0.288 | 0.580 | |
| fantom_download | 0.743 | 0.019 | 0.765 | |
| fantom_load_raw | 11.771 | 0.100 | 11.874 | |
| fantom_to_expset | 11.769 | 0.649 | 11.467 | |
| set_go_data | 14.255 | 2.289 | 16.257 | |
| topo_ic_sim_genes | 52.152 | 7.868 | 54.819 | |
| topo_ic_sim_term | 16.070 | 2.189 | 17.725 | |