| Back to Multiple platform build/check report for BioC 3.9 |
|
This page was generated on 2019-10-16 12:27:26 -0400 (Wed, 16 Oct 2019).
| Package 466/1741 | Hostname | OS / Arch | INSTALL | BUILD | CHECK | BUILD BIN | ||||||
| DrugVsDisease 2.26.0 j. Saez-Rodriguez
| malbec2 | Linux (Ubuntu 18.04.2 LTS) / x86_64 | OK | OK | OK | |||||||
| tokay2 | Windows Server 2012 R2 Standard / x64 | OK | OK | OK | [ OK ] | |||||||
| celaya2 | OS X 10.11.6 El Capitan / x86_64 | OK | OK | OK | OK |
| Package: DrugVsDisease |
| Version: 2.26.0 |
| Command: rm -rf DrugVsDisease.buildbin-libdir && mkdir DrugVsDisease.buildbin-libdir && C:\Users\biocbuild\bbs-3.9-bioc\R\bin\R.exe CMD INSTALL --merge-multiarch --build --library=DrugVsDisease.buildbin-libdir DrugVsDisease_2.26.0.tar.gz |
| StartedAt: 2019-10-16 09:06:32 -0400 (Wed, 16 Oct 2019) |
| EndedAt: 2019-10-16 09:07:39 -0400 (Wed, 16 Oct 2019) |
| EllapsedTime: 67.4 seconds |
| RetCode: 0 |
| Status: OK |
| PackageFile: DrugVsDisease_2.26.0.zip |
| PackageFileSize: 2.69 MiB |
##############################################################################
##############################################################################
###
### Running command:
###
### rm -rf DrugVsDisease.buildbin-libdir && mkdir DrugVsDisease.buildbin-libdir && C:\Users\biocbuild\bbs-3.9-bioc\R\bin\R.exe CMD INSTALL --merge-multiarch --build --library=DrugVsDisease.buildbin-libdir DrugVsDisease_2.26.0.tar.gz
###
##############################################################################
##############################################################################
install for i386
* installing *source* package 'DrugVsDisease' ...
** using staged installation
** R
** data
*** moving datasets to lazyload DB
** inst
** byte-compile and prepare package for lazy loading
** help
*** installing help indices
converting help for package 'DrugVsDisease'
finding HTML links ... done
DrugVsDisease-package html
classifyprofile html
combineProfiles html
customClust html
customdb html
customedge html
customsif html
generateprofiles html
profiles html
selectrankedlists html
selprofile html
** building package indices
** installing vignettes
** testing if installed package can be loaded from temporary location
** testing if installed package can be loaded from final location
** testing if installed package keeps a record of temporary installation path
install for x64
* installing *source* package 'DrugVsDisease' ...
** testing if installed package can be loaded
* MD5 sums
packaged installation of 'DrugVsDisease' as DrugVsDisease_2.26.0.zip
* DONE (DrugVsDisease)