| Back to Multiple platform build/check report for BioC 3.9 |
|
This page was generated on 2019-10-16 12:25:12 -0400 (Wed, 16 Oct 2019).
| Package 460/1741 | Hostname | OS / Arch | INSTALL | BUILD | CHECK | BUILD BIN | ||||||
| DOSE 3.10.2 Guangchuang Yu
| malbec2 | Linux (Ubuntu 18.04.2 LTS) / x86_64 | OK | OK | OK | |||||||
| tokay2 | Windows Server 2012 R2 Standard / x64 | [ OK ] | OK | OK | OK | |||||||
| celaya2 | OS X 10.11.6 El Capitan / x86_64 | OK | OK | OK | OK |
| Package: DOSE |
| Version: 3.10.2 |
| Command: C:\cygwin\bin\curl.exe -O https://malbec2.bioconductor.org/BBS/3.9/bioc/src/contrib/DOSE_3.10.2.tar.gz && rm -rf DOSE.buildbin-libdir && mkdir DOSE.buildbin-libdir && C:\Users\biocbuild\bbs-3.9-bioc\R\bin\R.exe CMD INSTALL --merge-multiarch --build --library=DOSE.buildbin-libdir DOSE_3.10.2.tar.gz && C:\Users\biocbuild\bbs-3.9-bioc\R\bin\R.exe CMD INSTALL DOSE_3.10.2.zip && rm DOSE_3.10.2.tar.gz DOSE_3.10.2.zip |
| StartedAt: 2019-10-15 19:37:04 -0400 (Tue, 15 Oct 2019) |
| EndedAt: 2019-10-15 19:38:40 -0400 (Tue, 15 Oct 2019) |
| EllapsedTime: 95.1 seconds |
| RetCode: 0 |
| Status: OK |
##############################################################################
##############################################################################
###
### Running command:
###
### C:\cygwin\bin\curl.exe -O https://malbec2.bioconductor.org/BBS/3.9/bioc/src/contrib/DOSE_3.10.2.tar.gz && rm -rf DOSE.buildbin-libdir && mkdir DOSE.buildbin-libdir && C:\Users\biocbuild\bbs-3.9-bioc\R\bin\R.exe CMD INSTALL --merge-multiarch --build --library=DOSE.buildbin-libdir DOSE_3.10.2.tar.gz && C:\Users\biocbuild\bbs-3.9-bioc\R\bin\R.exe CMD INSTALL DOSE_3.10.2.zip && rm DOSE_3.10.2.tar.gz DOSE_3.10.2.zip
###
##############################################################################
##############################################################################
% Total % Received % Xferd Average Speed Time Time Time Current
Dload Upload Total Spent Left Speed
0 0 0 0 0 0 0 0 --:--:-- --:--:-- --:--:-- 0
100 3070k 100 3070k 0 0 29.1M 0 --:--:-- --:--:-- --:--:-- 31.2M
install for i386
* installing *source* package 'DOSE' ...
** using staged installation
** R
** data
** inst
** byte-compile and prepare package for lazy loading
** help
*** installing help indices
converting help for package 'DOSE'
finding HTML links ... done
DOSE-package html
DataSet html
EXTID2NAME html
GSEA_internal html
clusterSim html
computeIC html
doSim html
enrichDGN html
enrichDGNv html
enrichDO html
enrichNCG html
enrichResult-class html
enricher_internal html
fortify.enrichResult html
gene2DO html
geneID html
geneInCategory html
geneSim html
gseDGN html
gseDO html
gseNCG html
gseaResult-class html
gsfilter html
mclusterSim html
parse_ratio html
rebuildAnnoData html
reexports html
setReadable html
show-methods html
simplot html
summary-methods html
theme_dose html
** building package indices
** installing vignettes
** testing if installed package can be loaded from temporary location
** testing if installed package can be loaded from final location
** testing if installed package keeps a record of temporary installation path
install for x64
* installing *source* package 'DOSE' ...
** testing if installed package can be loaded
* MD5 sums
packaged installation of 'DOSE' as DOSE_3.10.2.zip
* DONE (DOSE)
* installing to library 'C:/Users/biocbuild/bbs-3.9-bioc/R/library'
package 'DOSE' successfully unpacked and MD5 sums checked