| Back to Multiple platform build/check report for BioC 3.9 |
|
This page was generated on 2019-10-16 12:13:33 -0400 (Wed, 16 Oct 2019).
| Package 422/1741 | Hostname | OS / Arch | INSTALL | BUILD | CHECK | BUILD BIN | ||||||
| DEScan2 1.4.0 Dario Righelli
| malbec2 | Linux (Ubuntu 18.04.2 LTS) / x86_64 | OK | OK | [ OK ] | |||||||
| tokay2 | Windows Server 2012 R2 Standard / x64 | OK | OK | WARNINGS | OK | |||||||
| celaya2 | OS X 10.11.6 El Capitan / x86_64 | OK | OK | OK | OK |
| Package: DEScan2 |
| Version: 1.4.0 |
| Command: /home/biocbuild/bbs-3.9-bioc/R/bin/R CMD check --install=check:DEScan2.install-out.txt --library=/home/biocbuild/bbs-3.9-bioc/R/library --no-vignettes --timings DEScan2_1.4.0.tar.gz |
| StartedAt: 2019-10-16 01:07:10 -0400 (Wed, 16 Oct 2019) |
| EndedAt: 2019-10-16 01:14:39 -0400 (Wed, 16 Oct 2019) |
| EllapsedTime: 448.8 seconds |
| RetCode: 0 |
| Status: OK |
| CheckDir: DEScan2.Rcheck |
| Warnings: 0 |
##############################################################################
##############################################################################
###
### Running command:
###
### /home/biocbuild/bbs-3.9-bioc/R/bin/R CMD check --install=check:DEScan2.install-out.txt --library=/home/biocbuild/bbs-3.9-bioc/R/library --no-vignettes --timings DEScan2_1.4.0.tar.gz
###
##############################################################################
##############################################################################
* using log directory ‘/home/biocbuild/bbs-3.9-bioc/meat/DEScan2.Rcheck’
* using R version 3.6.1 (2019-07-05)
* using platform: x86_64-pc-linux-gnu (64-bit)
* using session charset: UTF-8
* using option ‘--no-vignettes’
* checking for file ‘DEScan2/DESCRIPTION’ ... OK
* checking extension type ... Package
* this is package ‘DEScan2’ version ‘1.4.0’
* checking package namespace information ... OK
* checking package dependencies ... OK
* checking if this is a source package ... OK
* checking if there is a namespace ... OK
* checking for hidden files and directories ... OK
* checking for portable file names ... OK
* checking for sufficient/correct file permissions ... OK
* checking whether package ‘DEScan2’ can be installed ... OK
* checking installed package size ... OK
* checking package directory ... OK
* checking ‘build’ directory ... OK
* checking DESCRIPTION meta-information ... OK
* checking top-level files ... OK
* checking for left-over files ... OK
* checking index information ... OK
* checking package subdirectories ... OK
* checking R files for non-ASCII characters ... OK
* checking R files for syntax errors ... OK
* checking whether the package can be loaded ... OK
* checking whether the package can be loaded with stated dependencies ... OK
* checking whether the package can be unloaded cleanly ... OK
* checking whether the namespace can be loaded with stated dependencies ... OK
* checking whether the namespace can be unloaded cleanly ... OK
* checking dependencies in R code ... OK
* checking S3 generic/method consistency ... OK
* checking replacement functions ... OK
* checking foreign function calls ... OK
* checking R code for possible problems ... OK
* checking Rd files ... OK
* checking Rd metadata ... OK
* checking Rd cross-references ... OK
* checking for missing documentation entries ... OK
* checking for code/documentation mismatches ... OK
* checking Rd \usage sections ... OK
* checking Rd contents ... OK
* checking for unstated dependencies in examples ... OK
* checking line endings in C/C++/Fortran sources/headers ... OK
* checking line endings in Makefiles ... OK
* checking compilation flags in Makevars ... OK
* checking for GNU extensions in Makefiles ... OK
* checking for portable use of $(BLAS_LIBS) and $(LAPACK_LIBS) ... OK
* checking compiled code ... NOTE
Note: information on .o files is not available
* checking files in ‘vignettes’ ... OK
* checking examples ... OK
Examples with CPU or elapsed time > 5s
user system elapsed
findPeaks 24.105 1.279 27.258
finalRegions 20.240 0.698 20.976
binnedCoverage 13.626 0.491 15.767
findOverlapsOverSamples 10.592 0.000 10.603
countFinalRegions 3.398 0.041 15.359
readFilesAsGRangesList 2.681 0.077 12.716
* checking for unstated dependencies in ‘tests’ ... OK
* checking tests ...
Running ‘testthat.R’
OK
* checking for unstated dependencies in vignettes ... OK
* checking package vignettes in ‘inst/doc’ ... OK
* checking running R code from vignettes ... SKIPPED
* checking re-building of vignette outputs ... SKIPPED
* checking PDF version of manual ... OK
* DONE
Status: 1 NOTE
See
‘/home/biocbuild/bbs-3.9-bioc/meat/DEScan2.Rcheck/00check.log’
for details.
DEScan2.Rcheck/00install.out
############################################################################## ############################################################################## ### ### Running command: ### ### /home/biocbuild/bbs-3.9-bioc/R/bin/R CMD INSTALL DEScan2 ### ############################################################################## ############################################################################## * installing to library ‘/home/biocbuild/bbs-3.9-bioc/R/library’ * installing *source* package ‘DEScan2’ ... ** using staged installation ** libs g++ -std=gnu++11 -I"/home/biocbuild/bbs-3.9-bioc/R/include" -DNDEBUG -I"/home/biocbuild/bbs-3.9-bioc/R/library/Rcpp/include" -I"/home/biocbuild/bbs-3.9-bioc/R/library/RcppArmadillo/include" -I/usr/local/include -fpic -g -O2 -Wall -c RcppExports.cpp -o RcppExports.o g++ -std=gnu++11 -I"/home/biocbuild/bbs-3.9-bioc/R/include" -DNDEBUG -I"/home/biocbuild/bbs-3.9-bioc/R/library/Rcpp/include" -I"/home/biocbuild/bbs-3.9-bioc/R/library/RcppArmadillo/include" -I/usr/local/include -fpic -g -O2 -Wall -c rcpparma_max_win.cpp -o rcpparma_max_win.o g++ -std=gnu++11 -shared -L/home/biocbuild/bbs-3.9-bioc/R/lib -L/usr/local/lib -o DEScan2.so RcppExports.o rcpparma_max_win.o -L/home/biocbuild/bbs-3.9-bioc/R/lib -lRlapack -L/home/biocbuild/bbs-3.9-bioc/R/lib -lRblas -lgfortran -lm -lquadmath -L/home/biocbuild/bbs-3.9-bioc/R/lib -lR installing to /home/biocbuild/bbs-3.9-bioc/R/library/00LOCK-DEScan2/00new/DEScan2/libs ** R ** inst ** byte-compile and prepare package for lazy loading ** help *** installing help indices ** building package indices ** installing vignettes ** testing if installed package can be loaded from temporary location ** checking absolute paths in shared objects and dynamic libraries ** testing if installed package can be loaded from final location ** testing if installed package keeps a record of temporary installation path * DONE (DEScan2)
DEScan2.Rcheck/tests/testthat.Rout
R version 3.6.1 (2019-07-05) -- "Action of the Toes"
Copyright (C) 2019 The R Foundation for Statistical Computing
Platform: x86_64-pc-linux-gnu (64-bit)
R is free software and comes with ABSOLUTELY NO WARRANTY.
You are welcome to redistribute it under certain conditions.
Type 'license()' or 'licence()' for distribution details.
R is a collaborative project with many contributors.
Type 'contributors()' for more information and
'citation()' on how to cite R or R packages in publications.
Type 'demo()' for some demos, 'help()' for on-line help, or
'help.start()' for an HTML browser interface to help.
Type 'q()' to quit R.
> library("testthat")
> library("DEScan2")
Loading required package: GenomicRanges
Loading required package: stats4
Loading required package: BiocGenerics
Loading required package: parallel
Attaching package: 'BiocGenerics'
The following objects are masked from 'package:parallel':
clusterApply, clusterApplyLB, clusterCall, clusterEvalQ,
clusterExport, clusterMap, parApply, parCapply, parLapply,
parLapplyLB, parRapply, parSapply, parSapplyLB
The following objects are masked from 'package:stats':
IQR, mad, sd, var, xtabs
The following objects are masked from 'package:base':
Filter, Find, Map, Position, Reduce, anyDuplicated, append,
as.data.frame, basename, cbind, colnames, dirname, do.call,
duplicated, eval, evalq, get, grep, grepl, intersect, is.unsorted,
lapply, mapply, match, mget, order, paste, pmax, pmax.int, pmin,
pmin.int, rank, rbind, rownames, sapply, setdiff, sort, table,
tapply, union, unique, unsplit, which, which.max, which.min
Loading required package: S4Vectors
Attaching package: 'S4Vectors'
The following object is masked from 'package:base':
expand.grid
Loading required package: IRanges
Loading required package: GenomeInfoDb
>
> test_check("DEScan2")
Maximizing with zthresh: 10 sigwin: 10
══ testthat results ═══════════════════════════════════════════════════════════
[ OK: 7 | SKIPPED: 0 | WARNINGS: 0 | FAILED: 0 ]
>
> proc.time()
user system elapsed
50.477 1.596 66.747
DEScan2.Rcheck/DEScan2-Ex.timings
| name | user | system | elapsed | |
| RleListToRleMatrix | 0.208 | 0.000 | 0.208 | |
| binnedCoverage | 13.626 | 0.491 | 15.767 | |
| constructBedRanges | 0.385 | 0.012 | 1.741 | |
| countFinalRegions | 3.398 | 0.041 | 15.359 | |
| createGranges | 0.093 | 0.000 | 1.535 | |
| cutGRangesPerChromosome | 0.061 | 0.000 | 0.061 | |
| divideEachSampleByChromosomes | 0.213 | 0.000 | 0.212 | |
| finalRegions | 20.240 | 0.698 | 20.976 | |
| findOverlapsOverSamples | 10.592 | 0.000 | 10.603 | |
| findPeaks | 24.105 | 1.279 | 27.258 | |
| fromSamplesToChrsGRangesList | 0.272 | 0.000 | 0.272 | |
| keepRelevantChrs | 0.040 | 0.000 | 0.041 | |
| readBamAsBed | 0.078 | 0.000 | 0.077 | |
| readBedFile | 0.109 | 0.000 | 0.124 | |
| readFilesAsGRangesList | 2.681 | 0.077 | 12.716 | |
| saveGRangesAsBed | 0.109 | 0.000 | 0.110 | |
| saveGRangesAsTsv | 0.013 | 0.000 | 0.013 | |
| setGRGenomeInfo | 0.051 | 0.003 | 1.327 | |