| Back to Multiple platform build/check report for BioC 3.9 |
|
This page was generated on 2019-10-16 12:56:48 -0400 (Wed, 16 Oct 2019).
| Package 253/1741 | Hostname | OS / Arch | INSTALL | BUILD | CHECK | BUILD BIN | ||||||
| Chicago 1.12.0 Mikhail Spivakov
| malbec2 | Linux (Ubuntu 18.04.2 LTS) / x86_64 | OK | OK | OK | |||||||
| tokay2 | Windows Server 2012 R2 Standard / x64 | OK | OK | OK | OK | |||||||
| celaya2 | OS X 10.11.6 El Capitan / x86_64 | OK | OK | [ OK ] | OK |
| Package: Chicago |
| Version: 1.12.0 |
| Command: /Library/Frameworks/R.framework/Versions/Current/Resources/bin/R CMD check --install=check:Chicago.install-out.txt --library=/Library/Frameworks/R.framework/Versions/Current/Resources/library --no-vignettes --timings Chicago_1.12.0.tar.gz |
| StartedAt: 2019-10-16 01:20:41 -0400 (Wed, 16 Oct 2019) |
| EndedAt: 2019-10-16 01:23:41 -0400 (Wed, 16 Oct 2019) |
| EllapsedTime: 179.8 seconds |
| RetCode: 0 |
| Status: OK |
| CheckDir: Chicago.Rcheck |
| Warnings: 0 |
##############################################################################
##############################################################################
###
### Running command:
###
### /Library/Frameworks/R.framework/Versions/Current/Resources/bin/R CMD check --install=check:Chicago.install-out.txt --library=/Library/Frameworks/R.framework/Versions/Current/Resources/library --no-vignettes --timings Chicago_1.12.0.tar.gz
###
##############################################################################
##############################################################################
* using log directory ‘/Users/biocbuild/bbs-3.9-bioc/meat/Chicago.Rcheck’
* using R version 3.6.1 (2019-07-05)
* using platform: x86_64-apple-darwin15.6.0 (64-bit)
* using session charset: UTF-8
* using option ‘--no-vignettes’
* checking for file ‘Chicago/DESCRIPTION’ ... OK
* checking extension type ... Package
* this is package ‘Chicago’ version ‘1.12.0’
* checking package namespace information ... OK
* checking package dependencies ... OK
* checking if this is a source package ... OK
* checking if there is a namespace ... OK
* checking for hidden files and directories ... NOTE
Found the following hidden files and directories:
.BBSoptions
These were most likely included in error. See section ‘Package
structure’ in the ‘Writing R Extensions’ manual.
* checking for portable file names ... OK
* checking for sufficient/correct file permissions ... OK
* checking whether package ‘Chicago’ can be installed ... OK
* checking installed package size ... OK
* checking package directory ... OK
* checking ‘build’ directory ... OK
* checking DESCRIPTION meta-information ... OK
* checking top-level files ... OK
* checking for left-over files ... OK
* checking index information ... OK
* checking package subdirectories ... OK
* checking R files for non-ASCII characters ... OK
* checking R files for syntax errors ... OK
* checking whether the package can be loaded ... OK
* checking whether the package can be loaded with stated dependencies ... OK
* checking whether the package can be unloaded cleanly ... OK
* checking whether the namespace can be loaded with stated dependencies ... OK
* checking whether the namespace can be unloaded cleanly ... OK
* checking dependencies in R code ... OK
* checking S3 generic/method consistency ... OK
* checking replacement functions ... OK
* checking foreign function calls ... OK
* checking R code for possible problems ... OK
* checking Rd files ... OK
* checking Rd metadata ... OK
* checking Rd cross-references ... OK
* checking for missing documentation entries ... OK
* checking for code/documentation mismatches ... OK
* checking Rd \usage sections ... OK
* checking Rd contents ... OK
* checking for unstated dependencies in examples ... OK
* checking contents of ‘data’ directory ... OK
* checking data for non-ASCII characters ... OK
* checking data for ASCII and uncompressed saves ... OK
* checking files in ‘vignettes’ ... OK
* checking examples ... OK
Examples with CPU or elapsed time > 5s
user system elapsed
normaliseOtherEnds 32.319 23.518 22.025
exportResults 19.985 2.062 20.705
peakEnrichment4Features 10.205 6.175 2.437
* checking for unstated dependencies in ‘tests’ ... OK
* checking tests ...
Running ‘testthat.R’
OK
* checking for unstated dependencies in vignettes ... OK
* checking package vignettes in ‘inst/doc’ ... OK
* checking running R code from vignettes ... SKIPPED
* checking re-building of vignette outputs ... SKIPPED
* checking PDF version of manual ... OK
* DONE
Status: 1 NOTE
See
‘/Users/biocbuild/bbs-3.9-bioc/meat/Chicago.Rcheck/00check.log’
for details.
Chicago.Rcheck/00install.out
############################################################################## ############################################################################## ### ### Running command: ### ### /Library/Frameworks/R.framework/Versions/Current/Resources/bin/R CMD INSTALL Chicago ### ############################################################################## ############################################################################## * installing to library ‘/Library/Frameworks/R.framework/Versions/3.6/Resources/library’ * installing *source* package ‘Chicago’ ... ** using staged installation ** R ** data ** inst ** byte-compile and prepare package for lazy loading ** help *** installing help indices ** building package indices ** installing vignettes ** testing if installed package can be loaded from temporary location ** testing if installed package can be loaded from final location ** testing if installed package keeps a record of temporary installation path * DONE (Chicago)
Chicago.Rcheck/tests/testthat.Rout
R version 3.6.1 (2019-07-05) -- "Action of the Toes"
Copyright (C) 2019 The R Foundation for Statistical Computing
Platform: x86_64-apple-darwin15.6.0 (64-bit)
R is free software and comes with ABSOLUTELY NO WARRANTY.
You are welcome to redistribute it under certain conditions.
Type 'license()' or 'licence()' for distribution details.
R is a collaborative project with many contributors.
Type 'contributors()' for more information and
'citation()' on how to cite R or R packages in publications.
Type 'demo()' for some demos, 'help()' for on-line help, or
'help.start()' for an HTML browser interface to help.
Type 'q()' to quit R.
> library(testthat)
> library(Chicago)
Loading required package: data.table
Welcome to CHiCAGO - version 1.12.0
If you are new to CHiCAGO, please consider reading the vignette through the command: vignette("Chicago").
NOTE: Default values of tlb.minProxOEPerBin and tlb.minProxB2BPerBin changed as of Version 1.1.5. No action is required unless you specified non-default values, or wish to re-run the pipeline on old chicagoData objects. See news(package="Chicago")
>
> test_check("Chicago")
Read 4 items
Read 4 items
Read 4 items
══ testthat results ═══════════════════════════════════════════════════════════
[ OK: 11 | SKIPPED: 0 | WARNINGS: 0 | FAILED: 0 ]
>
> proc.time()
user system elapsed
11.171 5.307 5.995
Chicago.Rcheck/Chicago-Ex.timings
| name | user | system | elapsed | |
| cdUnitTest | 0.203 | 0.139 | 0.103 | |
| chicagoData | 0.004 | 0.003 | 0.001 | |
| chicagoPipeline | 0.198 | 0.151 | 0.070 | |
| copyCD | 0.030 | 0.028 | 0.013 | |
| defaultSettings | 0.008 | 0.008 | 0.003 | |
| estimateBrownianComponent | 0.915 | 0.636 | 0.314 | |
| estimateDistFun | 0.188 | 0.140 | 0.067 | |
| estimateTechnicalNoise | 0.439 | 0.319 | 0.145 | |
| exportResults | 19.985 | 2.062 | 20.705 | |
| getPvals | 0.089 | 0.023 | 0.031 | |
| getScores | 0.205 | 0.137 | 0.069 | |
| getSkOnly | 1.258 | 0.826 | 0.564 | |
| mergeSamples | 0.777 | 0.539 | 0.267 | |
| modifySettings | 0.092 | 0.063 | 0.032 | |
| normaliseBaits | 0.600 | 0.409 | 0.201 | |
| normaliseOtherEnds | 32.319 | 23.518 | 22.025 | |
| overlapFragWithFeatures | 0.775 | 0.217 | 0.127 | |
| peakEnrichment4Features | 10.205 | 6.175 | 2.437 | |
| plotBaits | 1.670 | 1.330 | 0.504 | |
| plotDistFun | 0.064 | 0.061 | 0.021 | |
| readAndMerge | 0.608 | 0.518 | 0.186 | |
| readSample | 0.235 | 0.199 | 0.070 | |
| setExperiment | 0.072 | 0.062 | 0.023 | |