| Back to Multiple platform build/check report for BioC 3.9 |
|
This page was generated on 2019-10-16 12:28:08 -0400 (Wed, 16 Oct 2019).
| Package 154/1741 | Hostname | OS / Arch | INSTALL | BUILD | CHECK | BUILD BIN | ||||||
| BiocStyle 2.12.0 Bioconductor Package Maintainer
| malbec2 | Linux (Ubuntu 18.04.2 LTS) / x86_64 | OK | OK | OK | |||||||
| tokay2 | Windows Server 2012 R2 Standard / x64 | [ OK ] | OK | OK | OK | |||||||
| celaya2 | OS X 10.11.6 El Capitan / x86_64 | OK | OK | OK | OK |
| Package: BiocStyle |
| Version: 2.12.0 |
| Command: C:\cygwin\bin\curl.exe -O https://malbec2.bioconductor.org/BBS/3.9/bioc/src/contrib/BiocStyle_2.12.0.tar.gz && rm -rf BiocStyle.buildbin-libdir && mkdir BiocStyle.buildbin-libdir && C:\Users\biocbuild\bbs-3.9-bioc\R\bin\R.exe CMD INSTALL --merge-multiarch --build --library=BiocStyle.buildbin-libdir BiocStyle_2.12.0.tar.gz && C:\Users\biocbuild\bbs-3.9-bioc\R\bin\R.exe CMD INSTALL BiocStyle_2.12.0.zip && rm BiocStyle_2.12.0.tar.gz BiocStyle_2.12.0.zip |
| StartedAt: 2019-10-15 18:56:17 -0400 (Tue, 15 Oct 2019) |
| EndedAt: 2019-10-15 18:56:49 -0400 (Tue, 15 Oct 2019) |
| EllapsedTime: 32.4 seconds |
| RetCode: 0 |
| Status: OK |
##############################################################################
##############################################################################
###
### Running command:
###
### C:\cygwin\bin\curl.exe -O https://malbec2.bioconductor.org/BBS/3.9/bioc/src/contrib/BiocStyle_2.12.0.tar.gz && rm -rf BiocStyle.buildbin-libdir && mkdir BiocStyle.buildbin-libdir && C:\Users\biocbuild\bbs-3.9-bioc\R\bin\R.exe CMD INSTALL --merge-multiarch --build --library=BiocStyle.buildbin-libdir BiocStyle_2.12.0.tar.gz && C:\Users\biocbuild\bbs-3.9-bioc\R\bin\R.exe CMD INSTALL BiocStyle_2.12.0.zip && rm BiocStyle_2.12.0.tar.gz BiocStyle_2.12.0.zip
###
##############################################################################
##############################################################################
% Total % Received % Xferd Average Speed Time Time Time Current
Dload Upload Total Spent Left Speed
0 0 0 0 0 0 0 0 --:--:-- --:--:-- --:--:-- 0
100 57357 100 57357 0 0 803k 0 --:--:-- --:--:-- --:--:-- 889k
install for i386
* installing *source* package 'BiocStyle' ...
** using staged installation
** R
** inst
** byte-compile and prepare package for lazy loading
** help
*** installing help indices
converting help for package 'BiocStyle'
finding HTML links ... done
BiocStyle-defunct html
helpers html
html_document html
latex html
macros html
markdown html
md_document html
output html
pdf_document html
finding level-2 HTML links ... done
** building package indices
** installing vignettes
** testing if installed package can be loaded from temporary location
** testing if installed package can be loaded from final location
** testing if installed package keeps a record of temporary installation path
install for x64
* installing *source* package 'BiocStyle' ...
** testing if installed package can be loaded
* MD5 sums
packaged installation of 'BiocStyle' as BiocStyle_2.12.0.zip
* DONE (BiocStyle)
* installing to library 'C:/Users/biocbuild/bbs-3.9-bioc/R/library'
package 'BiocStyle' successfully unpacked and MD5 sums checked