| Back to Multiple platform build/check report for BioC 3.9 |
|
This page was generated on 2019-10-16 12:21:32 -0400 (Wed, 16 Oct 2019).
| Package 1737/1741 | Hostname | OS / Arch | INSTALL | BUILD | CHECK | BUILD BIN | ||||||
| yaqcaffy 1.44.0 Laurent Gatto
| malbec2 | Linux (Ubuntu 18.04.2 LTS) / x86_64 | OK | OK | OK | |||||||
| tokay2 | Windows Server 2012 R2 Standard / x64 | OK | OK | OK | [ OK ] | |||||||
| celaya2 | OS X 10.11.6 El Capitan / x86_64 | OK | OK | OK | OK |
| Package: yaqcaffy |
| Version: 1.44.0 |
| Command: rm -rf yaqcaffy.buildbin-libdir && mkdir yaqcaffy.buildbin-libdir && C:\Users\biocbuild\bbs-3.9-bioc\R\bin\R.exe CMD INSTALL --merge-multiarch --build --library=yaqcaffy.buildbin-libdir yaqcaffy_1.44.0.tar.gz |
| StartedAt: 2019-10-16 10:27:27 -0400 (Wed, 16 Oct 2019) |
| EndedAt: 2019-10-16 10:28:05 -0400 (Wed, 16 Oct 2019) |
| EllapsedTime: 38.3 seconds |
| RetCode: 0 |
| Status: OK |
| PackageFile: yaqcaffy_1.44.0.zip |
| PackageFileSize: 637.3 KiB |
##############################################################################
##############################################################################
###
### Running command:
###
### rm -rf yaqcaffy.buildbin-libdir && mkdir yaqcaffy.buildbin-libdir && C:\Users\biocbuild\bbs-3.9-bioc\R\bin\R.exe CMD INSTALL --merge-multiarch --build --library=yaqcaffy.buildbin-libdir yaqcaffy_1.44.0.tar.gz
###
##############################################################################
##############################################################################
install for i386
* installing *source* package 'yaqcaffy' ...
** using staged installation
** R
** inst
** byte-compile and prepare package for lazy loading
Creating a generic function for 'identical' from package 'base' in package 'yaqcaffy'
** help
*** installing help indices
converting help for package 'yaqcaffy'
finding HTML links ... done
YAQCStats-class html
finding level-2 HTML links ... done
YaqcControlProbes-class html
getAllInt html
getBioProbes html
getOutliers html
getQCRatios html
getRatioProbes html
getSpikeProbes html
probeSelectionInterface html
reprodPlot html
yaqc.affy html
yaqc.plot html
** building package indices
** installing vignettes
** testing if installed package can be loaded from temporary location
** testing if installed package can be loaded from final location
** testing if installed package keeps a record of temporary installation path
install for x64
* installing *source* package 'yaqcaffy' ...
** testing if installed package can be loaded
* MD5 sums
packaged installation of 'yaqcaffy' as yaqcaffy_1.44.0.zip
* DONE (yaqcaffy)