| Back to Multiple platform build/check report for BioC 3.9 |
|
This page was generated on 2019-10-16 12:13:28 -0400 (Wed, 16 Oct 2019).
| Package 1714/1741 | Hostname | OS / Arch | INSTALL | BUILD | CHECK | BUILD BIN | ||||||
| vidger 1.4.4 Brandon Monier
| malbec2 | Linux (Ubuntu 18.04.2 LTS) / x86_64 | OK | OK | [ OK ] | |||||||
| tokay2 | Windows Server 2012 R2 Standard / x64 | OK | OK | OK | OK | |||||||
| celaya2 | OS X 10.11.6 El Capitan / x86_64 | OK | OK | OK | OK |
| Package: vidger |
| Version: 1.4.4 |
| Command: /home/biocbuild/bbs-3.9-bioc/R/bin/R CMD check --install=check:vidger.install-out.txt --library=/home/biocbuild/bbs-3.9-bioc/R/library --no-vignettes --timings vidger_1.4.4.tar.gz |
| StartedAt: 2019-10-16 05:42:02 -0400 (Wed, 16 Oct 2019) |
| EndedAt: 2019-10-16 05:46:28 -0400 (Wed, 16 Oct 2019) |
| EllapsedTime: 266.1 seconds |
| RetCode: 0 |
| Status: OK |
| CheckDir: vidger.Rcheck |
| Warnings: 0 |
##############################################################################
##############################################################################
###
### Running command:
###
### /home/biocbuild/bbs-3.9-bioc/R/bin/R CMD check --install=check:vidger.install-out.txt --library=/home/biocbuild/bbs-3.9-bioc/R/library --no-vignettes --timings vidger_1.4.4.tar.gz
###
##############################################################################
##############################################################################
* using log directory ‘/home/biocbuild/bbs-3.9-bioc/meat/vidger.Rcheck’
* using R version 3.6.1 (2019-07-05)
* using platform: x86_64-pc-linux-gnu (64-bit)
* using session charset: UTF-8
* using option ‘--no-vignettes’
* checking for file ‘vidger/DESCRIPTION’ ... OK
* this is package ‘vidger’ version ‘1.4.4’
* package encoding: UTF-8
* checking package namespace information ... OK
* checking package dependencies ... OK
* checking if this is a source package ... OK
* checking if there is a namespace ... OK
* checking for hidden files and directories ... OK
* checking for portable file names ... OK
* checking for sufficient/correct file permissions ... OK
* checking whether package ‘vidger’ can be installed ... OK
* checking installed package size ... OK
* checking package directory ... OK
* checking ‘build’ directory ... OK
* checking DESCRIPTION meta-information ... OK
* checking top-level files ... OK
* checking for left-over files ... OK
* checking index information ... OK
* checking package subdirectories ... OK
* checking R files for non-ASCII characters ... OK
* checking R files for syntax errors ... OK
* checking whether the package can be loaded ... OK
* checking whether the package can be loaded with stated dependencies ... OK
* checking whether the package can be unloaded cleanly ... OK
* checking whether the namespace can be loaded with stated dependencies ... OK
* checking whether the namespace can be unloaded cleanly ... OK
* checking dependencies in R code ... OK
* checking S3 generic/method consistency ... OK
* checking replacement functions ... OK
* checking foreign function calls ... OK
* checking R code for possible problems ... OK
* checking Rd files ... OK
* checking Rd metadata ... OK
* checking Rd cross-references ... OK
* checking for missing documentation entries ... OK
* checking for code/documentation mismatches ... OK
* checking Rd \usage sections ... OK
* checking Rd contents ... OK
* checking for unstated dependencies in examples ... OK
* checking contents of ‘data’ directory ... OK
* checking data for non-ASCII characters ... OK
* checking data for ASCII and uncompressed saves ... OK
* checking files in ‘vignettes’ ... OK
* checking examples ... OK
Examples with CPU or elapsed time > 5s
user system elapsed
vsMAMatrix 11.970 0.050 12.025
vsVolcanoMatrix 7.932 0.016 7.949
vsMAPlot 7.164 0.016 7.184
vsScatterMatrix 5.603 0.004 5.610
vsVolcano 4.972 0.048 5.020
* checking for unstated dependencies in ‘tests’ ... OK
* checking tests ...
Running ‘testthat.R’
OK
* checking for unstated dependencies in vignettes ... OK
* checking package vignettes in ‘inst/doc’ ... OK
* checking running R code from vignettes ... SKIPPED
* checking re-building of vignette outputs ... SKIPPED
* checking PDF version of manual ... OK
* DONE
Status: OK
vidger.Rcheck/00install.out
############################################################################## ############################################################################## ### ### Running command: ### ### /home/biocbuild/bbs-3.9-bioc/R/bin/R CMD INSTALL vidger ### ############################################################################## ############################################################################## * installing to library ‘/home/biocbuild/bbs-3.9-bioc/R/library’ * installing *source* package ‘vidger’ ... ** using staged installation ** R ** data *** moving datasets to lazyload DB ** byte-compile and prepare package for lazy loading ** help *** installing help indices *** copying figures ** building package indices ** installing vignettes ** testing if installed package can be loaded from temporary location ** testing if installed package can be loaded from final location ** testing if installed package keeps a record of temporary installation path * DONE (vidger)
vidger.Rcheck/tests/testthat.Rout
R version 3.6.1 (2019-07-05) -- "Action of the Toes"
Copyright (C) 2019 The R Foundation for Statistical Computing
Platform: x86_64-pc-linux-gnu (64-bit)
R is free software and comes with ABSOLUTELY NO WARRANTY.
You are welcome to redistribute it under certain conditions.
Type 'license()' or 'licence()' for distribution details.
R is a collaborative project with many contributors.
Type 'contributors()' for more information and
'citation()' on how to cite R or R packages in publications.
Type 'demo()' for some demos, 'help()' for on-line help, or
'help.start()' for an HTML browser interface to help.
Type 'q()' to quit R.
> library(testthat)
> library(vidger)
>
> test_check("vidger")
══ testthat results ═══════════════════════════════════════════════════════════
[ OK: 42 | SKIPPED: 0 | WARNINGS: 0 | FAILED: 0 ]
>
> proc.time()
user system elapsed
11.518 0.525 12.026
vidger.Rcheck/vidger-Ex.timings
| name | user | system | elapsed | |
| vsBoxPlot | 2.524 | 0.060 | 2.602 | |
| vsDEGMatrix | 3.622 | 0.036 | 3.658 | |
| vsFourWay | 3.808 | 0.000 | 3.808 | |
| vsMAMatrix | 11.970 | 0.050 | 12.025 | |
| vsMAPlot | 7.164 | 0.016 | 7.184 | |
| vsScatterMatrix | 5.603 | 0.004 | 5.610 | |
| vsScatterPlot | 1.428 | 0.004 | 1.432 | |
| vsVolcano | 4.972 | 0.048 | 5.020 | |
| vsVolcanoMatrix | 7.932 | 0.016 | 7.949 | |