| Back to Multiple platform build/check report for BioC 3.9 |
|
This page was generated on 2019-10-16 12:44:58 -0400 (Wed, 16 Oct 2019).
| Package 1307/1741 | Hostname | OS / Arch | INSTALL | BUILD | CHECK | BUILD BIN | ||||||
| rama 1.58.0 Raphael Gottardo
| malbec2 | Linux (Ubuntu 18.04.2 LTS) / x86_64 | OK | OK | WARNINGS | |||||||
| tokay2 | Windows Server 2012 R2 Standard / x64 | OK | OK | WARNINGS | OK | |||||||
| celaya2 | OS X 10.11.6 El Capitan / x86_64 | OK | OK | [ OK ] | OK |
| Package: rama |
| Version: 1.58.0 |
| Command: /Library/Frameworks/R.framework/Versions/Current/Resources/bin/R CMD check --install=check:rama.install-out.txt --library=/Library/Frameworks/R.framework/Versions/Current/Resources/library --no-vignettes --timings rama_1.58.0.tar.gz |
| StartedAt: 2019-10-16 05:58:40 -0400 (Wed, 16 Oct 2019) |
| EndedAt: 2019-10-16 05:59:18 -0400 (Wed, 16 Oct 2019) |
| EllapsedTime: 38.1 seconds |
| RetCode: 0 |
| Status: OK |
| CheckDir: rama.Rcheck |
| Warnings: 0 |
##############################################################################
##############################################################################
###
### Running command:
###
### /Library/Frameworks/R.framework/Versions/Current/Resources/bin/R CMD check --install=check:rama.install-out.txt --library=/Library/Frameworks/R.framework/Versions/Current/Resources/library --no-vignettes --timings rama_1.58.0.tar.gz
###
##############################################################################
##############################################################################
* using log directory ‘/Users/biocbuild/bbs-3.9-bioc/meat/rama.Rcheck’
* using R version 3.6.1 (2019-07-05)
* using platform: x86_64-apple-darwin15.6.0 (64-bit)
* using session charset: UTF-8
* using option ‘--no-vignettes’
* checking for file ‘rama/DESCRIPTION’ ... OK
* checking extension type ... Package
* this is package ‘rama’ version ‘1.58.0’
* checking package namespace information ... OK
* checking package dependencies ... OK
* checking if this is a source package ... OK
* checking if there is a namespace ... OK
* checking for hidden files and directories ... OK
* checking for portable file names ... OK
* checking for sufficient/correct file permissions ... OK
* checking whether package ‘rama’ can be installed ... OK
* checking installed package size ... OK
* checking package directory ... OK
* checking ‘build’ directory ... OK
* checking DESCRIPTION meta-information ... OK
* checking top-level files ... OK
* checking for left-over files ... OK
* checking index information ... OK
* checking package subdirectories ... OK
* checking R files for non-ASCII characters ... OK
* checking R files for syntax errors ... OK
* checking whether the package can be loaded ... OK
* checking whether the package can be loaded with stated dependencies ... OK
* checking whether the package can be unloaded cleanly ... OK
* checking whether the namespace can be loaded with stated dependencies ... OK
* checking whether the namespace can be unloaded cleanly ... OK
* checking dependencies in R code ... OK
* checking S3 generic/method consistency ... OK
* checking replacement functions ... OK
* checking foreign function calls ... OK
* checking R code for possible problems ... NOTE
fit.model: no visible global function definition for ‘median’
fit.model: no visible global function definition for ‘mad’
fit.model: no visible global function definition for ‘quantile’
ratio.plot: no visible global function definition for ‘plot’
weight.plot: no visible global function definition for ‘image’
weight.plot: no visible global function definition for ‘grey’
Undefined global functions or variables:
grey image mad median plot quantile
Consider adding
importFrom("grDevices", "grey")
importFrom("graphics", "image", "plot")
importFrom("stats", "mad", "median", "quantile")
to your NAMESPACE file.
* checking Rd files ... NOTE
prepare_Rd: is.row.na.Rd:40: Dropping empty section \keyword
prepare_Rd: ls.effect.Rd:38-39: Dropping empty section \details
* checking Rd metadata ... OK
* checking Rd cross-references ... OK
* checking for missing documentation entries ... OK
* checking for code/documentation mismatches ... OK
* checking Rd \usage sections ... OK
* checking Rd contents ... OK
* checking for unstated dependencies in examples ... OK
* checking contents of ‘data’ directory ... OK
* checking data for non-ASCII characters ... OK
* checking data for ASCII and uncompressed saves ... OK
* checking line endings in C/C++/Fortran sources/headers ... OK
* checking compiled code ... NOTE
Note: information on .o files is not available
File ‘/Library/Frameworks/R.framework/Versions/3.6/Resources/library/rama/libs/rama.so’:
Found ‘_printf’, possibly from ‘printf’ (C)
Found ‘_puts’, possibly from ‘printf’ (C), ‘puts’ (C)
Compiled code should not call entry points which might terminate R nor
write to stdout/stderr instead of to the console, nor use Fortran I/O
nor system RNGs. The detected symbols are linked into the code but
might come from libraries and not actually be called.
See ‘Writing portable packages’ in the ‘Writing R Extensions’ manual.
* checking sizes of PDF files under ‘inst/doc’ ... OK
* checking files in ‘vignettes’ ... OK
* checking examples ... OK
* checking for unstated dependencies in vignettes ... OK
* checking package vignettes in ‘inst/doc’ ... OK
* checking running R code from vignettes ... SKIPPED
* checking re-building of vignette outputs ... SKIPPED
* checking PDF version of manual ... OK
* DONE
Status: 3 NOTEs
See
‘/Users/biocbuild/bbs-3.9-bioc/meat/rama.Rcheck/00check.log’
for details.
rama.Rcheck/00install.out
##############################################################################
##############################################################################
###
### Running command:
###
### /Library/Frameworks/R.framework/Versions/Current/Resources/bin/R CMD INSTALL rama
###
##############################################################################
##############################################################################
* installing to library ‘/Library/Frameworks/R.framework/Versions/3.6/Resources/library’
* installing *source* package ‘rama’ ...
** using staged installation
** libs
clang -I"/Library/Frameworks/R.framework/Resources/include" -DNDEBUG -isysroot /Library/Developer/CommandLineTools/SDKs/MacOSX.sdk -I/usr/local/include -fPIC -Wall -g -O2 -c estimation_slice.c -o estimation_slice.o
estimation_slice.c:121:10: warning: unused variable 'SSeps_sd' [-Wunused-variable]
double SSeps_sd=0.;
^
estimation_slice.c:122:10: warning: unused variable 'SSeps_sd_new' [-Wunused-variable]
double SSeps_sd_new=0.;
^
estimation_slice.c:113:10: warning: unused variable 'lambda_eps1_new' [-Wunused-variable]
double lambda_eps1_new, lambda_eps2_new;
^
estimation_slice.c:113:27: warning: unused variable 'lambda_eps2_new' [-Wunused-variable]
double lambda_eps1_new, lambda_eps2_new;
^
estimation_slice.c:116:17: warning: unused variable 'SSR2' [-Wunused-variable]
double SSR1=0,SSR2=0,SS12=0;
^
estimation_slice.c:116:24: warning: unused variable 'SS12' [-Wunused-variable]
double SSR1=0,SSR2=0,SS12=0;
^
estimation_slice.c:117:10: warning: unused variable 'pi' [-Wunused-variable]
double pi=3.14;
^
estimation_slice.c:115:25: warning: unused variable 'dens_epsilon_new' [-Wunused-variable]
double dens_epsilon=0,dens_epsilon_new=0;
^
estimation_slice.c:116:10: warning: unused variable 'SSR1' [-Wunused-variable]
double SSR1=0,SSR2=0,SS12=0;
^
estimation_slice.c:114:10: warning: unused variable 'l_epsilon' [-Wunused-variable]
double l_epsilon=0,l_epsilon_new=0;
^
estimation_slice.c:114:22: warning: unused variable 'l_epsilon_new' [-Wunused-variable]
double l_epsilon=0,l_epsilon_new=0;
^
estimation_slice.c:115:10: warning: unused variable 'dens_epsilon' [-Wunused-variable]
double dens_epsilon=0,dens_epsilon_new=0;
^
12 warnings generated.
clang -I"/Library/Frameworks/R.framework/Resources/include" -DNDEBUG -isysroot /Library/Developer/CommandLineTools/SDKs/MacOSX.sdk -I/usr/local/include -fPIC -Wall -g -O2 -c ex_estimation_slice.c -o ex_estimation_slice.o
ex_estimation_slice.c:119:19: warning: unused variable 'dens_t_new' [-Wunused-variable]
double dens_t=0,dens_t_new=0;
^
ex_estimation_slice.c:119:10: warning: unused variable 'dens_t' [-Wunused-variable]
double dens_t=0,dens_t_new=0;
^
ex_estimation_slice.c:138:10: warning: unused variable 'sum_res2' [-Wunused-variable]
double sum_res2;
^
ex_estimation_slice.c:137:10: warning: unused variable 'sum_res1' [-Wunused-variable]
double sum_res1;
^
ex_estimation_slice.c:144:10: warning: unused variable 'old_a' [-Wunused-variable]
double old_a=0,width_a=1.;
^
ex_estimation_slice.c:143:10: warning: unused variable 'old_b' [-Wunused-variable]
double old_b=0,width_b=5.;
^
ex_estimation_slice.c:112:10: warning: unused variable 'pi' [-Wunused-variable]
double pi=3.14;
^
7 warnings generated.
clang -I"/Library/Frameworks/R.framework/Resources/include" -DNDEBUG -isysroot /Library/Developer/CommandLineTools/SDKs/MacOSX.sdk -I/usr/local/include -fPIC -Wall -g -O2 -c mean.sd.c -o mean.sd.o
clang -I"/Library/Frameworks/R.framework/Resources/include" -DNDEBUG -isysroot /Library/Developer/CommandLineTools/SDKs/MacOSX.sdk -I/usr/local/include -fPIC -Wall -g -O2 -c reorder.c -o reorder.o
clang -I"/Library/Frameworks/R.framework/Resources/include" -DNDEBUG -isysroot /Library/Developer/CommandLineTools/SDKs/MacOSX.sdk -I/usr/local/include -fPIC -Wall -g -O2 -c util.c -o util.o
util.c:574:11: warning: unused variable 'k' [-Wunused-variable]
int i,j,k;
^
util.c:629:13: warning: & has lower precedence than >; > will be evaluated first [-Wparentheses]
while(K>0 & (z' expression to silence this warning
while(K>0 & (z0 & (z; > will be evaluated first [-Wparentheses]
while(K>0 & (z' expression to silence this warning
while(K>0 & (z0 & (z; > will be evaluated first [-Wparentheses]
while(K>0 & (z' expression to silence this warning
while(K>0 & (z0 & (z; > will be evaluated first [-Wparentheses]
while(K>0 & (z' expression to silence this warning
while(K>0 & (z0 & (z
rama.Rcheck/rama-Ex.timings
| name | user | system | elapsed | |
| arrange.row | 0.154 | 0.013 | 0.170 | |
| est.shift | 0.291 | 0.005 | 0.298 | |
| fit.model | 0.364 | 0.006 | 0.372 | |
| is.row.na | 0.001 | 0.000 | 0.001 | |
| ls.effect | 0.210 | 0.036 | 0.246 | |
| mat.mean | 0.126 | 0.007 | 0.132 | |
| ratio.plot | 0.332 | 0.013 | 0.346 | |
| weight.plot | 4.078 | 0.020 | 4.099 | |