| Back to Multiple platform build/check report for BioC 3.9 |
|
This page was generated on 2019-10-16 12:28:07 -0400 (Wed, 16 Oct 2019).
| Package 1437/1741 | Hostname | OS / Arch | INSTALL | BUILD | CHECK | BUILD BIN | ||||||
| rTRM 1.22.0 Diego Diez
| malbec2 | Linux (Ubuntu 18.04.2 LTS) / x86_64 | OK | OK | OK | |||||||
| tokay2 | Windows Server 2012 R2 Standard / x64 | OK | [ OK ] | OK | OK | |||||||
| celaya2 | OS X 10.11.6 El Capitan / x86_64 | OK | OK | OK | OK |
| Package: rTRM |
| Version: 1.22.0 |
| Command: chmod a+r rTRM -R && C:\Users\biocbuild\bbs-3.9-bioc\R\bin\R.exe CMD build --keep-empty-dirs --no-resave-data rTRM |
| StartedAt: 2019-10-15 22:34:56 -0400 (Tue, 15 Oct 2019) |
| EndedAt: 2019-10-15 22:37:44 -0400 (Tue, 15 Oct 2019) |
| EllapsedTime: 167.7 seconds |
| RetCode: 0 |
| Status: OK |
| PackageFile: rTRM_1.22.0.tar.gz |
| PackageFileSize: 3.174 MiB |
##############################################################################
##############################################################################
###
### Running command:
###
### chmod a+r rTRM -R && C:\Users\biocbuild\bbs-3.9-bioc\R\bin\R.exe CMD build --keep-empty-dirs --no-resave-data rTRM
###
##############################################################################
##############################################################################
* checking for file 'rTRM/DESCRIPTION' ... OK
* preparing 'rTRM':
* checking DESCRIPTION meta-information ... OK
* installing the package to process help pages
* building the PDF package manual
Hmm ... looks like a package
Converting Rd files to LaTeX Loading required package: igraph
Attaching package: 'igraph'
The following objects are masked from 'package:stats':
decompose, spectrum
The following object is masked from 'package:base':
union
...
Creating pdf output from LaTeX ...
Saving output to 'C:/Users/biocbuild/bbs-3.9-bioc/tmpdir/Rtmp2jDZl7/Rbuild1c107a387c75/rTRM/build/rTRM.pdf' ...
Done
* creating vignettes ... OK
* checking for LF line-endings in source and make files and shell scripts
* checking for empty or unneeded directories
* looking to see if a 'data/datalist' file should be added
* building 'rTRM_1.22.0.tar.gz'