| Back to Multiple platform build/check report for BioC 3.9 |
|
This page was generated on 2019-10-16 12:24:44 -0400 (Wed, 16 Oct 2019).
| Package 1277/1741 | Hostname | OS / Arch | INSTALL | BUILD | CHECK | BUILD BIN | ||||||
| pvac 1.32.0 Jun Lu
| malbec2 | Linux (Ubuntu 18.04.2 LTS) / x86_64 | OK | OK | OK | |||||||
| tokay2 | Windows Server 2012 R2 Standard / x64 | OK | OK | WARNINGS | [ OK ] | |||||||
| celaya2 | OS X 10.11.6 El Capitan / x86_64 | OK | OK | OK | OK |
| Package: pvac |
| Version: 1.32.0 |
| Command: rm -rf pvac.buildbin-libdir && mkdir pvac.buildbin-libdir && C:\Users\biocbuild\bbs-3.9-bioc\R\bin\R.exe CMD INSTALL --merge-multiarch --build --library=pvac.buildbin-libdir pvac_1.32.0.tar.gz |
| StartedAt: 2019-10-16 09:58:12 -0400 (Wed, 16 Oct 2019) |
| EndedAt: 2019-10-16 09:58:40 -0400 (Wed, 16 Oct 2019) |
| EllapsedTime: 27.4 seconds |
| RetCode: 0 |
| Status: OK |
| PackageFile: pvac_1.32.0.zip |
| PackageFileSize: 153 KiB |
##############################################################################
##############################################################################
###
### Running command:
###
### rm -rf pvac.buildbin-libdir && mkdir pvac.buildbin-libdir && C:\Users\biocbuild\bbs-3.9-bioc\R\bin\R.exe CMD INSTALL --merge-multiarch --build --library=pvac.buildbin-libdir pvac_1.32.0.tar.gz
###
##############################################################################
##############################################################################
install for i386
* installing *source* package 'pvac' ...
** using staged installation
** R
** inst
** byte-compile and prepare package for lazy loading
** help
*** installing help indices
converting help for package 'pvac'
finding HTML links ... done
pvacFilter html
Rd warning: C:/Users/biocbuild/bbs-3.9-bioc/tmpdir/RtmporGIPR/R.INSTALL1a0c6d4a3b7f/pvac/man/pvacFilter.Rd:16: file link 'ReadAffy' in package 'affy' does not exist and so has been treated as a topic
** building package indices
** installing vignettes
** testing if installed package can be loaded from temporary location
** testing if installed package can be loaded from final location
** testing if installed package keeps a record of temporary installation path
install for x64
* installing *source* package 'pvac' ...
** testing if installed package can be loaded
* MD5 sums
packaged installation of 'pvac' as pvac_1.32.0.zip
* DONE (pvac)