| Back to Multiple platform build/check report for BioC 3.9 |
|
This page was generated on 2019-10-16 12:35:40 -0400 (Wed, 16 Oct 2019).
| Package 1239/1741 | Hostname | OS / Arch | INSTALL | BUILD | CHECK | BUILD BIN | ||||||
| pqsfinder 2.0.2 Jiri Hon
| malbec2 | Linux (Ubuntu 18.04.2 LTS) / x86_64 | OK | OK | OK | |||||||
| tokay2 | Windows Server 2012 R2 Standard / x64 | [ OK ] | OK | OK | OK | |||||||
| celaya2 | OS X 10.11.6 El Capitan / x86_64 | OK | OK | OK | OK |
| Package: pqsfinder |
| Version: 2.0.2 |
| Command: C:\cygwin\bin\curl.exe -O https://malbec2.bioconductor.org/BBS/3.9/bioc/src/contrib/pqsfinder_2.0.2.tar.gz && rm -rf pqsfinder.buildbin-libdir && mkdir pqsfinder.buildbin-libdir && C:\Users\biocbuild\bbs-3.9-bioc\R\bin\R.exe CMD INSTALL --merge-multiarch --build --library=pqsfinder.buildbin-libdir pqsfinder_2.0.2.tar.gz && C:\Users\biocbuild\bbs-3.9-bioc\R\bin\R.exe CMD INSTALL pqsfinder_2.0.2.zip && rm pqsfinder_2.0.2.tar.gz pqsfinder_2.0.2.zip |
| StartedAt: 2019-10-15 20:43:07 -0400 (Tue, 15 Oct 2019) |
| EndedAt: 2019-10-15 20:45:24 -0400 (Tue, 15 Oct 2019) |
| EllapsedTime: 136.9 seconds |
| RetCode: 0 |
| Status: OK |
##############################################################################
##############################################################################
###
### Running command:
###
### C:\cygwin\bin\curl.exe -O https://malbec2.bioconductor.org/BBS/3.9/bioc/src/contrib/pqsfinder_2.0.2.tar.gz && rm -rf pqsfinder.buildbin-libdir && mkdir pqsfinder.buildbin-libdir && C:\Users\biocbuild\bbs-3.9-bioc\R\bin\R.exe CMD INSTALL --merge-multiarch --build --library=pqsfinder.buildbin-libdir pqsfinder_2.0.2.tar.gz && C:\Users\biocbuild\bbs-3.9-bioc\R\bin\R.exe CMD INSTALL pqsfinder_2.0.2.zip && rm pqsfinder_2.0.2.tar.gz pqsfinder_2.0.2.zip
###
##############################################################################
##############################################################################
% Total % Received % Xferd Average Speed Time Time Time Current
Dload Upload Total Spent Left Speed
0 0 0 0 0 0 0 0 --:--:-- --:--:-- --:--:-- 0
100 108k 100 108k 0 0 1883k 0 --:--:-- --:--:-- --:--:-- 2162k
install for i386
* installing *source* package 'pqsfinder' ...
** using staged installation
** libs
C:/Rtools/mingw_32/bin/g++ -std=gnu++11 -I"C:/Users/BIOCBU~1/BBS-3~1.9-B/R/include" -DNDEBUG -I"C:/Users/biocbuild/bbs-3.9-bioc/R/library/Rcpp/include" -I"C:/Users/biocbuild/bbs-3.9-bioc/R/library/BH/include" -I"C:/extsoft/include" -O2 -Wall -mtune=generic -c RcppExports.cpp -o RcppExports.o
C:/Rtools/mingw_32/bin/g++ -std=gnu++11 -I"C:/Users/BIOCBU~1/BBS-3~1.9-B/R/include" -DNDEBUG -I"C:/Users/biocbuild/bbs-3.9-bioc/R/library/Rcpp/include" -I"C:/Users/biocbuild/bbs-3.9-bioc/R/library/BH/include" -I"C:/extsoft/include" -O2 -Wall -mtune=generic -c pqsfinder.cpp -o pqsfinder.o
pqsfinder.cpp: In function 'void find_all_runs(SEXP, int, std::basic_string::const_iterator, std::basic_string::const_iterator, run_match*, const regex&, const opts_t&, const scoring&, const const_iterator&, size_t, storage&, int&, results&, bool, std::chrono::_V2::system_clock::time_point, int, int, int, int&, bool)':
pqsfinder.cpp:586:9: warning: 'loop_len' may be used uninitialized in this function [-Wmaybe-uninitialized]
);
^
C:/Rtools/mingw_32/bin/g++ -std=gnu++11 -I"C:/Users/BIOCBU~1/BBS-3~1.9-B/R/include" -DNDEBUG -I"C:/Users/biocbuild/bbs-3.9-bioc/R/library/Rcpp/include" -I"C:/Users/biocbuild/bbs-3.9-bioc/R/library/BH/include" -I"C:/extsoft/include" -O2 -Wall -mtune=generic -c boost_regex/c_regex_traits.cpp -o boost_regex/c_regex_traits.o
C:/Rtools/mingw_32/bin/g++ -std=gnu++11 -I"C:/Users/BIOCBU~1/BBS-3~1.9-B/R/include" -DNDEBUG -I"C:/Users/biocbuild/bbs-3.9-bioc/R/library/Rcpp/include" -I"C:/Users/biocbuild/bbs-3.9-bioc/R/library/BH/include" -I"C:/extsoft/include" -O2 -Wall -mtune=generic -c boost_regex/cpp_regex_traits.cpp -o boost_regex/cpp_regex_traits.o
C:/Rtools/mingw_32/bin/g++ -std=gnu++11 -I"C:/Users/BIOCBU~1/BBS-3~1.9-B/R/include" -DNDEBUG -I"C:/Users/biocbuild/bbs-3.9-bioc/R/library/Rcpp/include" -I"C:/Users/biocbuild/bbs-3.9-bioc/R/library/BH/include" -I"C:/extsoft/include" -O2 -Wall -mtune=generic -c boost_regex/cregex.cpp -o boost_regex/cregex.o
C:/Rtools/mingw_32/bin/g++ -std=gnu++11 -I"C:/Users/BIOCBU~1/BBS-3~1.9-B/R/include" -DNDEBUG -I"C:/Users/biocbuild/bbs-3.9-bioc/R/library/Rcpp/include" -I"C:/Users/biocbuild/bbs-3.9-bioc/R/library/BH/include" -I"C:/extsoft/include" -O2 -Wall -mtune=generic -c boost_regex/fileiter.cpp -o boost_regex/fileiter.o
C:/Rtools/mingw_32/bin/g++ -std=gnu++11 -I"C:/Users/BIOCBU~1/BBS-3~1.9-B/R/include" -DNDEBUG -I"C:/Users/biocbuild/bbs-3.9-bioc/R/library/Rcpp/include" -I"C:/Users/biocbuild/bbs-3.9-bioc/R/library/BH/include" -I"C:/extsoft/include" -O2 -Wall -mtune=generic -c boost_regex/icu.cpp -o boost_regex/icu.o
C:/Rtools/mingw_32/bin/g++ -std=gnu++11 -I"C:/Users/BIOCBU~1/BBS-3~1.9-B/R/include" -DNDEBUG -I"C:/Users/biocbuild/bbs-3.9-bioc/R/library/Rcpp/include" -I"C:/Users/biocbuild/bbs-3.9-bioc/R/library/BH/include" -I"C:/extsoft/include" -O2 -Wall -mtune=generic -c boost_regex/instances.cpp -o boost_regex/instances.o
C:/Rtools/mingw_32/bin/g++ -std=gnu++11 -I"C:/Users/BIOCBU~1/BBS-3~1.9-B/R/include" -DNDEBUG -I"C:/Users/biocbuild/bbs-3.9-bioc/R/library/Rcpp/include" -I"C:/Users/biocbuild/bbs-3.9-bioc/R/library/BH/include" -I"C:/extsoft/include" -O2 -Wall -mtune=generic -c boost_regex/posix_api.cpp -o boost_regex/posix_api.o
C:/Rtools/mingw_32/bin/g++ -std=gnu++11 -I"C:/Users/BIOCBU~1/BBS-3~1.9-B/R/include" -DNDEBUG -I"C:/Users/biocbuild/bbs-3.9-bioc/R/library/Rcpp/include" -I"C:/Users/biocbuild/bbs-3.9-bioc/R/library/BH/include" -I"C:/extsoft/include" -O2 -Wall -mtune=generic -c boost_regex/regex.cpp -o boost_regex/regex.o
C:/Rtools/mingw_32/bin/g++ -std=gnu++11 -I"C:/Users/BIOCBU~1/BBS-3~1.9-B/R/include" -DNDEBUG -I"C:/Users/biocbuild/bbs-3.9-bioc/R/library/Rcpp/include" -I"C:/Users/biocbuild/bbs-3.9-bioc/R/library/BH/include" -I"C:/extsoft/include" -O2 -Wall -mtune=generic -c boost_regex/regex_debug.cpp -o boost_regex/regex_debug.o
C:/Rtools/mingw_32/bin/g++ -std=gnu++11 -I"C:/Users/BIOCBU~1/BBS-3~1.9-B/R/include" -DNDEBUG -I"C:/Users/biocbuild/bbs-3.9-bioc/R/library/Rcpp/include" -I"C:/Users/biocbuild/bbs-3.9-bioc/R/library/BH/include" -I"C:/extsoft/include" -O2 -Wall -mtune=generic -c boost_regex/regex_raw_buffer.cpp -o boost_regex/regex_raw_buffer.o
C:/Rtools/mingw_32/bin/g++ -std=gnu++11 -I"C:/Users/BIOCBU~1/BBS-3~1.9-B/R/include" -DNDEBUG -I"C:/Users/biocbuild/bbs-3.9-bioc/R/library/Rcpp/include" -I"C:/Users/biocbuild/bbs-3.9-bioc/R/library/BH/include" -I"C:/extsoft/include" -O2 -Wall -mtune=generic -c boost_regex/regex_traits_defaults.cpp -o boost_regex/regex_traits_defaults.o
C:/Rtools/mingw_32/bin/g++ -std=gnu++11 -I"C:/Users/BIOCBU~1/BBS-3~1.9-B/R/include" -DNDEBUG -I"C:/Users/biocbuild/bbs-3.9-bioc/R/library/Rcpp/include" -I"C:/Users/biocbuild/bbs-3.9-bioc/R/library/BH/include" -I"C:/extsoft/include" -O2 -Wall -mtune=generic -c boost_regex/static_mutex.cpp -o boost_regex/static_mutex.o
C:/Rtools/mingw_32/bin/g++ -std=gnu++11 -I"C:/Users/BIOCBU~1/BBS-3~1.9-B/R/include" -DNDEBUG -I"C:/Users/biocbuild/bbs-3.9-bioc/R/library/Rcpp/include" -I"C:/Users/biocbuild/bbs-3.9-bioc/R/library/BH/include" -I"C:/extsoft/include" -O2 -Wall -mtune=generic -c boost_regex/usinstances.cpp -o boost_regex/usinstances.o
C:/Rtools/mingw_32/bin/g++ -std=gnu++11 -I"C:/Users/BIOCBU~1/BBS-3~1.9-B/R/include" -DNDEBUG -I"C:/Users/biocbuild/bbs-3.9-bioc/R/library/Rcpp/include" -I"C:/Users/biocbuild/bbs-3.9-bioc/R/library/BH/include" -I"C:/extsoft/include" -O2 -Wall -mtune=generic -c boost_regex/w32_regex_traits.cpp -o boost_regex/w32_regex_traits.o
C:/Rtools/mingw_32/bin/g++ -std=gnu++11 -I"C:/Users/BIOCBU~1/BBS-3~1.9-B/R/include" -DNDEBUG -I"C:/Users/biocbuild/bbs-3.9-bioc/R/library/Rcpp/include" -I"C:/Users/biocbuild/bbs-3.9-bioc/R/library/BH/include" -I"C:/extsoft/include" -O2 -Wall -mtune=generic -c boost_regex/wc_regex_traits.cpp -o boost_regex/wc_regex_traits.o
C:/Rtools/mingw_32/bin/g++ -std=gnu++11 -I"C:/Users/BIOCBU~1/BBS-3~1.9-B/R/include" -DNDEBUG -I"C:/Users/biocbuild/bbs-3.9-bioc/R/library/Rcpp/include" -I"C:/Users/biocbuild/bbs-3.9-bioc/R/library/BH/include" -I"C:/extsoft/include" -O2 -Wall -mtune=generic -c boost_regex/wide_posix_api.cpp -o boost_regex/wide_posix_api.o
C:/Rtools/mingw_32/bin/g++ -std=gnu++11 -I"C:/Users/BIOCBU~1/BBS-3~1.9-B/R/include" -DNDEBUG -I"C:/Users/biocbuild/bbs-3.9-bioc/R/library/Rcpp/include" -I"C:/Users/biocbuild/bbs-3.9-bioc/R/library/BH/include" -I"C:/extsoft/include" -O2 -Wall -mtune=generic -c boost_regex/winstances.cpp -o boost_regex/winstances.o
mkdir -p "C:/Users/biocbuild/bbs-3.9-bioc/meat/pqsfinder.buildbin-libdir/00LOCK-pqsfinder/00new/pqsfinder/lib/i386"
C:/Rtools/mingw_32/bin/ar rs "C:/Users/biocbuild/bbs-3.9-bioc/meat/pqsfinder.buildbin-libdir/00LOCK-pqsfinder/00new/pqsfinder/lib/i386/libboost_regex.a" boost_regex/c_regex_traits.o boost_regex/cpp_regex_traits.o boost_regex/cregex.o boost_regex/fileiter.o boost_regex/icu.o boost_regex/instances.o boost_regex/posix_api.o boost_regex/regex.o boost_regex/regex_debug.o boost_regex/regex_raw_buffer.o boost_regex/regex_traits_defaults.o boost_regex/static_mutex.o boost_regex/usinstances.o boost_regex/w32_regex_traits.o boost_regex/wc_regex_traits.o boost_regex/wide_posix_api.o boost_regex/winstances.o
C:\Rtools\mingw_32\bin\ar.exe: creating C:/Users/biocbuild/bbs-3.9-bioc/meat/pqsfinder.buildbin-libdir/00LOCK-pqsfinder/00new/pqsfinder/lib/i386/libboost_regex.a
C:/Rtools/mingw_32/bin/g++ -shared -s -static-libgcc -o pqsfinder.dll tmp.def RcppExports.o pqsfinder.o C:/Users/biocbuild/bbs-3.9-bioc/meat/pqsfinder.buildbin-libdir/00LOCK-pqsfinder/00new/pqsfinder/lib/i386/libboost_regex.a -LC:/extsoft/lib/i386 -LC:/extsoft/lib -LC:/Users/BIOCBU~1/BBS-3~1.9-B/R/bin/i386 -lR
installing to C:/Users/biocbuild/bbs-3.9-bioc/meat/pqsfinder.buildbin-libdir/00LOCK-pqsfinder/00new/pqsfinder/libs/i386
** R
** inst
** byte-compile and prepare package for lazy loading
** help
*** installing help indices
converting help for package 'pqsfinder'
finding HTML links ... done
PQSViews-class html
finding level-2 HTML links ... done
PQSViews html
as.character-PQSViews-method html
density-PQSViews-method html
maxScores-PQSViews-method html
maxScores html
pqsfinder html
score-PQSViews-method html
show-PQSViews-method html
strand-PQSViews-method html
** building package indices
** installing vignettes
** testing if installed package can be loaded from temporary location
** testing if installed package can be loaded from final location
** testing if installed package keeps a record of temporary installation path
install for x64
* installing *source* package 'pqsfinder' ...
** libs
C:/Rtools/mingw_64/bin/g++ -std=gnu++11 -I"C:/Users/BIOCBU~1/BBS-3~1.9-B/R/include" -DNDEBUG -I"C:/Users/biocbuild/bbs-3.9-bioc/R/library/Rcpp/include" -I"C:/Users/biocbuild/bbs-3.9-bioc/R/library/BH/include" -I"C:/extsoft/include" -O2 -Wall -mtune=generic -c RcppExports.cpp -o RcppExports.o
C:/Rtools/mingw_64/bin/g++ -std=gnu++11 -I"C:/Users/BIOCBU~1/BBS-3~1.9-B/R/include" -DNDEBUG -I"C:/Users/biocbuild/bbs-3.9-bioc/R/library/Rcpp/include" -I"C:/Users/biocbuild/bbs-3.9-bioc/R/library/BH/include" -I"C:/extsoft/include" -O2 -Wall -mtune=generic -c pqsfinder.cpp -o pqsfinder.o
pqsfinder.cpp: In function 'void find_all_runs(SEXP, int, std::basic_string::const_iterator, std::basic_string::const_iterator, run_match*, const regex&, const opts_t&, const scoring&, const const_iterator&, size_t, storage&, int&, results&, bool, std::chrono::_V2::system_clock::time_point, int, int, int, int&, bool)':
pqsfinder.cpp:586:9: warning: 'loop_len' may be used uninitialized in this function [-Wmaybe-uninitialized]
);
^
C:/Rtools/mingw_64/bin/g++ -std=gnu++11 -I"C:/Users/BIOCBU~1/BBS-3~1.9-B/R/include" -DNDEBUG -I"C:/Users/biocbuild/bbs-3.9-bioc/R/library/Rcpp/include" -I"C:/Users/biocbuild/bbs-3.9-bioc/R/library/BH/include" -I"C:/extsoft/include" -O2 -Wall -mtune=generic -c boost_regex/c_regex_traits.cpp -o boost_regex/c_regex_traits.o
C:/Rtools/mingw_64/bin/g++ -std=gnu++11 -I"C:/Users/BIOCBU~1/BBS-3~1.9-B/R/include" -DNDEBUG -I"C:/Users/biocbuild/bbs-3.9-bioc/R/library/Rcpp/include" -I"C:/Users/biocbuild/bbs-3.9-bioc/R/library/BH/include" -I"C:/extsoft/include" -O2 -Wall -mtune=generic -c boost_regex/cpp_regex_traits.cpp -o boost_regex/cpp_regex_traits.o
C:/Rtools/mingw_64/bin/g++ -std=gnu++11 -I"C:/Users/BIOCBU~1/BBS-3~1.9-B/R/include" -DNDEBUG -I"C:/Users/biocbuild/bbs-3.9-bioc/R/library/Rcpp/include" -I"C:/Users/biocbuild/bbs-3.9-bioc/R/library/BH/include" -I"C:/extsoft/include" -O2 -Wall -mtune=generic -c boost_regex/cregex.cpp -o boost_regex/cregex.o
C:/Rtools/mingw_64/bin/g++ -std=gnu++11 -I"C:/Users/BIOCBU~1/BBS-3~1.9-B/R/include" -DNDEBUG -I"C:/Users/biocbuild/bbs-3.9-bioc/R/library/Rcpp/include" -I"C:/Users/biocbuild/bbs-3.9-bioc/R/library/BH/include" -I"C:/extsoft/include" -O2 -Wall -mtune=generic -c boost_regex/fileiter.cpp -o boost_regex/fileiter.o
C:/Rtools/mingw_64/bin/g++ -std=gnu++11 -I"C:/Users/BIOCBU~1/BBS-3~1.9-B/R/include" -DNDEBUG -I"C:/Users/biocbuild/bbs-3.9-bioc/R/library/Rcpp/include" -I"C:/Users/biocbuild/bbs-3.9-bioc/R/library/BH/include" -I"C:/extsoft/include" -O2 -Wall -mtune=generic -c boost_regex/icu.cpp -o boost_regex/icu.o
C:/Rtools/mingw_64/bin/g++ -std=gnu++11 -I"C:/Users/BIOCBU~1/BBS-3~1.9-B/R/include" -DNDEBUG -I"C:/Users/biocbuild/bbs-3.9-bioc/R/library/Rcpp/include" -I"C:/Users/biocbuild/bbs-3.9-bioc/R/library/BH/include" -I"C:/extsoft/include" -O2 -Wall -mtune=generic -c boost_regex/instances.cpp -o boost_regex/instances.o
C:/Rtools/mingw_64/bin/g++ -std=gnu++11 -I"C:/Users/BIOCBU~1/BBS-3~1.9-B/R/include" -DNDEBUG -I"C:/Users/biocbuild/bbs-3.9-bioc/R/library/Rcpp/include" -I"C:/Users/biocbuild/bbs-3.9-bioc/R/library/BH/include" -I"C:/extsoft/include" -O2 -Wall -mtune=generic -c boost_regex/posix_api.cpp -o boost_regex/posix_api.o
C:/Rtools/mingw_64/bin/g++ -std=gnu++11 -I"C:/Users/BIOCBU~1/BBS-3~1.9-B/R/include" -DNDEBUG -I"C:/Users/biocbuild/bbs-3.9-bioc/R/library/Rcpp/include" -I"C:/Users/biocbuild/bbs-3.9-bioc/R/library/BH/include" -I"C:/extsoft/include" -O2 -Wall -mtune=generic -c boost_regex/regex.cpp -o boost_regex/regex.o
C:/Rtools/mingw_64/bin/g++ -std=gnu++11 -I"C:/Users/BIOCBU~1/BBS-3~1.9-B/R/include" -DNDEBUG -I"C:/Users/biocbuild/bbs-3.9-bioc/R/library/Rcpp/include" -I"C:/Users/biocbuild/bbs-3.9-bioc/R/library/BH/include" -I"C:/extsoft/include" -O2 -Wall -mtune=generic -c boost_regex/regex_debug.cpp -o boost_regex/regex_debug.o
C:/Rtools/mingw_64/bin/g++ -std=gnu++11 -I"C:/Users/BIOCBU~1/BBS-3~1.9-B/R/include" -DNDEBUG -I"C:/Users/biocbuild/bbs-3.9-bioc/R/library/Rcpp/include" -I"C:/Users/biocbuild/bbs-3.9-bioc/R/library/BH/include" -I"C:/extsoft/include" -O2 -Wall -mtune=generic -c boost_regex/regex_raw_buffer.cpp -o boost_regex/regex_raw_buffer.o
C:/Rtools/mingw_64/bin/g++ -std=gnu++11 -I"C:/Users/BIOCBU~1/BBS-3~1.9-B/R/include" -DNDEBUG -I"C:/Users/biocbuild/bbs-3.9-bioc/R/library/Rcpp/include" -I"C:/Users/biocbuild/bbs-3.9-bioc/R/library/BH/include" -I"C:/extsoft/include" -O2 -Wall -mtune=generic -c boost_regex/regex_traits_defaults.cpp -o boost_regex/regex_traits_defaults.o
C:/Rtools/mingw_64/bin/g++ -std=gnu++11 -I"C:/Users/BIOCBU~1/BBS-3~1.9-B/R/include" -DNDEBUG -I"C:/Users/biocbuild/bbs-3.9-bioc/R/library/Rcpp/include" -I"C:/Users/biocbuild/bbs-3.9-bioc/R/library/BH/include" -I"C:/extsoft/include" -O2 -Wall -mtune=generic -c boost_regex/static_mutex.cpp -o boost_regex/static_mutex.o
C:/Rtools/mingw_64/bin/g++ -std=gnu++11 -I"C:/Users/BIOCBU~1/BBS-3~1.9-B/R/include" -DNDEBUG -I"C:/Users/biocbuild/bbs-3.9-bioc/R/library/Rcpp/include" -I"C:/Users/biocbuild/bbs-3.9-bioc/R/library/BH/include" -I"C:/extsoft/include" -O2 -Wall -mtune=generic -c boost_regex/usinstances.cpp -o boost_regex/usinstances.o
C:/Rtools/mingw_64/bin/g++ -std=gnu++11 -I"C:/Users/BIOCBU~1/BBS-3~1.9-B/R/include" -DNDEBUG -I"C:/Users/biocbuild/bbs-3.9-bioc/R/library/Rcpp/include" -I"C:/Users/biocbuild/bbs-3.9-bioc/R/library/BH/include" -I"C:/extsoft/include" -O2 -Wall -mtune=generic -c boost_regex/w32_regex_traits.cpp -o boost_regex/w32_regex_traits.o
C:/Rtools/mingw_64/bin/g++ -std=gnu++11 -I"C:/Users/BIOCBU~1/BBS-3~1.9-B/R/include" -DNDEBUG -I"C:/Users/biocbuild/bbs-3.9-bioc/R/library/Rcpp/include" -I"C:/Users/biocbuild/bbs-3.9-bioc/R/library/BH/include" -I"C:/extsoft/include" -O2 -Wall -mtune=generic -c boost_regex/wc_regex_traits.cpp -o boost_regex/wc_regex_traits.o
C:/Rtools/mingw_64/bin/g++ -std=gnu++11 -I"C:/Users/BIOCBU~1/BBS-3~1.9-B/R/include" -DNDEBUG -I"C:/Users/biocbuild/bbs-3.9-bioc/R/library/Rcpp/include" -I"C:/Users/biocbuild/bbs-3.9-bioc/R/library/BH/include" -I"C:/extsoft/include" -O2 -Wall -mtune=generic -c boost_regex/wide_posix_api.cpp -o boost_regex/wide_posix_api.o
C:/Rtools/mingw_64/bin/g++ -std=gnu++11 -I"C:/Users/BIOCBU~1/BBS-3~1.9-B/R/include" -DNDEBUG -I"C:/Users/biocbuild/bbs-3.9-bioc/R/library/Rcpp/include" -I"C:/Users/biocbuild/bbs-3.9-bioc/R/library/BH/include" -I"C:/extsoft/include" -O2 -Wall -mtune=generic -c boost_regex/winstances.cpp -o boost_regex/winstances.o
mkdir -p "C:/Users/biocbuild/bbs-3.9-bioc/meat/pqsfinder.buildbin-libdir/pqsfinder/lib/x64"
C:/Rtools/mingw_64/bin/ar rs "C:/Users/biocbuild/bbs-3.9-bioc/meat/pqsfinder.buildbin-libdir/pqsfinder/lib/x64/libboost_regex.a" boost_regex/c_regex_traits.o boost_regex/cpp_regex_traits.o boost_regex/cregex.o boost_regex/fileiter.o boost_regex/icu.o boost_regex/instances.o boost_regex/posix_api.o boost_regex/regex.o boost_regex/regex_debug.o boost_regex/regex_raw_buffer.o boost_regex/regex_traits_defaults.o boost_regex/static_mutex.o boost_regex/usinstances.o boost_regex/w32_regex_traits.o boost_regex/wc_regex_traits.o boost_regex/wide_posix_api.o boost_regex/winstances.o
C:\Rtools\mingw_64\bin\ar.exe: creating C:/Users/biocbuild/bbs-3.9-bioc/meat/pqsfinder.buildbin-libdir/pqsfinder/lib/x64/libboost_regex.a
C:/Rtools/mingw_64/bin/g++ -shared -s -static-libgcc -o pqsfinder.dll tmp.def RcppExports.o pqsfinder.o C:/Users/biocbuild/bbs-3.9-bioc/meat/pqsfinder.buildbin-libdir/pqsfinder/lib/x64/libboost_regex.a -LC:/extsoft/lib/x64 -LC:/extsoft/lib -LC:/Users/BIOCBU~1/BBS-3~1.9-B/R/bin/x64 -lR
installing to C:/Users/biocbuild/bbs-3.9-bioc/meat/pqsfinder.buildbin-libdir/pqsfinder/libs/x64
** testing if installed package can be loaded
* MD5 sums
packaged installation of 'pqsfinder' as pqsfinder_2.0.2.zip
* DONE (pqsfinder)
* installing to library 'C:/Users/biocbuild/bbs-3.9-bioc/R/library'
package 'pqsfinder' successfully unpacked and MD5 sums checked