| Back to Multiple platform build/check report for BioC 3.9 |
|
This page was generated on 2019-10-16 12:51:20 -0400 (Wed, 16 Oct 2019).
| Package 1211/1741 | Hostname | OS / Arch | INSTALL | BUILD | CHECK | BUILD BIN | ||||||
| piano 2.0.2 Leif Varemo Wigge
| malbec2 | Linux (Ubuntu 18.04.2 LTS) / x86_64 | OK | OK | OK | |||||||
| tokay2 | Windows Server 2012 R2 Standard / x64 | OK | OK | OK | OK | |||||||
| celaya2 | OS X 10.11.6 El Capitan / x86_64 | OK | OK | [ OK ] | OK |
| Package: piano |
| Version: 2.0.2 |
| Command: /Library/Frameworks/R.framework/Versions/Current/Resources/bin/R CMD check --install=check:piano.install-out.txt --library=/Library/Frameworks/R.framework/Versions/Current/Resources/library --no-vignettes --timings piano_2.0.2.tar.gz |
| StartedAt: 2019-10-16 05:33:25 -0400 (Wed, 16 Oct 2019) |
| EndedAt: 2019-10-16 05:36:42 -0400 (Wed, 16 Oct 2019) |
| EllapsedTime: 197.4 seconds |
| RetCode: 0 |
| Status: OK |
| CheckDir: piano.Rcheck |
| Warnings: 0 |
##############################################################################
##############################################################################
###
### Running command:
###
### /Library/Frameworks/R.framework/Versions/Current/Resources/bin/R CMD check --install=check:piano.install-out.txt --library=/Library/Frameworks/R.framework/Versions/Current/Resources/library --no-vignettes --timings piano_2.0.2.tar.gz
###
##############################################################################
##############################################################################
* using log directory ‘/Users/biocbuild/bbs-3.9-bioc/meat/piano.Rcheck’
* using R version 3.6.1 (2019-07-05)
* using platform: x86_64-apple-darwin15.6.0 (64-bit)
* using session charset: UTF-8
* using option ‘--no-vignettes’
* checking for file ‘piano/DESCRIPTION’ ... OK
* checking extension type ... Package
* this is package ‘piano’ version ‘2.0.2’
* checking package namespace information ... OK
* checking package dependencies ... OK
* checking if this is a source package ... OK
* checking if there is a namespace ... OK
* checking for hidden files and directories ... OK
* checking for portable file names ... OK
* checking for sufficient/correct file permissions ... OK
* checking whether package ‘piano’ can be installed ... OK
* checking installed package size ... OK
* checking package directory ... OK
* checking ‘build’ directory ... OK
* checking DESCRIPTION meta-information ... OK
* checking top-level files ... OK
* checking for left-over files ... OK
* checking index information ... OK
* checking package subdirectories ... OK
* checking R files for non-ASCII characters ... OK
* checking R files for syntax errors ... OK
* checking whether the package can be loaded ... OK
* checking whether the package can be loaded with stated dependencies ... OK
* checking whether the package can be unloaded cleanly ... OK
* checking whether the namespace can be loaded with stated dependencies ... OK
* checking whether the namespace can be unloaded cleanly ... OK
* checking dependencies in R code ... NOTE
Missing or unexported object: ‘rsbml::species’
* checking S3 generic/method consistency ... OK
* checking replacement functions ... OK
* checking foreign function calls ... OK
* checking R code for possible problems ... OK
* checking Rd files ... OK
* checking Rd metadata ... OK
* checking Rd cross-references ... OK
* checking for missing documentation entries ... OK
* checking for code/documentation mismatches ... OK
* checking Rd \usage sections ... OK
* checking Rd contents ... OK
* checking for unstated dependencies in examples ... OK
* checking contents of ‘data’ directory ... OK
* checking data for non-ASCII characters ... OK
* checking data for ASCII and uncompressed saves ... OK
* checking sizes of PDF files under ‘inst/doc’ ... OK
* checking files in ‘vignettes’ ... OK
* checking examples ... OK
Examples with CPU or elapsed time > 5s
user system elapsed
networkPlot 5.854 0.438 6.293
GSAheatmap 5.610 0.611 6.221
networkPlot2 5.121 0.558 5.687
diffExp 5.312 0.339 5.788
GSAsummaryTable 5.216 0.366 5.583
exploreGSAres 5.162 0.419 5.581
* checking for unstated dependencies in vignettes ... OK
* checking package vignettes in ‘inst/doc’ ... OK
* checking running R code from vignettes ... SKIPPED
* checking re-building of vignette outputs ... SKIPPED
* checking PDF version of manual ... OK
* DONE
Status: 1 NOTE
See
‘/Users/biocbuild/bbs-3.9-bioc/meat/piano.Rcheck/00check.log’
for details.
piano.Rcheck/00install.out
############################################################################## ############################################################################## ### ### Running command: ### ### /Library/Frameworks/R.framework/Versions/Current/Resources/bin/R CMD INSTALL piano ### ############################################################################## ############################################################################## * installing to library ‘/Library/Frameworks/R.framework/Versions/3.6/Resources/library’ * installing *source* package ‘piano’ ... ** using staged installation ** R ** data ** inst ** byte-compile and prepare package for lazy loading ** help *** installing help indices ** building package indices ** installing vignettes ** testing if installed package can be loaded from temporary location ** testing if installed package can be loaded from final location ** testing if installed package keeps a record of temporary installation path * DONE (piano)
piano.Rcheck/piano-Ex.timings
| name | user | system | elapsed | |
| GSAheatmap | 5.610 | 0.611 | 6.221 | |
| GSAsummaryTable | 5.216 | 0.366 | 5.583 | |
| consensusHeatmap | 1.006 | 0.145 | 1.175 | |
| consensusScores | 0.161 | 0.016 | 0.180 | |
| diffExp | 5.312 | 0.339 | 5.788 | |
| exploreGSAres | 5.162 | 0.419 | 5.581 | |
| extractFactors | 0.301 | 0.016 | 0.318 | |
| geneSetSummary | 4.630 | 0.352 | 4.982 | |
| loadGSC | 0.023 | 0.001 | 0.023 | |
| loadMAdata | 0.320 | 0.010 | 0.331 | |
| networkPlot | 5.854 | 0.438 | 6.293 | |
| networkPlot2 | 5.121 | 0.558 | 5.687 | |
| polarPlot | 0.543 | 0.083 | 0.626 | |
| runGSA | 4.255 | 0.405 | 4.660 | |
| runGSAhyper | 0.276 | 0.026 | 0.301 | |
| runQC | 1.492 | 0.105 | 1.597 | |
| writeFilesForKiwi | 0.224 | 0.016 | 0.240 | |