| Back to Multiple platform build/check report for BioC 3.9 |
|
This page was generated on 2019-10-16 12:13:27 -0400 (Wed, 16 Oct 2019).
| Package 451/1741 | Hostname | OS / Arch | INSTALL | BUILD | CHECK | BUILD BIN | ||||||
| dmrseq 1.4.9 Keegan Korthauer
| malbec2 | Linux (Ubuntu 18.04.2 LTS) / x86_64 | OK | OK | [ OK ] | |||||||
| tokay2 | Windows Server 2012 R2 Standard / x64 | OK | OK | OK | OK | |||||||
| celaya2 | OS X 10.11.6 El Capitan / x86_64 | OK | OK | OK | OK |
| Package: dmrseq |
| Version: 1.4.9 |
| Command: /home/biocbuild/bbs-3.9-bioc/R/bin/R CMD check --install=check:dmrseq.install-out.txt --library=/home/biocbuild/bbs-3.9-bioc/R/library --no-vignettes --timings dmrseq_1.4.9.tar.gz |
| StartedAt: 2019-10-16 01:15:03 -0400 (Wed, 16 Oct 2019) |
| EndedAt: 2019-10-16 01:21:06 -0400 (Wed, 16 Oct 2019) |
| EllapsedTime: 363.3 seconds |
| RetCode: 0 |
| Status: OK |
| CheckDir: dmrseq.Rcheck |
| Warnings: 0 |
##############################################################################
##############################################################################
###
### Running command:
###
### /home/biocbuild/bbs-3.9-bioc/R/bin/R CMD check --install=check:dmrseq.install-out.txt --library=/home/biocbuild/bbs-3.9-bioc/R/library --no-vignettes --timings dmrseq_1.4.9.tar.gz
###
##############################################################################
##############################################################################
* using log directory ‘/home/biocbuild/bbs-3.9-bioc/meat/dmrseq.Rcheck’
* using R version 3.6.1 (2019-07-05)
* using platform: x86_64-pc-linux-gnu (64-bit)
* using session charset: UTF-8
* using option ‘--no-vignettes’
* checking for file ‘dmrseq/DESCRIPTION’ ... OK
* checking extension type ... Package
* this is package ‘dmrseq’ version ‘1.4.9’
* checking package namespace information ... OK
* checking package dependencies ... OK
* checking if this is a source package ... OK
* checking if there is a namespace ... OK
* checking for hidden files and directories ... OK
* checking for portable file names ... OK
* checking for sufficient/correct file permissions ... OK
* checking whether package ‘dmrseq’ can be installed ... OK
* checking installed package size ... NOTE
installed size is 9.2Mb
sub-directories of 1Mb or more:
data 8.8Mb
* checking package directory ... OK
* checking ‘build’ directory ... OK
* checking DESCRIPTION meta-information ... OK
* checking top-level files ... OK
* checking for left-over files ... OK
* checking index information ... OK
* checking package subdirectories ... OK
* checking R files for non-ASCII characters ... OK
* checking R files for syntax errors ... OK
* checking whether the package can be loaded ... OK
* checking whether the package can be loaded with stated dependencies ... OK
* checking whether the package can be unloaded cleanly ... OK
* checking whether the namespace can be loaded with stated dependencies ... OK
* checking whether the namespace can be unloaded cleanly ... OK
* checking dependencies in R code ... OK
* checking S3 generic/method consistency ... OK
* checking replacement functions ... OK
* checking foreign function calls ... OK
* checking R code for possible problems ... NOTE
plotDMRs: warning in rank(as.numeric(rowSums(cov.unique)), ties =
"first"): partial argument match of 'ties' to 'ties.method'
plotEmpiricalDistribution: no visible binding for global variable ‘wt’
Undefined global functions or variables:
wt
* checking Rd files ... OK
* checking Rd metadata ... OK
* checking Rd cross-references ... OK
* checking for missing documentation entries ... OK
* checking for code/documentation mismatches ... OK
* checking Rd \usage sections ... OK
* checking Rd contents ... OK
* checking for unstated dependencies in examples ... OK
* checking contents of ‘data’ directory ... OK
* checking data for non-ASCII characters ... OK
* checking data for ASCII and uncompressed saves ... OK
* checking files in ‘vignettes’ ... OK
* checking examples ... OK
Examples with CPU or elapsed time > 5s
user system elapsed
dmrseq 39.107 7.392 22.505
getAnnot 19.446 0.621 22.705
plotEmpiricalDistribution 7.763 0.092 7.855
* checking for unstated dependencies in vignettes ... OK
* checking package vignettes in ‘inst/doc’ ... OK
* checking running R code from vignettes ... SKIPPED
* checking re-building of vignette outputs ... SKIPPED
* checking PDF version of manual ... OK
* DONE
Status: 2 NOTEs
See
‘/home/biocbuild/bbs-3.9-bioc/meat/dmrseq.Rcheck/00check.log’
for details.
dmrseq.Rcheck/00install.out
############################################################################## ############################################################################## ### ### Running command: ### ### /home/biocbuild/bbs-3.9-bioc/R/bin/R CMD INSTALL dmrseq ### ############################################################################## ############################################################################## * installing to library ‘/home/biocbuild/bbs-3.9-bioc/R/library’ * installing *source* package ‘dmrseq’ ... ** using staged installation ** R ** data *** moving datasets to lazyload DB ** inst ** byte-compile and prepare package for lazy loading ** help *** installing help indices ** building package indices ** installing vignettes ** testing if installed package can be loaded from temporary location ** testing if installed package can be loaded from final location ** testing if installed package keeps a record of temporary installation path * DONE (dmrseq)
dmrseq.Rcheck/dmrseq-Ex.timings
| name | user | system | elapsed | |
| BS.chr21 | 1.307 | 0.100 | 1.407 | |
| annot.chr21 | 0.002 | 0.000 | 0.002 | |
| dmrs.ex | 0.002 | 0.000 | 0.002 | |
| dmrseq | 39.107 | 7.392 | 22.505 | |
| getAnnot | 19.446 | 0.621 | 22.705 | |
| meanDiff | 0.601 | 0.036 | 0.637 | |
| plotDMRs | 1.162 | 0.060 | 1.221 | |
| plotEmpiricalDistribution | 7.763 | 0.092 | 7.855 | |
| simDMRs | 2.827 | 0.036 | 2.864 | |