| Back to Multiple platform build/check report for BioC 3.9 |
|
This page was generated on 2019-10-16 12:05:26 -0400 (Wed, 16 Oct 2019).
| Package 419/1741 | Hostname | OS / Arch | INSTALL | BUILD | CHECK | BUILD BIN | ||||||
| derfinder 1.18.9 Leonardo Collado-Torres
| malbec2 | Linux (Ubuntu 18.04.2 LTS) / x86_64 | OK | OK | [ OK ] | |||||||
| tokay2 | Windows Server 2012 R2 Standard / x64 | OK | OK | OK | OK | |||||||
| celaya2 | OS X 10.11.6 El Capitan / x86_64 | OK | OK | OK | OK |
| Package: derfinder |
| Version: 1.18.9 |
| Command: /home/biocbuild/bbs-3.9-bioc/R/bin/R CMD check --install=check:derfinder.install-out.txt --library=/home/biocbuild/bbs-3.9-bioc/R/library --no-vignettes --timings derfinder_1.18.9.tar.gz |
| StartedAt: 2019-10-16 01:06:12 -0400 (Wed, 16 Oct 2019) |
| EndedAt: 2019-10-16 01:16:19 -0400 (Wed, 16 Oct 2019) |
| EllapsedTime: 607.3 seconds |
| RetCode: 0 |
| Status: OK |
| CheckDir: derfinder.Rcheck |
| Warnings: 0 |
##############################################################################
##############################################################################
###
### Running command:
###
### /home/biocbuild/bbs-3.9-bioc/R/bin/R CMD check --install=check:derfinder.install-out.txt --library=/home/biocbuild/bbs-3.9-bioc/R/library --no-vignettes --timings derfinder_1.18.9.tar.gz
###
##############################################################################
##############################################################################
* using log directory ‘/home/biocbuild/bbs-3.9-bioc/meat/derfinder.Rcheck’
* using R version 3.6.1 (2019-07-05)
* using platform: x86_64-pc-linux-gnu (64-bit)
* using session charset: UTF-8
* using option ‘--no-vignettes’
* checking for file ‘derfinder/DESCRIPTION’ ... OK
* checking extension type ... Package
* this is package ‘derfinder’ version ‘1.18.9’
* package encoding: UTF-8
* checking package namespace information ... OK
* checking package dependencies ... OK
* checking if this is a source package ... OK
* checking if there is a namespace ... OK
* checking for hidden files and directories ... OK
* checking for portable file names ... OK
* checking for sufficient/correct file permissions ... OK
* checking whether package ‘derfinder’ can be installed ... OK
* checking installed package size ... OK
* checking package directory ... OK
* checking ‘build’ directory ... OK
* checking DESCRIPTION meta-information ... OK
* checking top-level files ... OK
* checking for left-over files ... OK
* checking index information ... OK
* checking package subdirectories ... OK
* checking R files for non-ASCII characters ... OK
* checking R files for syntax errors ... OK
* checking whether the package can be loaded ... OK
* checking whether the package can be loaded with stated dependencies ... OK
* checking whether the package can be unloaded cleanly ... OK
* checking whether the namespace can be loaded with stated dependencies ... OK
* checking whether the namespace can be unloaded cleanly ... OK
* checking dependencies in R code ... NOTE
Unexported objects imported by ':::' calls:
‘GenomeInfoDb:::.guessSpeciesStyle’
‘GenomeInfoDb:::.supportedSeqnameMappings’
See the note in ?`:::` about the use of this operator.
There are ::: calls to the package's namespace in its code. A package
almost never needs to use ::: for its own objects:
‘.smootherFstats’
* checking S3 generic/method consistency ... OK
* checking replacement functions ... OK
* checking foreign function calls ... OK
* checking R code for possible problems ... OK
* checking Rd files ... OK
* checking Rd metadata ... OK
* checking Rd cross-references ... OK
* checking for missing documentation entries ... OK
* checking for code/documentation mismatches ... OK
* checking Rd \usage sections ... OK
* checking Rd contents ... OK
* checking for unstated dependencies in examples ... OK
* checking contents of ‘data’ directory ... OK
* checking data for non-ASCII characters ... OK
* checking data for ASCII and uncompressed saves ... OK
* checking files in ‘vignettes’ ... OK
* checking examples ... OK
Examples with CPU or elapsed time > 5s
user system elapsed
railMatrix 11.653 0.221 12.305
makeGenomicState 5.382 0.024 5.698
* checking for unstated dependencies in ‘tests’ ... OK
* checking tests ...
Running ‘test-all.R’
OK
* checking for unstated dependencies in vignettes ... OK
* checking package vignettes in ‘inst/doc’ ... OK
* checking running R code from vignettes ... SKIPPED
* checking re-building of vignette outputs ... SKIPPED
* checking PDF version of manual ... OK
* DONE
Status: 1 NOTE
See
‘/home/biocbuild/bbs-3.9-bioc/meat/derfinder.Rcheck/00check.log’
for details.
derfinder.Rcheck/00install.out
############################################################################## ############################################################################## ### ### Running command: ### ### /home/biocbuild/bbs-3.9-bioc/R/bin/R CMD INSTALL derfinder ### ############################################################################## ############################################################################## * installing to library ‘/home/biocbuild/bbs-3.9-bioc/R/library’ * installing *source* package ‘derfinder’ ... ** using staged installation ** R ** data *** moving datasets to lazyload DB ** inst ** byte-compile and prepare package for lazy loading ** help *** installing help indices ** building package indices ** installing vignettes ** testing if installed package can be loaded from temporary location ** testing if installed package can be loaded from final location ** testing if installed package keeps a record of temporary installation path * DONE (derfinder)
derfinder.Rcheck/tests/test-all.Rout
R version 3.6.1 (2019-07-05) -- "Action of the Toes"
Copyright (C) 2019 The R Foundation for Statistical Computing
Platform: x86_64-pc-linux-gnu (64-bit)
R is free software and comes with ABSOLUTELY NO WARRANTY.
You are welcome to redistribute it under certain conditions.
Type 'license()' or 'licence()' for distribution details.
R is a collaborative project with many contributors.
Type 'contributors()' for more information and
'citation()' on how to cite R or R packages in publications.
Type 'demo()' for some demos, 'help()' for on-line help, or
'help.start()' for an HTML browser interface to help.
Type 'q()' to quit R.
> ## Disable the tests if the system variable 'R_DISABLE_TESTS' is set to TRUE
>
> flag <- as.logical(Sys.getenv('R_DISABLE_TESTS'))
> if(is.na(flag) | flag == FALSE) {
+ library('testthat')
+ test_check('derfinder')
+ }
Loading required package: derfinder
class: SerialParam
bpisup: FALSE; bpnworkers: 1; bptasks: 0; bpjobname: BPJOB
bplog: FALSE; bpthreshold: INFO; bpstopOnError: TRUE
bpRNGseed: ; bptimeout: 2592000; bpprogressbar: FALSE
bpexportglobals: TRUE
bplogdir: NA
bpresultdir: NA
Error in x$.self$finalize() : attempt to apply non-function
class: SerialParam
bpisup: FALSE; bpnworkers: 1; bptasks: 0; bpjobname: BPJOB
bplog: FALSE; bpthreshold: INFO; bpstopOnError: TRUE
bpRNGseed: ; bptimeout: 2592000; bpprogressbar: FALSE
bpexportglobals: TRUE
bplogdir: NA
bpresultdir: NA
class: SerialParam
bpisup: FALSE; bpnworkers: 1; bptasks: 0; bpjobname: BPJOB
bplog: FALSE; bpthreshold: INFO; bpstopOnError: TRUE
bpRNGseed: ; bptimeout: 2592000; bpprogressbar: FALSE
bpexportglobals: TRUE
bplogdir: NA
bpresultdir: NA
class: SerialParam
bpisup: FALSE; bpnworkers: 1; bptasks: 0; bpjobname: BPJOB
bplog: FALSE; bpthreshold: INFO; bpstopOnError: TRUE
bpRNGseed: ; bptimeout: 2592000; bpprogressbar: FALSE
bpexportglobals: TRUE
bplogdir: NA
bpresultdir: NA
class: SerialParam
bpisup: FALSE; bpnworkers: 1; bptasks: 0; bpjobname: BPJOB
bplog: FALSE; bpthreshold: INFO; bpstopOnError: TRUE
bpRNGseed: ; bptimeout: 2592000; bpprogressbar: FALSE
bpexportglobals: TRUE
bplogdir: NA
bpresultdir: NA
class: SerialParam
bpisup: FALSE; bpnworkers: 1; bptasks: 0; bpjobname: BPJOB
bplog: FALSE; bpthreshold: INFO; bpstopOnError: TRUE
bpRNGseed: ; bptimeout: 2592000; bpprogressbar: FALSE
bpexportglobals: TRUE
bplogdir: NA
bpresultdir: NA
class: SerialParam
bpisup: FALSE; bpnworkers: 1; bptasks: 0; bpjobname: BPJOB
bplog: FALSE; bpthreshold: INFO; bpstopOnError: TRUE
bpRNGseed: ; bptimeout: 2592000; bpprogressbar: FALSE
bpexportglobals: TRUE
bplogdir: NA
bpresultdir: NA
class: SerialParam
bpisup: FALSE; bpnworkers: 1; bptasks: 0; bpjobname: BPJOB
bplog: FALSE; bpthreshold: INFO; bpstopOnError: TRUE
bpRNGseed: ; bptimeout: 2592000; bpprogressbar: FALSE
bpexportglobals: TRUE
bplogdir: NA
bpresultdir: NA
══ testthat results ═══════════════════════════════════════════════════════════
[ OK: 136 | SKIPPED: 0 | WARNINGS: 0 | FAILED: 0 ]
Warning message:
call dbDisconnect() when finished working with a connection
>
> proc.time()
user system elapsed
286.915 4.812 292.434
derfinder.Rcheck/derfinder-Ex.timings
| name | user | system | elapsed | |
| analyzeChr | 1.592 | 0.024 | 1.617 | |
| annotateRegions | 0.277 | 0.004 | 0.281 | |
| calculatePvalues | 0.906 | 0.020 | 0.931 | |
| calculateStats | 0.664 | 0.039 | 0.707 | |
| coerceGR | 0.063 | 0.000 | 0.062 | |
| collapseFullCoverage | 0.007 | 0.000 | 0.007 | |
| coverageToExon | 4.012 | 0.272 | 4.285 | |
| createBw | 0.121 | 0.000 | 0.121 | |
| createBwSample | 0.037 | 0.000 | 0.037 | |
| define_cluster | 0.002 | 0.004 | 0.004 | |
| derfinder-deprecated | 0.002 | 0.000 | 0.002 | |
| extendedMapSeqlevels | 0.065 | 0.004 | 0.068 | |
| filterData | 0.134 | 0.000 | 0.134 | |
| findRegions | 0.583 | 0.000 | 0.583 | |
| fullCoverage | 0.196 | 0.004 | 0.223 | |
| getRegionCoverage | 0.200 | 0.004 | 0.204 | |
| getTotalMapped | 0.009 | 0.000 | 0.009 | |
| loadCoverage | 0.115 | 0.000 | 0.115 | |
| makeGenomicState | 5.382 | 0.024 | 5.698 | |
| makeModels | 0.028 | 0.000 | 0.028 | |
| mergeResults | 0.399 | 0.007 | 0.435 | |
| preprocessCoverage | 0.471 | 0.004 | 0.475 | |
| railMatrix | 11.653 | 0.221 | 12.305 | |
| rawFiles | 0.003 | 0.000 | 0.003 | |
| regionMatrix | 0.756 | 0.000 | 0.755 | |
| sampleDepth | 0.013 | 0.000 | 0.013 | |