| Back to Multiple platform build/check report for BioC 3.9 |
|
This page was generated on 2019-10-16 12:42:00 -0400 (Wed, 16 Oct 2019).
| Package 334/1741 | Hostname | OS / Arch | INSTALL | BUILD | CHECK | BUILD BIN | ||||||
| consensus 1.2.2 Tim Peters
| malbec2 | Linux (Ubuntu 18.04.2 LTS) / x86_64 | OK | OK | OK | |||||||
| tokay2 | Windows Server 2012 R2 Standard / x64 | [ OK ] | OK | OK | OK | |||||||
| celaya2 | OS X 10.11.6 El Capitan / x86_64 | OK | OK | OK | OK |
| Package: consensus |
| Version: 1.2.2 |
| Command: C:\cygwin\bin\curl.exe -O https://malbec2.bioconductor.org/BBS/3.9/bioc/src/contrib/consensus_1.2.2.tar.gz && rm -rf consensus.buildbin-libdir && mkdir consensus.buildbin-libdir && C:\Users\biocbuild\bbs-3.9-bioc\R\bin\R.exe CMD INSTALL --merge-multiarch --build --library=consensus.buildbin-libdir consensus_1.2.2.tar.gz && C:\Users\biocbuild\bbs-3.9-bioc\R\bin\R.exe CMD INSTALL consensus_1.2.2.zip && rm consensus_1.2.2.tar.gz consensus_1.2.2.zip |
| StartedAt: 2019-10-15 19:18:11 -0400 (Tue, 15 Oct 2019) |
| EndedAt: 2019-10-15 19:18:42 -0400 (Tue, 15 Oct 2019) |
| EllapsedTime: 31.2 seconds |
| RetCode: 0 |
| Status: OK |
##############################################################################
##############################################################################
###
### Running command:
###
### C:\cygwin\bin\curl.exe -O https://malbec2.bioconductor.org/BBS/3.9/bioc/src/contrib/consensus_1.2.2.tar.gz && rm -rf consensus.buildbin-libdir && mkdir consensus.buildbin-libdir && C:\Users\biocbuild\bbs-3.9-bioc\R\bin\R.exe CMD INSTALL --merge-multiarch --build --library=consensus.buildbin-libdir consensus_1.2.2.tar.gz && C:\Users\biocbuild\bbs-3.9-bioc\R\bin\R.exe CMD INSTALL consensus_1.2.2.zip && rm consensus_1.2.2.tar.gz consensus_1.2.2.zip
###
##############################################################################
##############################################################################
% Total % Received % Xferd Average Speed Time Time Time Current
Dload Upload Total Spent Left Speed
0 0 0 0 0 0 0 0 --:--:-- --:--:-- --:--:-- 0
100 742k 100 742k 0 0 4063k 0 --:--:-- --:--:-- --:--:-- 4220k
install for i386
* installing *source* package 'consensus' ...
** using staged installation
** R
** data
** inst
** byte-compile and prepare package for lazy loading
** help
*** installing help indices
converting help for package 'consensus'
finding HTML links ... done
Agilent html
ConsensusFit-class html
Huex html
MultiMeasure-class html
MultiMeasure html
RNASeq html
U133A html
consensus-internal html
consensus-package html
fitConsensus html
plotMarginals html
plotMostDiscordant html
plotOneFit html
** building package indices
** installing vignettes
** testing if installed package can be loaded from temporary location
** testing if installed package can be loaded from final location
** testing if installed package keeps a record of temporary installation path
install for x64
* installing *source* package 'consensus' ...
** testing if installed package can be loaded
* MD5 sums
packaged installation of 'consensus' as consensus_1.2.2.zip
* DONE (consensus)
* installing to library 'C:/Users/biocbuild/bbs-3.9-bioc/R/library'
package 'consensus' successfully unpacked and MD5 sums checked