| Back to Multiple platform build/check report for BioC 3.9 |
|
This page was generated on 2019-10-16 12:41:27 -0400 (Wed, 16 Oct 2019).
| Package 1695/1741 | Hostname | OS / Arch | INSTALL | BUILD | CHECK | BUILD BIN | ||||||
| TxRegInfra 1.4.0 VJ Carey
| malbec2 | Linux (Ubuntu 18.04.2 LTS) / x86_64 | OK | OK | OK | |||||||
| tokay2 | Windows Server 2012 R2 Standard / x64 | OK | OK | OK | [ OK ] | |||||||
| celaya2 | OS X 10.11.6 El Capitan / x86_64 | OK | OK | OK | OK |
| Package: TxRegInfra |
| Version: 1.4.0 |
| Command: rm -rf TxRegInfra.buildbin-libdir && mkdir TxRegInfra.buildbin-libdir && C:\Users\biocbuild\bbs-3.9-bioc\R\bin\R.exe CMD INSTALL --merge-multiarch --build --library=TxRegInfra.buildbin-libdir TxRegInfra_1.4.0.tar.gz |
| StartedAt: 2019-10-16 10:24:52 -0400 (Wed, 16 Oct 2019) |
| EndedAt: 2019-10-16 10:25:49 -0400 (Wed, 16 Oct 2019) |
| EllapsedTime: 57.3 seconds |
| RetCode: 0 |
| Status: OK |
| PackageFile: TxRegInfra_1.4.0.zip |
| PackageFileSize: 680.5 KiB |
##############################################################################
##############################################################################
###
### Running command:
###
### rm -rf TxRegInfra.buildbin-libdir && mkdir TxRegInfra.buildbin-libdir && C:\Users\biocbuild\bbs-3.9-bioc\R\bin\R.exe CMD INSTALL --merge-multiarch --build --library=TxRegInfra.buildbin-libdir TxRegInfra_1.4.0.tar.gz
###
##############################################################################
##############################################################################
install for i386
* installing *source* package 'TxRegInfra' ...
** using staged installation
** R
** data
*** moving datasets to lazyload DB
** inst
** byte-compile and prepare package for lazy loading
** help
*** installing help indices
converting help for package 'TxRegInfra'
finding HTML links ... done
RaggedMongoExpt html
URL_txregInAWS html
URL_txregLocal html
basicColData html
basicFormatter html
dgf_meta html
dnmeta html
dnmetaApp html
getDocumentFields html
getFieldNames html
grConverter html
importBedToMongo html
listAllCollections html
makeAggregator html
makeColData html
makeGRConverterList html
oldbasicColData html
ragged41FP html
sbov html
txmodels html
txregCollections html
verifyHasMongoCmd html
verifyRunningMongodb html
** building package indices
** installing vignettes
** testing if installed package can be loaded from temporary location
** testing if installed package can be loaded from final location
** testing if installed package keeps a record of temporary installation path
install for x64
* installing *source* package 'TxRegInfra' ...
** testing if installed package can be loaded
* MD5 sums
packaged installation of 'TxRegInfra' as TxRegInfra_1.4.0.zip
* DONE (TxRegInfra)