| Back to Multiple platform build/check report for BioC 3.9 |
|
This page was generated on 2019-10-16 12:44:22 -0400 (Wed, 16 Oct 2019).
| Package 1605/1741 | Hostname | OS / Arch | INSTALL | BUILD | CHECK | BUILD BIN | ||||||
| SubCellBarCode 1.0.0 Taner Arslan
| malbec2 | Linux (Ubuntu 18.04.2 LTS) / x86_64 | OK | OK | OK | |||||||
| tokay2 | Windows Server 2012 R2 Standard / x64 | OK | OK | OK | [ OK ] | |||||||
| celaya2 | OS X 10.11.6 El Capitan / x86_64 | OK | OK | OK | OK |
| Package: SubCellBarCode |
| Version: 1.0.0 |
| Command: rm -rf SubCellBarCode.buildbin-libdir && mkdir SubCellBarCode.buildbin-libdir && C:\Users\biocbuild\bbs-3.9-bioc\R\bin\R.exe CMD INSTALL --merge-multiarch --build --library=SubCellBarCode.buildbin-libdir SubCellBarCode_1.0.0.tar.gz |
| StartedAt: 2019-10-16 10:19:02 -0400 (Wed, 16 Oct 2019) |
| EndedAt: 2019-10-16 10:19:55 -0400 (Wed, 16 Oct 2019) |
| EllapsedTime: 53.8 seconds |
| RetCode: 0 |
| Status: OK |
| PackageFile: SubCellBarCode_1.0.0.zip |
| PackageFileSize: 1.682 MiB |
##############################################################################
##############################################################################
###
### Running command:
###
### rm -rf SubCellBarCode.buildbin-libdir && mkdir SubCellBarCode.buildbin-libdir && C:\Users\biocbuild\bbs-3.9-bioc\R\bin\R.exe CMD INSTALL --merge-multiarch --build --library=SubCellBarCode.buildbin-libdir SubCellBarCode_1.0.0.tar.gz
###
##############################################################################
##############################################################################
install for i386
* installing *source* package 'SubCellBarCode' ...
** using staged installation
** R
** data
*** moving datasets to lazyload DB
** inst
** byte-compile and prepare package for lazy loading
** help
*** installing help indices
converting help for package 'SubCellBarCode'
finding HTML links ... done
applyThresholdCompartment html
applyThresholdNeighborhood html
calRowMean html
calculateCoveredProtein html
candidateRelocatedProteins html
computeThresholdCompartment html
computeThresholdNeighborhood html
hcc827Ctrl html
hcc827CtrlPSMCount html
hcc827GEF html
hcc827GEFClass html
hcc827GefPSMCount html
loadData html
markerProteins html
markerQualityControl html
mergeCls html
mergeProbability html
plotBarcode html
plotMultipleProtein html
replacePrediction html
sankeyPlot html
sumProbability html
svmClassification html
tsneVisualization html
** building package indices
** installing vignettes
** testing if installed package can be loaded from temporary location
** testing if installed package can be loaded from final location
** testing if installed package keeps a record of temporary installation path
install for x64
* installing *source* package 'SubCellBarCode' ...
** testing if installed package can be loaded
* MD5 sums
packaged installation of 'SubCellBarCode' as SubCellBarCode_1.0.0.zip
* DONE (SubCellBarCode)