| Back to Multiple platform build/check report for BioC 3.9 |
|
This page was generated on 2019-10-16 12:23:07 -0400 (Wed, 16 Oct 2019).
| Package 1562/1741 | Hostname | OS / Arch | INSTALL | BUILD | CHECK | BUILD BIN | ||||||
| SpeCond 1.38.0 Florence Cavalli
| malbec2 | Linux (Ubuntu 18.04.2 LTS) / x86_64 | OK | OK | OK | |||||||
| tokay2 | Windows Server 2012 R2 Standard / x64 | [ OK ] | OK | OK | OK | |||||||
| celaya2 | OS X 10.11.6 El Capitan / x86_64 | OK | OK | OK | OK |
| Package: SpeCond |
| Version: 1.38.0 |
| Command: C:\cygwin\bin\curl.exe -O https://malbec2.bioconductor.org/BBS/3.9/bioc/src/contrib/SpeCond_1.38.0.tar.gz && rm -rf SpeCond.buildbin-libdir && mkdir SpeCond.buildbin-libdir && C:\Users\biocbuild\bbs-3.9-bioc\R\bin\R.exe CMD INSTALL --merge-multiarch --build --library=SpeCond.buildbin-libdir SpeCond_1.38.0.tar.gz && C:\Users\biocbuild\bbs-3.9-bioc\R\bin\R.exe CMD INSTALL SpeCond_1.38.0.zip && rm SpeCond_1.38.0.tar.gz SpeCond_1.38.0.zip |
| StartedAt: 2019-10-15 18:49:01 -0400 (Tue, 15 Oct 2019) |
| EndedAt: 2019-10-15 18:49:55 -0400 (Tue, 15 Oct 2019) |
| EllapsedTime: 54.8 seconds |
| RetCode: 0 |
| Status: OK |
##############################################################################
##############################################################################
###
### Running command:
###
### C:\cygwin\bin\curl.exe -O https://malbec2.bioconductor.org/BBS/3.9/bioc/src/contrib/SpeCond_1.38.0.tar.gz && rm -rf SpeCond.buildbin-libdir && mkdir SpeCond.buildbin-libdir && C:\Users\biocbuild\bbs-3.9-bioc\R\bin\R.exe CMD INSTALL --merge-multiarch --build --library=SpeCond.buildbin-libdir SpeCond_1.38.0.tar.gz && C:\Users\biocbuild\bbs-3.9-bioc\R\bin\R.exe CMD INSTALL SpeCond_1.38.0.zip && rm SpeCond_1.38.0.tar.gz SpeCond_1.38.0.zip
###
##############################################################################
##############################################################################
% Total % Received % Xferd Average Speed Time Time Time Current
Dload Upload Total Spent Left Speed
0 0 0 0 0 0 0 0 --:--:-- --:--:-- --:--:-- 0
23 1098k 23 256k 0 0 2938k 0 --:--:-- --:--:-- --:--:-- 3160k
100 1098k 100 1098k 0 0 11.2M 0 --:--:-- --:--:-- --:--:-- 12.0M
install for i386
* installing *source* package 'SpeCond' ...
** using staged installation
** R
** data
** byte-compile and prepare package for lazy loading
** help
*** installing help indices
converting help for package 'SpeCond'
finding HTML links ... done
SpeCond html
createParameterMatrix html
expSetSpeCondExample html
expressionSpeCondExample html
fitNoPriorWithExclusion html
fitPrior html
getDefaultParameter html
getFullHtmlSpeCondResult html
getGeneHtmlPage html
getMatrixFromExpressionSet html
getProfile html
getSpecificOutliersStep1 html
getSpecificResult html
simulatedSpeCondData html
writeGeneResult html
writeSpeCondResult html
writeUniqueProfileSpecificResult html
** building package indices
** installing vignettes
** testing if installed package can be loaded from temporary location
** testing if installed package can be loaded from final location
** testing if installed package keeps a record of temporary installation path
install for x64
* installing *source* package 'SpeCond' ...
** testing if installed package can be loaded
* MD5 sums
packaged installation of 'SpeCond' as SpeCond_1.38.0.zip
* DONE (SpeCond)
* installing to library 'C:/Users/biocbuild/bbs-3.9-bioc/R/library'
package 'SpeCond' successfully unpacked and MD5 sums checked