| Back to Multiple platform build/check report for BioC 3.9 | 
  | 
This page was generated on 2019-04-09 13:31:05 -0400 (Tue, 09 Apr 2019).
| Package 1454/1703 | Hostname | OS / Arch | INSTALL | BUILD | CHECK | BUILD BIN | ||||||
| SELEX 1.15.0 Harmen Bussemaker 
  | malbec2 | Linux (Ubuntu 18.04.2 LTS) / x86_64 | OK | OK | OK | |||||||
| tokay2 | Windows Server 2012 R2 Standard / x64 | OK | OK | OK | OK | |||||||
| celaya2 | OS X 10.11.6 El Capitan / x86_64 | OK | OK | OK | OK | |||||||
| merida2 | OS X 10.11.6 El Capitan / x86_64 | OK | OK | OK | [ OK ] | 
| Package: SELEX | 
| Version: 1.15.0 | 
| Command: rm -rf SELEX.buildbin-libdir && mkdir SELEX.buildbin-libdir && /Users/biocbuild/BBS/utils/build-universal.sh SELEX_1.15.0.tar.gz /Library/Frameworks/R.framework/Versions/Current/Resources/bin/R SELEX.buildbin-libdir | 
| StartedAt: 2019-04-09 06:27:45 -0400 (Tue, 09 Apr 2019) | 
| EndedAt: 2019-04-09 06:28:53 -0400 (Tue, 09 Apr 2019) | 
| EllapsedTime: 68.6 seconds | 
| RetCode: 0 | 
| Status: OK | 
| PackageFile: SELEX_1.15.0.tgz | 
| PackageFileSize: 1.683 MiB | 
############################################################################## ############################################################################## ### ### Running command: ### ### rm -rf SELEX.buildbin-libdir && mkdir SELEX.buildbin-libdir && /Users/biocbuild/BBS/utils/build-universal.sh SELEX_1.15.0.tar.gz /Library/Frameworks/R.framework/Versions/Current/Resources/bin/R SELEX.buildbin-libdir ### ############################################################################## ############################################################################## >>>>>>> >>>>>>> INSTALLATION WITH 'R CMD INSTALL --preclean --no-multiarch --library=SELEX.buildbin-libdir SELEX_1.15.0.tar.gz' >>>>>>> * installing *source* package ‘SELEX’ ... ** R ** inst ** byte-compile and prepare package for lazy loading ** help *** installing help indices ** building package indices ** installing vignettes ** testing if installed package can be loaded * DONE (SELEX)