| Back to Multiple platform build/check report for BioC 3.9 |
|
This page was generated on 2019-10-16 12:50:01 -0400 (Wed, 16 Oct 2019).
| Package 1328/1741 | Hostname | OS / Arch | INSTALL | BUILD | CHECK | BUILD BIN | ||||||
| RchyOptimyx 2.24.0 Adrin Jalali
| malbec2 | Linux (Ubuntu 18.04.2 LTS) / x86_64 | OK | OK | OK | |||||||
| tokay2 | Windows Server 2012 R2 Standard / x64 | OK | OK | OK | OK | |||||||
| celaya2 | OS X 10.11.6 El Capitan / x86_64 | [ OK ] | OK | WARNINGS | OK |
| Package: RchyOptimyx |
| Version: 2.24.0 |
| Command: /Library/Frameworks/R.framework/Versions/Current/Resources/bin/R CMD INSTALL RchyOptimyx |
| StartedAt: 2019-10-15 18:54:05 -0400 (Tue, 15 Oct 2019) |
| EndedAt: 2019-10-15 18:54:36 -0400 (Tue, 15 Oct 2019) |
| EllapsedTime: 31.2 seconds |
| RetCode: 0 |
| Status: OK |
##############################################################################
##############################################################################
###
### Running command:
###
### /Library/Frameworks/R.framework/Versions/Current/Resources/bin/R CMD INSTALL RchyOptimyx
###
##############################################################################
##############################################################################
* installing to library ‘/Library/Frameworks/R.framework/Versions/3.6/Resources/library’
* installing *source* package ‘RchyOptimyx’ ...
** using staged installation
** libs
clang++ -std=gnu++11 -I"/Library/Frameworks/R.framework/Resources/include" -DNDEBUG -isysroot /Library/Developer/CommandLineTools/SDKs/MacOSX.sdk -I/usr/local/include -fPIC -Wall -g -O2 -c RchyOptimyx.cpp -o RchyOptimyx.o
In file included from RchyOptimyx.cpp:13:
./graehl/graph.h:75:8: warning: explicitly assigning value of variable of type 'int' to itself [-Wself-assign]
pred = pred; // dummy statement to avoid warnings
~~~~ ^ ~~~~
In file included from RchyOptimyx.cpp:13:
In file included from ./graehl/graph.h:279:
./graehl/kbest.h:37:9: warning: explicitly assigning value of variable of type 'size_t' (aka 'unsigned long') to itself [-Wself-assign]
dummy = dummy;
~~~~~ ^ ~~~~~
2 warnings generated.
clang++ -std=gnu++11 -I"/Library/Frameworks/R.framework/Resources/include" -DNDEBUG -isysroot /Library/Developer/CommandLineTools/SDKs/MacOSX.sdk -I/usr/local/include -fPIC -Wall -g -O2 -c dataRead.cpp -o dataRead.o
clang++ -std=gnu++11 -I"/Library/Frameworks/R.framework/Resources/include" -DNDEBUG -isysroot /Library/Developer/CommandLineTools/SDKs/MacOSX.sdk -I/usr/local/include -fPIC -Wall -g -O2 -c mystring.cpp -o mystring.o
clang++ -std=gnu++11 -I"/Library/Frameworks/R.framework/Resources/include" -DNDEBUG -isysroot /Library/Developer/CommandLineTools/SDKs/MacOSX.sdk -I/usr/local/include -fPIC -Wall -g -O2 -c numberGenerator.cpp -o numberGenerator.o
clang++ -std=gnu++11 -dynamiclib -Wl,-headerpad_max_install_names -undefined dynamic_lookup -single_module -multiply_defined suppress -L/Library/Frameworks/R.framework/Resources/lib -L/usr/local/lib -o RchyOptimyx.so RchyOptimyx.o dataRead.o mystring.o numberGenerator.o -F/Library/Frameworks/R.framework/.. -framework R -Wl,-framework -Wl,CoreFoundation
installing to /Library/Frameworks/R.framework/Versions/3.6/Resources/library/00LOCK-RchyOptimyx/00new/RchyOptimyx/libs
** R
** data
** inst
** byte-compile and prepare package for lazy loading
Warning in rgl.init(initValue, onlyNULL) :
RGL: GLX extension missing on server
Warning: 'rgl_init' failed, running with rgl.useNULL = TRUE
Creating a new generic function for ‘merge’ in package ‘RchyOptimyx’
** help
*** installing help indices
** building package indices
** installing vignettes
** testing if installed package can be loaded from temporary location
Warning in rgl.init(initValue, onlyNULL) :
RGL: GLX extension missing on server
Warning: 'rgl_init' failed, running with rgl.useNULL = TRUE
** checking absolute paths in shared objects and dynamic libraries
** testing if installed package can be loaded from final location
Warning in rgl.init(initValue, onlyNULL) :
RGL: GLX extension missing on server
Warning: 'rgl_init' failed, running with rgl.useNULL = TRUE
** testing if installed package keeps a record of temporary installation path
* DONE (RchyOptimyx)