| Back to Multiple platform build/check report for BioC 3.9 |
|
This page was generated on 2019-10-16 12:37:43 -0400 (Wed, 16 Oct 2019).
| Package 1432/1741 | Hostname | OS / Arch | INSTALL | BUILD | CHECK | BUILD BIN | ||||||
| RTNduals 1.8.3 Mauro Castro
| malbec2 | Linux (Ubuntu 18.04.2 LTS) / x86_64 | OK | OK | OK | |||||||
| tokay2 | Windows Server 2012 R2 Standard / x64 | [ OK ] | OK | OK | OK | |||||||
| celaya2 | OS X 10.11.6 El Capitan / x86_64 | OK | OK | OK | OK |
| Package: RTNduals |
| Version: 1.8.3 |
| Command: C:\cygwin\bin\curl.exe -O https://malbec2.bioconductor.org/BBS/3.9/bioc/src/contrib/RTNduals_1.8.3.tar.gz && rm -rf RTNduals.buildbin-libdir && mkdir RTNduals.buildbin-libdir && C:\Users\biocbuild\bbs-3.9-bioc\R\bin\R.exe CMD INSTALL --merge-multiarch --build --library=RTNduals.buildbin-libdir RTNduals_1.8.3.tar.gz && C:\Users\biocbuild\bbs-3.9-bioc\R\bin\R.exe CMD INSTALL RTNduals_1.8.3.zip && rm RTNduals_1.8.3.tar.gz RTNduals_1.8.3.zip |
| StartedAt: 2019-10-15 20:11:10 -0400 (Tue, 15 Oct 2019) |
| EndedAt: 2019-10-15 20:12:07 -0400 (Tue, 15 Oct 2019) |
| EllapsedTime: 57.3 seconds |
| RetCode: 0 |
| Status: OK |
##############################################################################
##############################################################################
###
### Running command:
###
### C:\cygwin\bin\curl.exe -O https://malbec2.bioconductor.org/BBS/3.9/bioc/src/contrib/RTNduals_1.8.3.tar.gz && rm -rf RTNduals.buildbin-libdir && mkdir RTNduals.buildbin-libdir && C:\Users\biocbuild\bbs-3.9-bioc\R\bin\R.exe CMD INSTALL --merge-multiarch --build --library=RTNduals.buildbin-libdir RTNduals_1.8.3.tar.gz && C:\Users\biocbuild\bbs-3.9-bioc\R\bin\R.exe CMD INSTALL RTNduals_1.8.3.zip && rm RTNduals_1.8.3.tar.gz RTNduals_1.8.3.zip
###
##############################################################################
##############################################################################
% Total % Received % Xferd Average Speed Time Time Time Current
Dload Upload Total Spent Left Speed
0 0 0 0 0 0 0 0 --:--:-- --:--:-- --:--:-- 0
100 192k 100 192k 0 0 3031k 0 --:--:-- --:--:-- --:--:-- 3440k
install for i386
* installing *source* package 'RTNduals' ...
** using staged installation
** R
** inst
** byte-compile and prepare package for lazy loading
** help
*** installing help indices
converting help for package 'RTNduals'
finding HTML links ... done
MBR-class html
RTNduals-package html
mbrAssociation-methods html
mbrGet-methods html
mbrPlotDuals html
mbrPlotInteraction html
mbrPriorEvidenceTable-methods html
tni2mbrPreprocess-methods html
** building package indices
** installing vignettes
** testing if installed package can be loaded from temporary location
** testing if installed package can be loaded from final location
** testing if installed package keeps a record of temporary installation path
install for x64
* installing *source* package 'RTNduals' ...
** testing if installed package can be loaded
* MD5 sums
packaged installation of 'RTNduals' as RTNduals_1.8.3.zip
* DONE (RTNduals)
* installing to library 'C:/Users/biocbuild/bbs-3.9-bioc/R/library'
package 'RTNduals' successfully unpacked and MD5 sums checked