| Back to Multiple platform build/check report for BioC 3.9 |
|
This page was generated on 2019-10-16 12:37:32 -0400 (Wed, 16 Oct 2019).
| Package 1385/1741 | Hostname | OS / Arch | INSTALL | BUILD | CHECK | BUILD BIN | ||||||
| RJMCMCNucleosomes 1.8.0 Astrid DeschĂȘnes
| malbec2 | Linux (Ubuntu 18.04.2 LTS) / x86_64 | OK | OK | OK | |||||||
| tokay2 | Windows Server 2012 R2 Standard / x64 | OK | OK | OK | [ OK ] | |||||||
| celaya2 | OS X 10.11.6 El Capitan / x86_64 | OK | OK | OK | OK |
| Package: RJMCMCNucleosomes |
| Version: 1.8.0 |
| Command: rm -rf RJMCMCNucleosomes.buildbin-libdir && mkdir RJMCMCNucleosomes.buildbin-libdir && C:\Users\biocbuild\bbs-3.9-bioc\R\bin\R.exe CMD INSTALL --merge-multiarch --build --library=RJMCMCNucleosomes.buildbin-libdir RJMCMCNucleosomes_1.8.0.tar.gz |
| StartedAt: 2019-10-16 10:05:10 -0400 (Wed, 16 Oct 2019) |
| EndedAt: 2019-10-16 10:07:04 -0400 (Wed, 16 Oct 2019) |
| EllapsedTime: 114.1 seconds |
| RetCode: 0 |
| Status: OK |
| PackageFile: RJMCMCNucleosomes_1.8.0.zip |
| PackageFileSize: 1.287 MiB |
##############################################################################
##############################################################################
###
### Running command:
###
### rm -rf RJMCMCNucleosomes.buildbin-libdir && mkdir RJMCMCNucleosomes.buildbin-libdir && C:\Users\biocbuild\bbs-3.9-bioc\R\bin\R.exe CMD INSTALL --merge-multiarch --build --library=RJMCMCNucleosomes.buildbin-libdir RJMCMCNucleosomes_1.8.0.tar.gz
###
##############################################################################
##############################################################################
install for i386
* installing *source* package 'RJMCMCNucleosomes' ...
** using staged installation
** libs
C:/Rtools/mingw_32/bin/g++ -I"C:/Users/BIOCBU~1/BBS-3~1.9-B/R/include" -DNDEBUG -I/i386/include -I"C:/Users/biocbuild/bbs-3.9-bioc/R/library/Rcpp/include" -I"C:/extsoft/include" -O2 -Wall -mtune=generic -c NucleoDirichlet.cpp -o NucleoDirichlet.o
C:/Rtools/mingw_32/bin/g++ -I"C:/Users/BIOCBU~1/BBS-3~1.9-B/R/include" -DNDEBUG -I/i386/include -I"C:/Users/biocbuild/bbs-3.9-bioc/R/library/Rcpp/include" -I"C:/extsoft/include" -O2 -Wall -mtune=generic -c NucleoDirichletPA.cpp -o NucleoDirichletPA.o
C:/Rtools/mingw_32/bin/g++ -I"C:/Users/BIOCBU~1/BBS-3~1.9-B/R/include" -DNDEBUG -I/i386/include -I"C:/Users/biocbuild/bbs-3.9-bioc/R/library/Rcpp/include" -I"C:/extsoft/include" -O2 -Wall -mtune=generic -c Nucleosome.cpp -o Nucleosome.o
C:/Rtools/mingw_32/bin/gcc -I"C:/Users/BIOCBU~1/BBS-3~1.9-B/R/include" -DNDEBUG -I/i386/include -I"C:/Users/biocbuild/bbs-3.9-bioc/R/library/Rcpp/include" -I"C:/extsoft/include" -O3 -Wall -std=gnu99 -mtune=generic -c RJMCMCNucleosomes_init.c -o RJMCMCNucleosomes_init.o
C:/Rtools/mingw_32/bin/g++ -I"C:/Users/BIOCBU~1/BBS-3~1.9-B/R/include" -DNDEBUG -I/i386/include -I"C:/Users/biocbuild/bbs-3.9-bioc/R/library/Rcpp/include" -I"C:/extsoft/include" -O2 -Wall -mtune=generic -c RcppExports.cpp -o RcppExports.o
C:/Rtools/mingw_32/bin/g++ -I"C:/Users/BIOCBU~1/BBS-3~1.9-B/R/include" -DNDEBUG -I/i386/include -I"C:/Users/biocbuild/bbs-3.9-bioc/R/library/Rcpp/include" -I"C:/extsoft/include" -O2 -Wall -mtune=generic -c SegmentSeq.cpp -o SegmentSeq.o
C:/Rtools/mingw_32/bin/g++ -I"C:/Users/BIOCBU~1/BBS-3~1.9-B/R/include" -DNDEBUG -I/i386/include -I"C:/Users/biocbuild/bbs-3.9-bioc/R/library/Rcpp/include" -I"C:/extsoft/include" -O2 -Wall -mtune=generic -c rjmcmcNucleo.cpp -o rjmcmcNucleo.o
C:/Rtools/mingw_32/bin/g++ -shared -s -static-libgcc -o RJMCMCNucleosomes.dll tmp.def NucleoDirichlet.o NucleoDirichletPA.o Nucleosome.o RJMCMCNucleosomes_init.o RcppExports.o SegmentSeq.o rjmcmcNucleo.o -L/i386/lib -lgsl -LC:/extsoft/lib/i386 -LC:/extsoft/lib -LC:/Users/BIOCBU~1/BBS-3~1.9-B/R/bin/i386 -lR
installing to C:/Users/biocbuild/bbs-3.9-bioc/meat/RJMCMCNucleosomes.buildbin-libdir/00LOCK-RJMCMCNucleosomes/00new/RJMCMCNucleosomes/libs/i386
** R
** data
** inst
** byte-compile and prepare package for lazy loading
** help
*** installing help indices
converting help for package 'RJMCMCNucleosomes'
finding HTML links ... done
RJMCMCNucleosomes-package html
RJMCMC_result html
mergeAllRDSFiles html
mergeAllRDSFilesFromDirectory html
mergeRDSFiles html
plotNucleosomes html
postMerge html
postTreatment html
print.rjmcmcNucleosomes html
print.rjmcmcNucleosomesBeforeAndAfterPostTreatment
html
print.rjmcmcNucleosomesMerge html
reads_demo_01 html
reads_demo_02 html
rjmcmc html
rjmcmcCHR html
rjmcmcNucleo html
runCHR html
segmentation html
syntheticNucleosomeReads html
validateDirectoryParameters html
validatePlotNucleosomesParameters html
validatePrepMergeParameters html
validateRDSFilesParameters html
validateRJMCMCParameters html
validateSegmentationParameters html
** building package indices
** installing vignettes
** testing if installed package can be loaded from temporary location
** testing if installed package can be loaded from final location
** testing if installed package keeps a record of temporary installation path
install for x64
* installing *source* package 'RJMCMCNucleosomes' ...
** libs
C:/Rtools/mingw_64/bin/g++ -I"C:/Users/BIOCBU~1/BBS-3~1.9-B/R/include" -DNDEBUG -I/x64/include -I"C:/Users/biocbuild/bbs-3.9-bioc/R/library/Rcpp/include" -I"C:/extsoft/include" -O2 -Wall -mtune=generic -c NucleoDirichlet.cpp -o NucleoDirichlet.o
C:/Rtools/mingw_64/bin/g++ -I"C:/Users/BIOCBU~1/BBS-3~1.9-B/R/include" -DNDEBUG -I/x64/include -I"C:/Users/biocbuild/bbs-3.9-bioc/R/library/Rcpp/include" -I"C:/extsoft/include" -O2 -Wall -mtune=generic -c NucleoDirichletPA.cpp -o NucleoDirichletPA.o
C:/Rtools/mingw_64/bin/g++ -I"C:/Users/BIOCBU~1/BBS-3~1.9-B/R/include" -DNDEBUG -I/x64/include -I"C:/Users/biocbuild/bbs-3.9-bioc/R/library/Rcpp/include" -I"C:/extsoft/include" -O2 -Wall -mtune=generic -c Nucleosome.cpp -o Nucleosome.o
C:/Rtools/mingw_64/bin/gcc -I"C:/Users/BIOCBU~1/BBS-3~1.9-B/R/include" -DNDEBUG -I/x64/include -I"C:/Users/biocbuild/bbs-3.9-bioc/R/library/Rcpp/include" -I"C:/extsoft/include" -O2 -Wall -std=gnu99 -mtune=generic -c RJMCMCNucleosomes_init.c -o RJMCMCNucleosomes_init.o
C:/Rtools/mingw_64/bin/g++ -I"C:/Users/BIOCBU~1/BBS-3~1.9-B/R/include" -DNDEBUG -I/x64/include -I"C:/Users/biocbuild/bbs-3.9-bioc/R/library/Rcpp/include" -I"C:/extsoft/include" -O2 -Wall -mtune=generic -c RcppExports.cpp -o RcppExports.o
C:/Rtools/mingw_64/bin/g++ -I"C:/Users/BIOCBU~1/BBS-3~1.9-B/R/include" -DNDEBUG -I/x64/include -I"C:/Users/biocbuild/bbs-3.9-bioc/R/library/Rcpp/include" -I"C:/extsoft/include" -O2 -Wall -mtune=generic -c SegmentSeq.cpp -o SegmentSeq.o
C:/Rtools/mingw_64/bin/g++ -I"C:/Users/BIOCBU~1/BBS-3~1.9-B/R/include" -DNDEBUG -I/x64/include -I"C:/Users/biocbuild/bbs-3.9-bioc/R/library/Rcpp/include" -I"C:/extsoft/include" -O2 -Wall -mtune=generic -c rjmcmcNucleo.cpp -o rjmcmcNucleo.o
C:/Rtools/mingw_64/bin/g++ -shared -s -static-libgcc -o RJMCMCNucleosomes.dll tmp.def NucleoDirichlet.o NucleoDirichletPA.o Nucleosome.o RJMCMCNucleosomes_init.o RcppExports.o SegmentSeq.o rjmcmcNucleo.o -L/x64/lib -lgsl -LC:/extsoft/lib/x64 -LC:/extsoft/lib -LC:/Users/BIOCBU~1/BBS-3~1.9-B/R/bin/x64 -lR
installing to C:/Users/biocbuild/bbs-3.9-bioc/meat/RJMCMCNucleosomes.buildbin-libdir/RJMCMCNucleosomes/libs/x64
** testing if installed package can be loaded
* MD5 sums
packaged installation of 'RJMCMCNucleosomes' as RJMCMCNucleosomes_1.8.0.zip
* DONE (RJMCMCNucleosomes)